Index of /checkResults/3.13/bioc-LATEST/moanin/raw-results/tokay2

[ICO]NameLast modifiedSizeDescription

[DIR]Parent Directory  -  
[TXT]buildbin-out.txt23-Sep-2021 04:05 2.6K 
[   ]buildbin-summary.dcf23-Sep-2021 04:05 530  
[TXT]buildsrc-out.txt23-Sep-2021 04:05 899  
[   ]buildsrc-summary.dcf23-Sep-2021 04:05 452  
[TXT]checksrc-out.txt23-Sep-2021 04:05 4.2K 
[   ]checksrc-summary.dcf23-Sep-2021 04:05 456  
[TXT]install-out.txt23-Sep-2021 04:05 3.3K 
[   ]install-summary.dcf23-Sep-2021 04:05 625