Index of /checkResults/3.13/bioc-LATEST/moanin/raw-results/nebbiolo1

[ICO]NameLast modifiedSizeDescription

[DIR]Parent Directory  -  
[TXT]buildsrc-out.txt23-Sep-2021 04:04 864  
[   ]buildsrc-summary.dcf23-Sep-2021 04:04 412  
[TXT]checksrc-out.txt23-Sep-2021 04:04 3.4K 
[   ]checksrc-summary.dcf23-Sep-2021 04:04 418  
[TXT]install-out.txt23-Sep-2021 04:04 1.1K 
[   ]install-summary.dcf23-Sep-2021 04:04 256