Index of /checkResults/3.13/bioc-LATEST/moanin/raw-results/machv2

[ICO]NameLast modifiedSizeDescription

[DIR]Parent Directory  -  
[TXT]buildbin-out.txt23-Sep-2021 04:05 1.3K 
[   ]buildbin-summary.dcf23-Sep-2021 04:05 538  
[TXT]buildsrc-out.txt23-Sep-2021 04:05 891  
[   ]buildsrc-summary.dcf23-Sep-2021 04:05 440  
[TXT]checksrc-out.txt23-Sep-2021 04:05 3.6K 
[   ]checksrc-summary.dcf23-Sep-2021 04:05 472  
[TXT]install-out.txt23-Sep-2021 04:05 1.2K 
[   ]install-summary.dcf23-Sep-2021 04:05 283