Back to Multiple platform build/check report for BioC 3.13
ABCDEFGHIJKL[M]NOPQRSTUVWXYZ

This page was generated on 2021-06-18 14:06:50 -0400 (Fri, 18 Jun 2021).

BUILD results for mirIntegrator on machv2

To the developers/maintainers of the mirIntegrator package:
- Please allow up to 24 hours (and sometimes 48 hours) for your latest push to git@git.bioconductor.org:packages/mirIntegrator.git to
reflect on this report. See How and When does the builder pull? When will my changes propagate? here for more information.
- Make sure to use the following settings in order to reproduce any error or warning you see on this page.

raw results

Package 1148/2041HostnameOS / ArchINSTALLBUILDCHECKBUILD BIN
mirIntegrator 1.22.0  (landing page)
Diana Diaz
Snapshot Date: 2021-06-17 06:50:12 -0400 (Thu, 17 Jun 2021)
URL: https://git.bioconductor.org/packages/mirIntegrator
Branch: RELEASE_3_13
Last Commit: 7ce3bbd
Last Changed Date: 2021-05-19 12:14:07 -0400 (Wed, 19 May 2021)
nebbiolo1Linux (Ubuntu 20.04.2 LTS) / x86_64  OK    OK    OK  UNNEEDED, same version is already published
tokay2Windows Server 2012 R2 Standard / x64  OK    OK    OK    OK  UNNEEDED, same version is already published
machv2macOS 10.14.6 Mojave / x86_64  OK    OK    OK    OK  UNNEEDED, same version is already published

Summary

Package: mirIntegrator
Version: 1.22.0
Command: /Library/Frameworks/R.framework/Versions/Current/Resources/bin/R CMD build --keep-empty-dirs --no-resave-data mirIntegrator
StartedAt: 2021-06-17 12:59:28 -0400 (Thu, 17 Jun 2021)
EndedAt: 2021-06-17 13:00:49 -0400 (Thu, 17 Jun 2021)
EllapsedTime: 81.3 seconds
RetCode: 0
Status:   OK  
PackageFile: mirIntegrator_1.22.0.tar.gz
PackageFileSize: 1.724 MiB

Command output

##############################################################################
##############################################################################
###
### Running command:
###
###   /Library/Frameworks/R.framework/Versions/Current/Resources/bin/R CMD build --keep-empty-dirs --no-resave-data mirIntegrator
###
##############################################################################
##############################################################################


* checking for file ‘mirIntegrator/DESCRIPTION’ ... OK
* preparing ‘mirIntegrator’:
* checking DESCRIPTION meta-information ... OK
* installing the package to build vignettes
* creating vignettes ... OK
* checking for LF line-endings in source and make files and shell scripts
* checking for empty or unneeded directories
* looking to see if a ‘data/datalist’ file should be added
* building ‘mirIntegrator_1.22.0.tar.gz’