Back to Multiple platform build/check report for BioC 3.13
ABCDEFGHIJKL[M]NOPQRSTUVWXYZ

This page was generated on 2021-09-15 15:06:07 -0400 (Wed, 15 Sep 2021).

BUILD BIN results for mirIntegrator on machv2

To the developers/maintainers of the mirIntegrator package:
- Please allow up to 24 hours (and sometimes 48 hours) for your latest push to git@git.bioconductor.org:packages/mirIntegrator.git to
reflect on this report. See How and When does the builder pull? When will my changes propagate? here for more information.
- Make sure to use the following settings in order to reproduce any error or warning you see on this page.

raw results

Package 1148/2041HostnameOS / ArchINSTALLBUILDCHECKBUILD BIN
mirIntegrator 1.22.0  (landing page)
Diana Diaz
Snapshot Date: 2021-09-14 04:50:06 -0400 (Tue, 14 Sep 2021)
git_url: https://git.bioconductor.org/packages/mirIntegrator
git_branch: RELEASE_3_13
git_last_commit: 7ce3bbd
git_last_commit_date: 2021-05-19 12:14:07 -0400 (Wed, 19 May 2021)
nebbiolo1Linux (Ubuntu 20.04.2 LTS) / x86_64  OK    OK    OK  UNNEEDED, same version is already published
tokay2Windows Server 2012 R2 Standard / x64  OK    OK    OK    OK  UNNEEDED, same version is already published
machv2macOS 10.14.6 Mojave / x86_64  OK    OK    OK    OK  UNNEEDED, same version is already published

Summary

Package: mirIntegrator
Version: 1.22.0
Command: rm -rf mirIntegrator.buildbin-libdir && mkdir mirIntegrator.buildbin-libdir && /Users/biocbuild/BBS/utils/build-universal.sh mirIntegrator_1.22.0.tar.gz /Library/Frameworks/R.framework/Versions/Current/Resources/bin/R mirIntegrator.buildbin-libdir
StartedAt: 2021-09-15 03:01:16 -0400 (Wed, 15 Sep 2021)
EndedAt: 2021-09-15 03:02:18 -0400 (Wed, 15 Sep 2021)
EllapsedTime: 61.3 seconds
RetCode: 0
Status:   OK  
PackageFile: mirIntegrator_1.22.0.tgz
PackageFileSize: 1.758 MiB

Command output

##############################################################################
##############################################################################
###
### Running command:
###
###   rm -rf mirIntegrator.buildbin-libdir && mkdir mirIntegrator.buildbin-libdir && /Users/biocbuild/BBS/utils/build-universal.sh mirIntegrator_1.22.0.tar.gz /Library/Frameworks/R.framework/Versions/Current/Resources/bin/R mirIntegrator.buildbin-libdir
###
##############################################################################
##############################################################################


>>>>>>> 
>>>>>>> INSTALLATION WITH 'R CMD INSTALL --preclean --no-multiarch --library=mirIntegrator.buildbin-libdir mirIntegrator_1.22.0.tar.gz'
>>>>>>> 

* installing *source* package ‘mirIntegrator’ ...
** using staged installation
** R
** data
** inst
** byte-compile and prepare package for lazy loading
** help
*** installing help indices
** building package indices
** installing vignettes
** testing if installed package can be loaded from temporary location
** testing if installed package can be loaded from final location
** testing if installed package keeps a record of temporary installation path
* DONE (mirIntegrator)