Back to Multiple platform build/check report for BioC 3.13
ABCDEFGHIJKL[M]NOPQRSTUVWXYZ

This page was generated on 2021-08-02 15:05:18 -0400 (Mon, 02 Aug 2021).

BUILD BIN results for metaMS on tokay2

To the developers/maintainers of the metaMS package:
- Please allow up to 24 hours (and sometimes 48 hours) for your latest push to git@git.bioconductor.org:packages/metaMS.git to
reflect on this report. See How and When does the builder pull? When will my changes propagate? here for more information.
- Make sure to use the following settings in order to reproduce any error or warning you see on this page.

raw results

Package 1089/2041HostnameOS / ArchINSTALLBUILDCHECKBUILD BIN
metaMS 1.28.0  (landing page)
Yann Guitton
Snapshot Date: 2021-08-01 04:50:10 -0400 (Sun, 01 Aug 2021)
URL: https://git.bioconductor.org/packages/metaMS
Branch: RELEASE_3_13
Last Commit: 1f3d024
Last Changed Date: 2021-05-19 12:04:21 -0400 (Wed, 19 May 2021)
nebbiolo1Linux (Ubuntu 20.04.2 LTS) / x86_64  OK    OK    OK  UNNEEDED, same version is already published
tokay2Windows Server 2012 R2 Standard / x64  OK    OK    OK    OK  UNNEEDED, same version is already published
machv2macOS 10.14.6 Mojave / x86_64  OK    OK    OK    OK  UNNEEDED, same version is already published

Summary

Package: metaMS
Version: 1.28.0
Command: rm -rf metaMS.buildbin-libdir && mkdir metaMS.buildbin-libdir && C:\Users\biocbuild\bbs-3.13-bioc\R\bin\R.exe CMD INSTALL --merge-multiarch --build --library=metaMS.buildbin-libdir metaMS_1.28.0.tar.gz
StartedAt: 2021-08-02 10:16:08 -0400 (Mon, 02 Aug 2021)
EndedAt: 2021-08-02 10:17:26 -0400 (Mon, 02 Aug 2021)
EllapsedTime: 78.3 seconds
RetCode: 0
Status:   OK  
PackageFile: metaMS_1.28.0.zip
PackageFileSize: 4.196 MiB

Command output

##############################################################################
##############################################################################
###
### Running command:
###
###   rm -rf metaMS.buildbin-libdir && mkdir metaMS.buildbin-libdir && C:\Users\biocbuild\bbs-3.13-bioc\R\bin\R.exe CMD INSTALL --merge-multiarch --build --library=metaMS.buildbin-libdir metaMS_1.28.0.tar.gz
###
##############################################################################
##############################################################################



install for i386

* installing *source* package 'metaMS' ...
** using staged installation
** R
** data
** inst
** byte-compile and prepare package for lazy loading
** help
*** installing help indices
  converting help for package 'metaMS'
    finding HTML links ... done
    AnnotateTable                           html  
    FEMsettings                             html  
    finding level-2 HTML links ... done

    GCresults                               html  
    LCDBtest                                html  
    LCresults                               html  
    addRI                                   html  
    alignmentLC                             html  
    annotations2tab                         html  
    constructExpPseudoSpectra               html  
    createSTDdbGC                           html  
    createSTDdbLC                           html  
    errf                                    html  
    exptable                                html  
    getAnnotationLC                         html  
    getAnnotationMat                        html  
    getFeatureInfo                          html  
    getPeakTable                            html  
    match2ExtDB                             html  
    matchExpSpec                            html  
    matchSamples2DB                         html  
    matchSamples2Samples                    html  
    metaMS-package                          html  
    metaMSsettings-class                    html  
    metaSetting-methods                     html  
REDIRECT:topic	 metaSetting<- -> metaSetting-methods.html [ FAIL ]
REDIRECT:topic	 metaSetting<-,metaMSsettings-method -> metaSetting-methods.html [ FAIL ]
    msp                                     html  
    peakDetection                           html  
    plotPseudoSpectrum                      html  
    printString                             html  
    processStandards                        html  
    readStdInfo                             html  
    removeDoubleMasses                      html  
    runCAMERA                               html  
    runGC                                   html  
    runLC                                   html  
    threeStdsDB                             html  
    treat.DB                                html  
** building package indices
** installing vignettes
** testing if installed package can be loaded from temporary location
** testing if installed package can be loaded from final location
** testing if installed package keeps a record of temporary installation path

install for x64

* installing *source* package 'metaMS' ...
** testing if installed package can be loaded
* MD5 sums
packaged installation of 'metaMS' as metaMS_1.28.0.zip
* DONE (metaMS)