Back to Multiple platform build/check report for BioC 3.13
ABCDEFGHIJKL[M]NOPQRSTUVWXYZ

This page was generated on 2021-08-02 15:04:52 -0400 (Mon, 02 Aug 2021).

INSTALL results for metaMS on nebbiolo1

To the developers/maintainers of the metaMS package:
- Please allow up to 24 hours (and sometimes 48 hours) for your latest push to git@git.bioconductor.org:packages/metaMS.git to
reflect on this report. See How and When does the builder pull? When will my changes propagate? here for more information.
- Make sure to use the following settings in order to reproduce any error or warning you see on this page.

raw results

Package 1089/2041HostnameOS / ArchINSTALLBUILDCHECKBUILD BIN
metaMS 1.28.0  (landing page)
Yann Guitton
Snapshot Date: 2021-08-01 04:50:10 -0400 (Sun, 01 Aug 2021)
URL: https://git.bioconductor.org/packages/metaMS
Branch: RELEASE_3_13
Last Commit: 1f3d024
Last Changed Date: 2021-05-19 12:04:21 -0400 (Wed, 19 May 2021)
nebbiolo1Linux (Ubuntu 20.04.2 LTS) / x86_64  OK    OK    OK  UNNEEDED, same version is already published
tokay2Windows Server 2012 R2 Standard / x64  OK    OK    OK    OK  UNNEEDED, same version is already published
machv2macOS 10.14.6 Mojave / x86_64  OK    OK    OK    OK  UNNEEDED, same version is already published

Summary

Package: metaMS
Version: 1.28.0
Command: /home/biocbuild/bbs-3.13-bioc/R/bin/R CMD INSTALL metaMS
StartedAt: 2021-08-01 06:22:27 -0400 (Sun, 01 Aug 2021)
EndedAt: 2021-08-01 06:23:01 -0400 (Sun, 01 Aug 2021)
EllapsedTime: 33.4 seconds
RetCode: 0
Status:   OK  

Command output

##############################################################################
##############################################################################
###
### Running command:
###
###   /home/biocbuild/bbs-3.13-bioc/R/bin/R CMD INSTALL metaMS
###
##############################################################################
##############################################################################


* installing to library ‘/home/biocbuild/bbs-3.13-bioc/R/library’
* installing *source* package ‘metaMS’ ...
** using staged installation
** R
** data
** inst
** byte-compile and prepare package for lazy loading
** help
*** installing help indices
** building package indices
** installing vignettes
** testing if installed package can be loaded from temporary location
** testing if installed package can be loaded from final location
** testing if installed package keeps a record of temporary installation path
* DONE (metaMS)