Back to Multiple platform build/check report for BioC 3.13
ABCDEFGHIJKL[M]NOPQRSTUVWXYZ

This page was generated on 2021-08-02 15:04:52 -0400 (Mon, 02 Aug 2021).

CHECK results for metaMS on nebbiolo1

To the developers/maintainers of the metaMS package:
- Please allow up to 24 hours (and sometimes 48 hours) for your latest push to git@git.bioconductor.org:packages/metaMS.git to
reflect on this report. See How and When does the builder pull? When will my changes propagate? here for more information.
- Make sure to use the following settings in order to reproduce any error or warning you see on this page.

raw results

Package 1089/2041HostnameOS / ArchINSTALLBUILDCHECKBUILD BIN
metaMS 1.28.0  (landing page)
Yann Guitton
Snapshot Date: 2021-08-01 04:50:10 -0400 (Sun, 01 Aug 2021)
URL: https://git.bioconductor.org/packages/metaMS
Branch: RELEASE_3_13
Last Commit: 1f3d024
Last Changed Date: 2021-05-19 12:04:21 -0400 (Wed, 19 May 2021)
nebbiolo1Linux (Ubuntu 20.04.2 LTS) / x86_64  OK    OK    OK  UNNEEDED, same version is already published
tokay2Windows Server 2012 R2 Standard / x64  OK    OK    OK    OK  UNNEEDED, same version is already published
machv2macOS 10.14.6 Mojave / x86_64  OK    OK    OK    OK  UNNEEDED, same version is already published

Summary

Package: metaMS
Version: 1.28.0
Command: /home/biocbuild/bbs-3.13-bioc/R/bin/R CMD check --install=check:metaMS.install-out.txt --library=/home/biocbuild/bbs-3.13-bioc/R/library --no-vignettes --timings metaMS_1.28.0.tar.gz
StartedAt: 2021-08-01 10:27:00 -0400 (Sun, 01 Aug 2021)
EndedAt: 2021-08-01 10:31:23 -0400 (Sun, 01 Aug 2021)
EllapsedTime: 262.8 seconds
RetCode: 0
Status:   OK  
CheckDir: metaMS.Rcheck
Warnings: 0

Command output

##############################################################################
##############################################################################
###
### Running command:
###
###   /home/biocbuild/bbs-3.13-bioc/R/bin/R CMD check --install=check:metaMS.install-out.txt --library=/home/biocbuild/bbs-3.13-bioc/R/library --no-vignettes --timings metaMS_1.28.0.tar.gz
###
##############################################################################
##############################################################################


* using log directory ‘/home/biocbuild/bbs-3.13-bioc/meat/metaMS.Rcheck’
* using R version 4.1.0 (2021-05-18)
* using platform: x86_64-pc-linux-gnu (64-bit)
* using session charset: UTF-8
* using option ‘--no-vignettes’
* checking for file ‘metaMS/DESCRIPTION’ ... OK
* checking extension type ... Package
* this is package ‘metaMS’ version ‘1.28.0’
* package encoding: UTF-8
* checking package namespace information ... OK
* checking package dependencies ... OK
* checking if this is a source package ... OK
* checking if there is a namespace ... OK
* checking for hidden files and directories ... OK
* checking for portable file names ... OK
* checking for sufficient/correct file permissions ... OK
* checking whether package ‘metaMS’ can be installed ... OK
* checking installed package size ... OK
* checking package directory ... OK
* checking ‘build’ directory ... OK
* checking DESCRIPTION meta-information ... OK
* checking top-level files ... OK
* checking for left-over files ... OK
* checking index information ... OK
* checking package subdirectories ... OK
* checking R files for non-ASCII characters ... OK
* checking R files for syntax errors ... OK
* checking whether the package can be loaded ... OK
* checking whether the package can be loaded with stated dependencies ... OK
* checking whether the package can be unloaded cleanly ... OK
* checking whether the namespace can be loaded with stated dependencies ... OK
* checking whether the namespace can be unloaded cleanly ... OK
* checking dependencies in R code ... OK
* checking S3 generic/method consistency ... OK
* checking replacement functions ... OK
* checking foreign function calls ... OK
* checking R code for possible problems ... OK
* checking Rd files ... OK
* checking Rd metadata ... OK
* checking Rd cross-references ... OK
* checking for missing documentation entries ... OK
* checking for code/documentation mismatches ... OK
* checking Rd \usage sections ... OK
* checking Rd contents ... OK
* checking for unstated dependencies in examples ... OK
* checking contents of ‘data’ directory ... OK
* checking data for non-ASCII characters ... OK
* checking data for ASCII and uncompressed saves ... OK
* checking files in ‘vignettes’ ... OK
* checking examples ... OK
* checking for unstated dependencies in ‘tests’ ... OK
* checking tests ...
  Running ‘runTests.R’
 OK
* checking for unstated dependencies in vignettes ... OK
* checking package vignettes in ‘inst/doc’ ... OK
* checking running R code from vignettes ... SKIPPED
* checking re-building of vignette outputs ... SKIPPED
* checking PDF version of manual ... OK
* DONE

Status: OK


Installation output

metaMS.Rcheck/00install.out

##############################################################################
##############################################################################
###
### Running command:
###
###   /home/biocbuild/bbs-3.13-bioc/R/bin/R CMD INSTALL metaMS
###
##############################################################################
##############################################################################


* installing to library ‘/home/biocbuild/bbs-3.13-bioc/R/library’
* installing *source* package ‘metaMS’ ...
** using staged installation
** R
** data
** inst
** byte-compile and prepare package for lazy loading
** help
*** installing help indices
** building package indices
** installing vignettes
** testing if installed package can be loaded from temporary location
** testing if installed package can be loaded from final location
** testing if installed package keeps a record of temporary installation path
* DONE (metaMS)

Tests output

metaMS.Rcheck/tests/runTests.Rout


R version 4.1.0 (2021-05-18) -- "Camp Pontanezen"
Copyright (C) 2021 The R Foundation for Statistical Computing
Platform: x86_64-pc-linux-gnu (64-bit)

R is free software and comes with ABSOLUTELY NO WARRANTY.
You are welcome to redistribute it under certain conditions.
Type 'license()' or 'licence()' for distribution details.

R is a collaborative project with many contributors.
Type 'contributors()' for more information and
'citation()' on how to cite R or R packages in publications.

Type 'demo()' for some demos, 'help()' for on-line help, or
'help.start()' for an HTML browser interface to help.
Type 'q()' to quit R.

> BiocGenerics:::testPackage("metaMS")

Attaching package: 'BiocGenerics'

The following objects are masked from 'package:parallel':

    clusterApply, clusterApplyLB, clusterCall, clusterEvalQ,
    clusterExport, clusterMap, parApply, parCapply, parLapply,
    parLapplyLB, parRapply, parSapply, parSapplyLB

The following objects are masked from 'package:stats':

    IQR, mad, sd, var, xtabs

The following objects are masked from 'package:base':

    Filter, Find, Map, Position, Reduce, anyDuplicated, append,
    as.data.frame, basename, cbind, colnames, dirname, do.call,
    duplicated, eval, evalq, get, grep, grepl, intersect, is.unsorted,
    lapply, mapply, match, mget, order, paste, pmax, pmax.int, pmin,
    pmin.int, rank, rbind, rownames, sapply, setdiff, sort, table,
    tapply, union, unique, unsplit, which.max, which.min

Welcome to Bioconductor

    Vignettes contain introductory material; view with
    'browseVignettes()'. To cite Bioconductor, see
    'citation("Biobase")', and for packages 'citation("pkgname")'.


Attaching package: 'S4Vectors'

The following objects are masked from 'package:base':

    I, expand.grid, unname


Attaching package: 'ProtGenerics'

The following object is masked from 'package:stats':

    smooth


This is MSnbase version 2.18.0 
  Visit https://lgatto.github.io/MSnbase/ to get started.


Attaching package: 'MSnbase'

The following object is masked from 'package:base':

    trimws


This is xcms version 3.14.1 


Attaching package: 'xcms'

The following object is masked from 'package:stats':

    sigma

< -------- Experiment of 4 samples ------------------------------------- >
< -------- Instrument: TSQXLS.QQQ.GC ----------------------------------- >
< -------- Annotation using database of 3 spectra ---------------------- >
< -------- Using xcmsSet object - only doing annotation ---------------- >
< -------- Removing artefacts (Bleeding, Plasticizers) ----------------- >
< -------- Matching with database of standards ------------------------- >
< -------- Matching unknowns across samples ---------------------------- >
< -------- Formatting results ------------------------------------------ >
< -------- Done! ------------------------------------------------------- >
< -------- Experiment of 4 samples ------------------------------------- >
< -------- Instrument: Synapt.QTOF.RP  - polarity: positive ------------ >
< -------- Database of 4 compounds ------------------------------------- >
< -------- Using xcmsSet object - only doing annotation ---------------- >
< -------- Performing annotation --------------------------------------- >
	 Fixed mass tolerance 0.005
	 Feature-wise Annotation ...
< -------- Formatting the output --------------------------------------- >
< -------- Done ! ------------------------------------------------------ >


RUNIT TEST PROTOCOL -- Sun Aug  1 10:31:19 2021 
*********************************************** 
Number of test functions: 2 
Number of errors: 0 
Number of failures: 0 

 
1 Test Suite : 
metaMS RUnit Tests - 2 test functions, 0 errors, 0 failures
Number of test functions: 2 
Number of errors: 0 
Number of failures: 0 
> 
> proc.time()
   user  system elapsed 
 13.293   0.580  13.862 

Example timings

metaMS.Rcheck/metaMS-Ex.timings

nameusersystemelapsed
AnnotateTable0.0460.0040.049
FEMsettings0.0010.0000.002
addRI0.0220.0080.031
alignmentLC0.0880.2240.312
constructExpPseudoSpectra0.0430.0120.054
createSTDdbGC0.0030.0000.003
createSTDdbLC0.0210.0000.021
errf0.140.000.14
getAnnotationLC0.0940.2280.321
getAnnotationMat0.0570.0080.064
getFeatureInfo0.0590.0080.067
getPeakTable0.1110.2080.320
matchExpSpec0.0160.0000.016
matchSamples2DB0.0020.0000.002
matchSamples2Samples0.0000.0020.002
metaMSsettings-class0.0020.0010.003
metaSetting-methods0.0010.0000.000
msp0.0020.0000.001
peakDetection0.0010.0000.002
plotPseudoSpectrum0.0150.0040.019
processStandards0.8430.0080.850
readStdInfo0.0220.0000.022
runCAMERA0.1320.1840.317
runGC0.0380.0040.041
runLC0.0220.0000.022
threeStdsDB0.0110.0000.012
treat.DB0.0040.0000.003