Back to Multiple platform build/check report for BioC 3.13
ABCDEFGHIJKL[M]NOPQRSTUVWXYZ

This page was generated on 2021-07-23 15:06:40 -0400 (Fri, 23 Jul 2021).

BUILD BIN results for metaMS on machv2

To the developers/maintainers of the metaMS package:
- Please allow up to 24 hours (and sometimes 48 hours) for your latest push to git@git.bioconductor.org:packages/metaMS.git to
reflect on this report. See How and When does the builder pull? When will my changes propagate? here for more information.
- Make sure to use the following settings in order to reproduce any error or warning you see on this page.

raw results

Package 1089/2041HostnameOS / ArchINSTALLBUILDCHECKBUILD BIN
metaMS 1.28.0  (landing page)
Yann Guitton
Snapshot Date: 2021-07-22 04:50:13 -0400 (Thu, 22 Jul 2021)
URL: https://git.bioconductor.org/packages/metaMS
Branch: RELEASE_3_13
Last Commit: 1f3d024
Last Changed Date: 2021-05-19 12:04:21 -0400 (Wed, 19 May 2021)
nebbiolo1Linux (Ubuntu 20.04.2 LTS) / x86_64  OK    OK    OK  UNNEEDED, same version is already published
tokay2Windows Server 2012 R2 Standard / x64  OK    OK    OK    OK  UNNEEDED, same version is already published
machv2macOS 10.14.6 Mojave / x86_64  OK    OK    OK    OK  UNNEEDED, same version is already published

Summary

Package: metaMS
Version: 1.28.0
Command: rm -rf metaMS.buildbin-libdir && mkdir metaMS.buildbin-libdir && /Users/biocbuild/BBS/utils/build-universal.sh metaMS_1.28.0.tar.gz /Library/Frameworks/R.framework/Versions/Current/Resources/bin/R metaMS.buildbin-libdir
StartedAt: 2021-07-23 02:26:50 -0400 (Fri, 23 Jul 2021)
EndedAt: 2021-07-23 02:27:32 -0400 (Fri, 23 Jul 2021)
EllapsedTime: 42.1 seconds
RetCode: 0
Status:   OK  
PackageFile: metaMS_1.28.0.tgz
PackageFileSize: 4.118 MiB

Command output

##############################################################################
##############################################################################
###
### Running command:
###
###   rm -rf metaMS.buildbin-libdir && mkdir metaMS.buildbin-libdir && /Users/biocbuild/BBS/utils/build-universal.sh metaMS_1.28.0.tar.gz /Library/Frameworks/R.framework/Versions/Current/Resources/bin/R metaMS.buildbin-libdir
###
##############################################################################
##############################################################################


>>>>>>> 
>>>>>>> INSTALLATION WITH 'R CMD INSTALL --preclean --no-multiarch --library=metaMS.buildbin-libdir metaMS_1.28.0.tar.gz'
>>>>>>> 

* installing *source* package ‘metaMS’ ...
** using staged installation
** R
** data
** inst
** byte-compile and prepare package for lazy loading
** help
*** installing help indices
** building package indices
** installing vignettes
** testing if installed package can be loaded from temporary location
** testing if installed package can be loaded from final location
** testing if installed package keeps a record of temporary installation path
* DONE (metaMS)