Back to Multiple platform build/check report for BioC 3.13
ABCDEFGHIJKL[M]NOPQRSTUVWXYZ

This page was generated on 2021-09-15 15:05:34 -0400 (Wed, 15 Sep 2021).

BUILD BIN results for meshr on tokay2

To the developers/maintainers of the meshr package:
- Please allow up to 24 hours (and sometimes 48 hours) for your latest push to git@git.bioconductor.org:packages/meshr.git to
reflect on this report. See How and When does the builder pull? When will my changes propagate? here for more information.
- Make sure to use the following settings in order to reproduce any error or warning you see on this page.

raw results

Package 1073/2041HostnameOS / ArchINSTALLBUILDCHECKBUILD BIN
meshr 1.28.0  (landing page)
Koki Tsuyuzaki
Snapshot Date: 2021-09-14 04:50:06 -0400 (Tue, 14 Sep 2021)
git_url: https://git.bioconductor.org/packages/meshr
git_branch: RELEASE_3_13
git_last_commit: f8913a9
git_last_commit_date: 2021-05-19 12:04:51 -0400 (Wed, 19 May 2021)
nebbiolo1Linux (Ubuntu 20.04.2 LTS) / x86_64  OK    OK    OK  UNNEEDED, same version is already published
tokay2Windows Server 2012 R2 Standard / x64  OK    OK    OK    OK  UNNEEDED, same version is already published
machv2macOS 10.14.6 Mojave / x86_64  OK    OK    OK    OK  UNNEEDED, same version is already published

Summary

Package: meshr
Version: 1.28.0
Command: rm -rf meshr.buildbin-libdir && mkdir meshr.buildbin-libdir && C:\Users\biocbuild\bbs-3.13-bioc\R\bin\R.exe CMD INSTALL --merge-multiarch --build --library=meshr.buildbin-libdir meshr_1.28.0.tar.gz
StartedAt: 2021-09-15 09:51:25 -0400 (Wed, 15 Sep 2021)
EndedAt: 2021-09-15 09:52:59 -0400 (Wed, 15 Sep 2021)
EllapsedTime: 94.1 seconds
RetCode: 0
Status:   OK  
PackageFile: meshr_1.28.0.zip
PackageFileSize: 6.591 MiB

Command output

##############################################################################
##############################################################################
###
### Running command:
###
###   rm -rf meshr.buildbin-libdir && mkdir meshr.buildbin-libdir && C:\Users\biocbuild\bbs-3.13-bioc\R\bin\R.exe CMD INSTALL --merge-multiarch --build --library=meshr.buildbin-libdir meshr_1.28.0.tar.gz
###
##############################################################################
##############################################################################



install for i386

* installing *source* package 'meshr' ...
** using staged installation
** R
** data
** inst
** byte-compile and prepare package for lazy loading
** help
*** installing help indices
  converting help for package 'meshr'
    finding HTML links ... done
    MeSHHyperGParams-class                  html  
    MeSHHyperGResult-class                  html  
    PMCID                                   html  
    category                                html  
    database                                html  
    geneid.cummeRbund                       html  
    meshHyperGTest                          html  
    meshr-package                           html  
    sig.geneid.cummeRbund                   html  
** building package indices
** installing vignettes
** testing if installed package can be loaded from temporary location
** testing if installed package can be loaded from final location
** testing if installed package keeps a record of temporary installation path

install for x64

* installing *source* package 'meshr' ...
** testing if installed package can be loaded
* MD5 sums
packaged installation of 'meshr' as meshr_1.28.0.zip
* DONE (meshr)