Back to Multiple platform build/check report for BioC 3.13
ABCDEFGHIJKL[M]NOPQRSTUVWXYZ

This page was generated on 2021-09-15 15:05:07 -0400 (Wed, 15 Sep 2021).

BUILD results for meshr on nebbiolo1

To the developers/maintainers of the meshr package:
- Please allow up to 24 hours (and sometimes 48 hours) for your latest push to git@git.bioconductor.org:packages/meshr.git to
reflect on this report. See How and When does the builder pull? When will my changes propagate? here for more information.
- Make sure to use the following settings in order to reproduce any error or warning you see on this page.

raw results

Package 1073/2041HostnameOS / ArchINSTALLBUILDCHECKBUILD BIN
meshr 1.28.0  (landing page)
Koki Tsuyuzaki
Snapshot Date: 2021-09-14 04:50:06 -0400 (Tue, 14 Sep 2021)
git_url: https://git.bioconductor.org/packages/meshr
git_branch: RELEASE_3_13
git_last_commit: f8913a9
git_last_commit_date: 2021-05-19 12:04:51 -0400 (Wed, 19 May 2021)
nebbiolo1Linux (Ubuntu 20.04.2 LTS) / x86_64  OK    OK    OK  UNNEEDED, same version is already published
tokay2Windows Server 2012 R2 Standard / x64  OK    OK    OK    OK  UNNEEDED, same version is already published
machv2macOS 10.14.6 Mojave / x86_64  OK    OK    OK    OK  UNNEEDED, same version is already published

Summary

Package: meshr
Version: 1.28.0
Command: /home/biocbuild/bbs-3.13-bioc/R/bin/R CMD build --keep-empty-dirs --no-resave-data meshr
StartedAt: 2021-09-14 07:36:02 -0400 (Tue, 14 Sep 2021)
EndedAt: 2021-09-14 07:37:01 -0400 (Tue, 14 Sep 2021)
EllapsedTime: 59.2 seconds
RetCode: 0
Status:   OK  
PackageFile: meshr_1.28.0.tar.gz
PackageFileSize: 7.787 MiB

Command output

##############################################################################
##############################################################################
###
### Running command:
###
###   /home/biocbuild/bbs-3.13-bioc/R/bin/R CMD build --keep-empty-dirs --no-resave-data meshr
###
##############################################################################
##############################################################################


* checking for file ‘meshr/DESCRIPTION’ ... OK
* preparing ‘meshr’:
* checking DESCRIPTION meta-information ... OK
* installing the package to build vignettes
* creating vignettes ... OK
* checking for LF line-endings in source and make files and shell scripts
* checking for empty or unneeded directories
* looking to see if a ‘data/datalist’ file should be added
* building ‘meshr_1.28.0.tar.gz’