Back to Multiple platform build/check report for BioC 3.13
ABCDEFGHIJKL[M]NOPQRSTUVWXYZ

This page was generated on 2021-09-15 15:06:06 -0400 (Wed, 15 Sep 2021).

BUILD BIN results for meshr on machv2

To the developers/maintainers of the meshr package:
- Please allow up to 24 hours (and sometimes 48 hours) for your latest push to git@git.bioconductor.org:packages/meshr.git to
reflect on this report. See How and When does the builder pull? When will my changes propagate? here for more information.
- Make sure to use the following settings in order to reproduce any error or warning you see on this page.

raw results

Package 1073/2041HostnameOS / ArchINSTALLBUILDCHECKBUILD BIN
meshr 1.28.0  (landing page)
Koki Tsuyuzaki
Snapshot Date: 2021-09-14 04:50:06 -0400 (Tue, 14 Sep 2021)
git_url: https://git.bioconductor.org/packages/meshr
git_branch: RELEASE_3_13
git_last_commit: f8913a9
git_last_commit_date: 2021-05-19 12:04:51 -0400 (Wed, 19 May 2021)
nebbiolo1Linux (Ubuntu 20.04.2 LTS) / x86_64  OK    OK    OK  UNNEEDED, same version is already published
tokay2Windows Server 2012 R2 Standard / x64  OK    OK    OK    OK  UNNEEDED, same version is already published
machv2macOS 10.14.6 Mojave / x86_64  OK    OK    OK    OK  UNNEEDED, same version is already published

Summary

Package: meshr
Version: 1.28.0
Command: rm -rf meshr.buildbin-libdir && mkdir meshr.buildbin-libdir && /Users/biocbuild/BBS/utils/build-universal.sh meshr_1.28.0.tar.gz /Library/Frameworks/R.framework/Versions/Current/Resources/bin/R meshr.buildbin-libdir
StartedAt: 2021-09-15 02:55:32 -0400 (Wed, 15 Sep 2021)
EndedAt: 2021-09-15 02:56:30 -0400 (Wed, 15 Sep 2021)
EllapsedTime: 57.3 seconds
RetCode: 0
Status:   OK  
PackageFile: meshr_1.28.0.tgz
PackageFileSize: 6.597 MiB

Command output

##############################################################################
##############################################################################
###
### Running command:
###
###   rm -rf meshr.buildbin-libdir && mkdir meshr.buildbin-libdir && /Users/biocbuild/BBS/utils/build-universal.sh meshr_1.28.0.tar.gz /Library/Frameworks/R.framework/Versions/Current/Resources/bin/R meshr.buildbin-libdir
###
##############################################################################
##############################################################################


>>>>>>> 
>>>>>>> INSTALLATION WITH 'R CMD INSTALL --preclean --no-multiarch --library=meshr.buildbin-libdir meshr_1.28.0.tar.gz'
>>>>>>> 

* installing *source* package ‘meshr’ ...
** using staged installation
** R
** data
** inst
** byte-compile and prepare package for lazy loading
** help
*** installing help indices
** building package indices
** installing vignettes
** testing if installed package can be loaded from temporary location
** testing if installed package can be loaded from final location
** testing if installed package keeps a record of temporary installation path
* DONE (meshr)