Back to Multiple platform build/check report for BioC 3.13
ABCDEFGHIJKL[M]NOPQRSTUVWXYZ

CHECK results for maigesPack on nebbiolo1

This page was generated on 2021-06-11 14:05:43 -0400 (Fri, 11 Jun 2021).

Package 1024/2041HostnameOS / ArchINSTALLBUILDCHECKBUILD BIN
maigesPack 1.56.0  (landing page)
Gustavo H. Esteves
Snapshot Date: 2021-06-10 06:50:12 -0400 (Thu, 10 Jun 2021)
URL: https://git.bioconductor.org/packages/maigesPack
Branch: RELEASE_3_13
Last Commit: 3f54ee8
Last Changed Date: 2021-05-19 11:39:47 -0400 (Wed, 19 May 2021)
nebbiolo1Linux (Ubuntu 20.04.2 LTS) / x86_64  OK    OK    OK  UNNEEDED, same version is already published
tokay2Windows Server 2012 R2 Standard / x64  OK    OK    OK    OK  UNNEEDED, same version is already published
machv2macOS 10.14.6 Mojave / x86_64  OK    OK    OK    OK  UNNEEDED, same version is already published
To the developers/maintainers of the maigesPack package:
- Please allow up to 24 hours (and sometimes 48 hours) for your latest push to git@git.bioconductor.org:packages/maigesPack.git to
reflect on this report. See How and When does the builder pull? When will my changes propagate? here for more information.
- Make sure to use the following settings in order to reproduce any error or warning you see on this page.

Summary

Package: maigesPack
Version: 1.56.0
Command: /home/biocbuild/bbs-3.13-bioc/R/bin/R CMD check --install=check:maigesPack.install-out.txt --library=/home/biocbuild/bbs-3.13-bioc/R/library --no-vignettes --timings maigesPack_1.56.0.tar.gz
StartedAt: 2021-06-10 12:35:53 -0400 (Thu, 10 Jun 2021)
EndedAt: 2021-06-10 12:37:24 -0400 (Thu, 10 Jun 2021)
EllapsedTime: 91.5 seconds
RetCode: 0
Status:   OK  
CheckDir: maigesPack.Rcheck
Warnings: 0

Command output

##############################################################################
##############################################################################
###
### Running command:
###
###   /home/biocbuild/bbs-3.13-bioc/R/bin/R CMD check --install=check:maigesPack.install-out.txt --library=/home/biocbuild/bbs-3.13-bioc/R/library --no-vignettes --timings maigesPack_1.56.0.tar.gz
###
##############################################################################
##############################################################################


* using log directory ‘/home/biocbuild/bbs-3.13-bioc/meat/maigesPack.Rcheck’
* using R version 4.1.0 (2021-05-18)
* using platform: x86_64-pc-linux-gnu (64-bit)
* using session charset: UTF-8
* using option ‘--no-vignettes’
* checking for file ‘maigesPack/DESCRIPTION’ ... OK
* this is package ‘maigesPack’ version ‘1.56.0’
* checking package namespace information ... OK
* checking package dependencies ... OK
* checking if this is a source package ... OK
* checking if there is a namespace ... OK
* checking for hidden files and directories ... NOTE
Found the following hidden files and directories:
  .BBSoptions
These were most likely included in error. See section ‘Package
structure’ in the ‘Writing R Extensions’ manual.
* checking for portable file names ... OK
* checking for sufficient/correct file permissions ... OK
* checking whether package ‘maigesPack’ can be installed ... OK
* checking installed package size ... OK
* checking package directory ... OK
* checking ‘build’ directory ... OK
* checking DESCRIPTION meta-information ... NOTE
Malformed Description field: should contain one or more complete sentences.
* checking top-level files ... OK
* checking for left-over files ... OK
* checking index information ... OK
* checking package subdirectories ... OK
* checking R files for non-ASCII characters ... OK
* checking R files for syntax errors ... OK
* checking whether the package can be loaded ... OK
* checking whether the package can be loaded with stated dependencies ... OK
* checking whether the package can be unloaded cleanly ... OK
* checking whether the namespace can be loaded with stated dependencies ... OK
* checking whether the namespace can be unloaded cleanly ... OK
* checking dependencies in R code ... NOTE
'library' or 'require' calls in package code:
  ‘OLIN’ ‘annotate’ ‘rgl’
  Please use :: or requireNamespace() instead.
  See section 'Suggested packages' in the 'Writing R Extensions' manual.
* checking S3 generic/method consistency ... OK
* checking replacement functions ... OK
* checking foreign function calls ... OK
* checking R code for possible problems ... NOTE
activeMod: no visible global function definition for ‘sessionInfo’
activeModScoreHTML: no visible binding for global variable ‘data’
activeNet: no visible global function definition for ‘sessionInfo’
activeNetScoreHTML: no visible binding for global variable ‘data’
blackBlue: no visible global function definition for ‘col2rgb’
blackBlue: no visible global function definition for ‘rgb’
classifyKNN: no visible global function definition for ‘sessionInfo’
classifyKNNsc: no visible global function definition for ‘sessionInfo’
classifyLDA: no visible global function definition for ‘sessionInfo’
classifyLDAsc: no visible global function definition for ‘sessionInfo’
classifySVM: no visible global function definition for ‘sessionInfo’
classifySVMsc: no visible global function definition for ‘sessionInfo’
createMaigesRaw: no visible global function definition for
  ‘sessionInfo’
createTDMS: no visible global function definition for ‘write.table’
deGenes2by2BootT: no visible global function definition for
  ‘sessionInfo’
deGenes2by2Ttest: no visible global function definition for
  ‘sessionInfo’
deGenes2by2Wilcox: no visible global function definition for
  ‘sessionInfo’
deGenesANOVA: no visible global function definition for ‘sessionInfo’
designANOVA: no visible global function definition for ‘sessionInfo’
greenRed: no visible global function definition for ‘col2rgb’
greenRed: no visible global function definition for ‘rgb’
loadData: no visible global function definition for ‘read.table’
loadData: no visible global function definition for ‘sessionInfo’
normLoc: no visible global function definition for ‘sessionInfo’
normOLIN: no visible global function definition for ‘sessionInfo’
normRepLoess: no visible global function definition for ‘sessionInfo’
normScaleLimma: no visible global function definition for ‘sessionInfo’
normScaleMarray: no visible global function definition for
  ‘sessionInfo’
print.maiges: no visible global function definition for ‘str’
print.maigesANOVA: no visible global function definition for ‘str’
print.maigesPreRaw: no visible global function definition for ‘str’
print.maigesRaw: no visible global function definition for ‘str’
relNet2TGF.maigesRelNetB: no visible global function definition for
  ‘write.table’
relNet2TGF.maigesRelNetM: no visible global function definition for
  ‘write.table’
relNetworkB: no visible global function definition for ‘sessionInfo’
relNetworkM: no visible global function definition for ‘sessionInfo’
selSpots: no visible global function definition for ‘sessionInfo’
summarizeReplicates: no visible global function definition for
  ‘sessionInfo’
tableClass: no visible global function definition for ‘write.table’
tablesDE: no visible global function definition for ‘setRepository’
tablesDE: no visible global function definition for ‘write.table’
Undefined global functions or variables:
  col2rgb data read.table rgb sessionInfo setRepository str write.table
Consider adding
  importFrom("grDevices", "col2rgb", "rgb")
  importFrom("utils", "data", "read.table", "sessionInfo", "str",
             "write.table")
to your NAMESPACE file.
* checking Rd files ... OK
* checking Rd metadata ... OK
* checking Rd cross-references ... OK
* checking for missing documentation entries ... OK
* checking for code/documentation mismatches ... OK
* checking Rd \usage sections ... OK
* checking Rd contents ... OK
* checking for unstated dependencies in examples ... OK
* checking contents of ‘data’ directory ... OK
* checking data for non-ASCII characters ... OK
* checking data for ASCII and uncompressed saves ... OK
* checking line endings in C/C++/Fortran sources/headers ... OK
* checking compiled code ... NOTE
Note: information on .o files is not available
* checking files in ‘vignettes’ ... OK
* checking examples ... OK
* checking for unstated dependencies in vignettes ... OK
* checking package vignettes in ‘inst/doc’ ... OK
* checking running R code from vignettes ... SKIPPED
* checking re-building of vignette outputs ... SKIPPED
* checking PDF version of manual ... OK
* DONE

Status: 5 NOTEs
See
  ‘/home/biocbuild/bbs-3.13-bioc/meat/maigesPack.Rcheck/00check.log’
for details.



Installation output

maigesPack.Rcheck/00install.out

##############################################################################
##############################################################################
###
### Running command:
###
###   /home/biocbuild/bbs-3.13-bioc/R/bin/R CMD INSTALL maigesPack
###
##############################################################################
##############################################################################


* installing to library ‘/home/biocbuild/bbs-3.13-bioc/R/library’
* installing *source* package ‘maigesPack’ ...
** using staged installation
** libs
gcc -I"/home/biocbuild/bbs-3.13-bioc/R/include" -DNDEBUG   -I/usr/local/include   -fpic  -g -O2  -Wall -c Minfo.c -o Minfo.o
gcc -I"/home/biocbuild/bbs-3.13-bioc/R/include" -DNDEBUG   -I/usr/local/include   -fpic  -g -O2  -Wall -c bootstrapT.c -o bootstrapT.o
gcc -I"/home/biocbuild/bbs-3.13-bioc/R/include" -DNDEBUG   -I/usr/local/include   -fpic  -g -O2  -Wall -c register.c -o register.o
gcc -I"/home/biocbuild/bbs-3.13-bioc/R/include" -DNDEBUG   -I/usr/local/include   -fpic  -g -O2  -Wall -c robustCorr.c -o robustCorr.o
gcc -I"/home/biocbuild/bbs-3.13-bioc/R/include" -DNDEBUG   -I/usr/local/include   -fpic  -g -O2  -Wall -c stats.c -o stats.o
gcc -shared -L/home/biocbuild/bbs-3.13-bioc/R/lib -L/usr/local/lib -o maigesPack.so Minfo.o bootstrapT.o register.o robustCorr.o stats.o -L/home/biocbuild/bbs-3.13-bioc/R/lib -lR
installing to /home/biocbuild/bbs-3.13-bioc/R/library/00LOCK-maigesPack/00new/maigesPack/libs
** R
** data
** byte-compile and prepare package for lazy loading
** help
*** installing help indices
** building package indices
** installing vignettes
** testing if installed package can be loaded from temporary location
** checking absolute paths in shared objects and dynamic libraries
** testing if installed package can be loaded from final location
** testing if installed package keeps a record of temporary installation path
* DONE (maigesPack)

Tests output


Example timings

maigesPack.Rcheck/maigesPack-Ex.timings

nameusersystemelapsed
MI0.0030.0000.003
activeMod1.0000.0231.024
activeModScoreHTML0.4280.0080.436
activeNet2.0430.0162.059
activeNetScoreHTML1.9790.0041.984
addGeneGrps0.0000.0000.001
addPaths000
bootstrapCor0.0240.0000.025
bootstrapMI0.1320.0000.132
bootstrapT0.0030.0000.002
boxplot-methods2.1280.1762.303
bracketMethods0.1330.0080.141
calcA0.1150.2990.415
calcW0.1410.2840.425
classifyKNN0.1460.0030.150
classifyKNNsc0.2090.0000.209
classifyLDA0.4650.0070.473
classifyLDAsc0.8300.0050.834
classifySVM0.3290.0030.333
classifySVMsc0.5290.0040.533
coerce-methods0.100.020.12
compCorr000
createMaigesRaw0.1670.0430.211
deGenes2by2BootT0.2950.0870.383
deGenes2by2Ttest0.1480.0160.164
deGenes2by2Wilcox0.1510.0070.159
deGenesANOVA0.1270.0150.143
designANOVA0.0810.0230.105
dim-methods0.0580.0050.062
getLabels0.0640.0150.080
hierM0.9430.0450.871
hierMde1.3680.0721.440
image-methods0.9040.0160.920
kmeansM0.8630.0440.876
kmeansMde0.2330.0040.236
loadData000
normLoc0.8620.0020.865
normOLIN0.0570.0040.060
normRepLoess0.0610.0000.061
normScaleLimma4.7410.2124.954
normScaleMarray1.2690.0641.334
plot-methods4.4570.0784.519
plotGenePair0.0800.0180.098
print-methods0.1170.0120.129
relNet2TGF0.1190.0080.127
relNetworkB1.0680.0081.077
relNetworkM0.0830.0080.090
robustCorr0.0010.0000.001
selSpots0.1800.0080.187
show-methods0.1010.0160.116
somM0.9490.0080.924
somMde0.2500.0080.256
summarizeReplicates0.9270.0160.943
summary-methods0.1070.0080.115
tableClass0.3950.0120.407
tablesDE3.7600.0923.853