Back to Multiple platform build/check report for BioC 3.13
ABCDEFGHIJKL[M]NOPQRSTUVWXYZ

This page was generated on 2021-06-18 14:06:49 -0400 (Fri, 18 Jun 2021).

BUILD BIN results for mCSEA on machv2

To the developers/maintainers of the mCSEA package:
- Please allow up to 24 hours (and sometimes 48 hours) for your latest push to git@git.bioconductor.org:packages/mCSEA.git to
reflect on this report. See How and When does the builder pull? When will my changes propagate? here for more information.
- Make sure to use the following settings in order to reproduce any error or warning you see on this page.

raw results

Package 1055/2041HostnameOS / ArchINSTALLBUILDCHECKBUILD BIN
mCSEA 1.12.0  (landing page)
Jordi Martorell-Marugán
Snapshot Date: 2021-06-17 06:50:12 -0400 (Thu, 17 Jun 2021)
URL: https://git.bioconductor.org/packages/mCSEA
Branch: RELEASE_3_13
Last Commit: 63a7b6c
Last Changed Date: 2021-05-19 12:32:43 -0400 (Wed, 19 May 2021)
nebbiolo1Linux (Ubuntu 20.04.2 LTS) / x86_64  OK    OK    OK  UNNEEDED, same version is already published
tokay2Windows Server 2012 R2 Standard / x64  OK    OK    OK    OK  UNNEEDED, same version is already published
machv2macOS 10.14.6 Mojave / x86_64  OK    OK    OK    OK  UNNEEDED, same version is already published

Summary

Package: mCSEA
Version: 1.12.0
Command: rm -rf mCSEA.buildbin-libdir && mkdir mCSEA.buildbin-libdir && /Users/biocbuild/BBS/utils/build-universal.sh mCSEA_1.12.0.tar.gz /Library/Frameworks/R.framework/Versions/Current/Resources/bin/R mCSEA.buildbin-libdir
StartedAt: 2021-06-18 02:30:56 -0400 (Fri, 18 Jun 2021)
EndedAt: 2021-06-18 02:31:45 -0400 (Fri, 18 Jun 2021)
EllapsedTime: 49.5 seconds
RetCode: 0
Status:   OK  
PackageFile: mCSEA_1.12.0.tgz
PackageFileSize: 2.109 MiB

Command output

##############################################################################
##############################################################################
###
### Running command:
###
###   rm -rf mCSEA.buildbin-libdir && mkdir mCSEA.buildbin-libdir && /Users/biocbuild/BBS/utils/build-universal.sh mCSEA_1.12.0.tar.gz /Library/Frameworks/R.framework/Versions/Current/Resources/bin/R mCSEA.buildbin-libdir
###
##############################################################################
##############################################################################


>>>>>>> 
>>>>>>> INSTALLATION WITH 'R CMD INSTALL --preclean --no-multiarch --library=mCSEA.buildbin-libdir mCSEA_1.12.0.tar.gz'
>>>>>>> 

* installing *source* package ‘mCSEA’ ...
** using staged installation
** R
** data
*** moving datasets to lazyload DB
** inst
** byte-compile and prepare package for lazy loading
** help
*** installing help indices
** building package indices
** installing vignettes
** testing if installed package can be loaded from temporary location
** testing if installed package can be loaded from final location
** testing if installed package keeps a record of temporary installation path
* DONE (mCSEA)