Back to Multiple platform build/check report for BioC 3.13
ABCDEFGHIJ[K]LMNOPQRSTUVWXYZ

This page was generated on 2021-06-18 14:05:50 -0400 (Fri, 18 Jun 2021).

BUILD results for keggorthology on nebbiolo1

To the developers/maintainers of the keggorthology package:
- Please allow up to 24 hours (and sometimes 48 hours) for your latest push to git@git.bioconductor.org:packages/keggorthology.git to
reflect on this report. See How and When does the builder pull? When will my changes propagate? here for more information.
- Make sure to use the following settings in order to reproduce any error or warning you see on this page.

raw results

Package 969/2041HostnameOS / ArchINSTALLBUILDCHECKBUILD BIN
keggorthology 2.44.0  (landing page)
VJ Carey
Snapshot Date: 2021-06-17 06:50:12 -0400 (Thu, 17 Jun 2021)
URL: https://git.bioconductor.org/packages/keggorthology
Branch: RELEASE_3_13
Last Commit: 479043c
Last Changed Date: 2021-05-19 11:39:23 -0400 (Wed, 19 May 2021)
nebbiolo1Linux (Ubuntu 20.04.2 LTS) / x86_64  OK    OK    OK  UNNEEDED, same version is already published
tokay2Windows Server 2012 R2 Standard / x64  OK    OK    OK    OK  UNNEEDED, same version is already published
machv2macOS 10.14.6 Mojave / x86_64  OK    OK    OK    OK  UNNEEDED, same version is already published

Summary

Package: keggorthology
Version: 2.44.0
Command: /home/biocbuild/bbs-3.13-bioc/R/bin/R CMD build --keep-empty-dirs --no-resave-data keggorthology
StartedAt: 2021-06-17 09:35:18 -0400 (Thu, 17 Jun 2021)
EndedAt: 2021-06-17 09:35:39 -0400 (Thu, 17 Jun 2021)
EllapsedTime: 20.6 seconds
RetCode: 0
Status:   OK  
PackageFile: keggorthology_2.44.0.tar.gz
PackageFileSize: 667.4 KiB

Command output

##############################################################################
##############################################################################
###
### Running command:
###
###   /home/biocbuild/bbs-3.13-bioc/R/bin/R CMD build --keep-empty-dirs --no-resave-data keggorthology
###
##############################################################################
##############################################################################


* checking for file ‘keggorthology/DESCRIPTION’ ... OK
* preparing ‘keggorthology’:
* checking DESCRIPTION meta-information ... OK
* installing the package to build vignettes
* creating vignettes ... OK
* checking for LF line-endings in source and make files and shell scripts
* checking for empty or unneeded directories
* looking to see if a ‘data/datalist’ file should be added
* building ‘keggorthology_2.44.0.tar.gz’