Back to Multiple platform build/check report for BioC 3.13
ABCDEFGHIJ[K]LMNOPQRSTUVWXYZ

This page was generated on 2021-09-20 15:05:46 -0400 (Mon, 20 Sep 2021).

BUILD results for keggorthology on machv2

To the developers/maintainers of the keggorthology package:
- Please allow up to 24 hours (and sometimes 48 hours) for your latest push to git@git.bioconductor.org:packages/keggorthology.git to
reflect on this report. See How and When does the builder pull? When will my changes propagate? here for more information.
- Make sure to use the following settings in order to reproduce any error or warning you see on this page.

raw results

Package 969/2041HostnameOS / ArchINSTALLBUILDCHECKBUILD BIN
keggorthology 2.44.0  (landing page)
VJ Carey
Snapshot Date: 2021-09-19 04:50:10 -0400 (Sun, 19 Sep 2021)
git_url: https://git.bioconductor.org/packages/keggorthology
git_branch: RELEASE_3_13
git_last_commit: 479043c
git_last_commit_date: 2021-05-19 11:39:23 -0400 (Wed, 19 May 2021)
nebbiolo1Linux (Ubuntu 20.04.2 LTS) / x86_64  OK    OK    OK  UNNEEDED, same version is already published
tokay2Windows Server 2012 R2 Standard / x64  OK    OK    OK    OK  UNNEEDED, same version is already published
machv2macOS 10.14.6 Mojave / x86_64  OK    OK    OK    OK  UNNEEDED, same version is already published

Summary

Package: keggorthology
Version: 2.44.0
Command: /Library/Frameworks/R.framework/Versions/Current/Resources/bin/R CMD build --keep-empty-dirs --no-resave-data keggorthology
StartedAt: 2021-09-19 12:47:04 -0400 (Sun, 19 Sep 2021)
EndedAt: 2021-09-19 12:47:38 -0400 (Sun, 19 Sep 2021)
EllapsedTime: 34.4 seconds
RetCode: 0
Status:   OK  
PackageFile: keggorthology_2.44.0.tar.gz
PackageFileSize: 683.8 KiB

Command output

##############################################################################
##############################################################################
###
### Running command:
###
###   /Library/Frameworks/R.framework/Versions/Current/Resources/bin/R CMD build --keep-empty-dirs --no-resave-data keggorthology
###
##############################################################################
##############################################################################


* checking for file ‘keggorthology/DESCRIPTION’ ... OK
* preparing ‘keggorthology’:
* checking DESCRIPTION meta-information ... OK
* installing the package to build vignettes
* creating vignettes ... OK
* checking for LF line-endings in source and make files and shell scripts
* checking for empty or unneeded directories
* looking to see if a ‘data/datalist’ file should be added
* building ‘keggorthology_2.44.0.tar.gz’