Multiple platform build/check report for BioC 3.13

This page was generated on 2021-07-23 15:07:02 -0400 (Fri, 23 Jul 2021).

Approx. Package Snapshot Date (git pull): 2021-07-22 04:50:13 -0400 (Thu, 22 Jul 2021)

HostnameOSArch (*)Platform label (**)R versionInstalled pkgs
nebbiolo1Linux (Ubuntu 20.04.2 LTS)x86_64x86_64-linux-gnu4.1.0 (2021-05-18) -- "Camp Pontanezen" 4059
tokay2Windows Server 2012 R2 Standardx64mingw32 / x86_64-w64-mingw324.1.0 (2021-05-18) -- "Camp Pontanezen" 3977
machv2macOS 10.14.6 Mojavex86_64x86_64-apple-darwin18.7.04.1.0 (2021-05-18) -- "Camp Pontanezen" 4007
Click on any hostname to see more info about the system (e.g. compilers)      (*) as reported by 'uname -p', except on Windows and Mac OS X      (**) as reported by 'gcc -v'

Package status is indicated by one of the following glyphs
  TIMEOUT  
INSTALL, BUILD, CHECK or BUILD BIN of package took more than 40 minutes
  ERROR  
Bad DESCRIPTION file or INSTALL, BUILD or BUILD BIN of package failed, or CHECK produced errors
  WARNINGS  
CHECK of package produced warnings
  OK  
INSTALL, BUILD, CHECK or BUILD BIN of package was OK
skipped
CHECK or BUILD BIN of package was skipped because the BUILD step failed
  NA  
BUILD, CHECK or BUILD BIN result is not available because of an anomaly in the Build System
Click on any glyph in the report below to access the detailed report.
Package propagation status is indicated by one of the following LEDs
YES YES: Package was propagated because it didn't previously exist or version was bumped
NO NO: Package was not propagated because of a problem (impossible dependencies, or version lower than what is already propagated)
UNNEEDED UNNEEDED: Package was not propagated because it is already in the repository with this version. A version bump is required in order to propagate it

A crossed-out package name indicates the package is deprecated


QUICK STATSOS / ArchINSTALLBUILDCHECKBUILD BIN
nebbiolo1Linux (Ubuntu 20.04.2 LTS) / x86_64
0232018
0671974
1343141625
tokay2Windows Server 2012 R2 Standard / x64
0251987
1771934
9573031565
021932
machv2macOS 10.14.6 Mojave / x86_64
0262008
1751958
1402971620
001958
A
ABCDEFGHIJKLMNOPQRSTUVWXYZ
Package 1/2041HostnameOS / ArchINSTALLBUILDCHECKBUILD BIN
a4 1.40.0  (landing page)
Laure Cougnaud
Last Commit: f5e7837
Last Changed Date: 2021-05-19 11:48:29 -0400
nebbiolo1Linux (Ubuntu 20.04.2 LTS) / x86_64  OK    OK    OK  UNNEEDED, same version is already published
tokay2Windows Server 2012 R2 Standard / x64  OK    OK    OK    OK  UNNEEDED, same version is already published
machv2macOS 10.14.6 Mojave / x86_64  OK    OK    OK    OK  UNNEEDED, same version is already published
Package 2/2041HostnameOS / ArchINSTALLBUILDCHECKBUILD BIN
a4Base 1.40.0  (landing page)
Laure Cougnaud
Last Commit: b2cd105
Last Changed Date: 2021-05-19 11:48:16 -0400
nebbiolo1Linux (Ubuntu 20.04.2 LTS) / x86_64  OK    OK    OK  UNNEEDED, same version is already published
tokay2Windows Server 2012 R2 Standard / x64  OK    OK    OK    OK  UNNEEDED, same version is already published
machv2macOS 10.14.6 Mojave / x86_64  OK    OK    OK    OK  UNNEEDED, same version is already published
Package 3/2041HostnameOS / ArchINSTALLBUILDCHECKBUILD BIN
a4Classif 1.40.0  (landing page)
Laure Cougnaud
Last Commit: 8fb3404
Last Changed Date: 2021-05-19 11:48:21 -0400
nebbiolo1Linux (Ubuntu 20.04.2 LTS) / x86_64  OK    OK    OK  UNNEEDED, same version is already published
tokay2Windows Server 2012 R2 Standard / x64  OK    OK    OK    OK  UNNEEDED, same version is already published
machv2macOS 10.14.6 Mojave / x86_64  OK    OK    OK    OK  UNNEEDED, same version is already published
Package 4/2041HostnameOS / ArchINSTALLBUILDCHECKBUILD BIN
a4Core 1.40.0  (landing page)
Laure Cougnaud
Last Commit: e1ca087
Last Changed Date: 2021-05-19 11:48:24 -0400
nebbiolo1Linux (Ubuntu 20.04.2 LTS) / x86_64  OK    OK    OK  UNNEEDED, same version is already published
tokay2Windows Server 2012 R2 Standard / x64  OK    OK    OK    OK  UNNEEDED, same version is already published
machv2macOS 10.14.6 Mojave / x86_64  OK    OK    OK    OK  UNNEEDED, same version is already published
Package 5/2041HostnameOS / ArchINSTALLBUILDCHECKBUILD BIN
a4Preproc 1.40.0  (landing page)
Laure Cougnaud
Last Commit: 0fa3d10
Last Changed Date: 2021-05-19 11:48:19 -0400
nebbiolo1Linux (Ubuntu 20.04.2 LTS) / x86_64  OK    OK    OK  UNNEEDED, same version is already published
tokay2Windows Server 2012 R2 Standard / x64  OK    OK    OK    OK  UNNEEDED, same version is already published
machv2macOS 10.14.6 Mojave / x86_64  OK    OK    OK    OK  UNNEEDED, same version is already published
Package 6/2041HostnameOS / ArchINSTALLBUILDCHECKBUILD BIN
a4Reporting 1.40.0  (landing page)
Laure Cougnaud
Last Commit: 863239f
Last Changed Date: 2021-05-19 11:48:27 -0400
nebbiolo1Linux (Ubuntu 20.04.2 LTS) / x86_64  OK    OK    OK  UNNEEDED, same version is already published
tokay2Windows Server 2012 R2 Standard / x64  OK    OK    OK    OK  UNNEEDED, same version is already published
machv2macOS 10.14.6 Mojave / x86_64  OK    OK    OK    OK  UNNEEDED, same version is already published
Package 7/2041HostnameOS / ArchINSTALLBUILDCHECKBUILD BIN
ABAEnrichment 1.22.0  (landing page)
Steffi Grote
Last Commit: fcc29c2
Last Changed Date: 2021-05-19 12:15:03 -0400
nebbiolo1Linux (Ubuntu 20.04.2 LTS) / x86_64  OK    OK    OK  UNNEEDED, same version is already published
tokay2Windows Server 2012 R2 Standard / x64  OK    OK    OK    OK  UNNEEDED, same version is already published
machv2macOS 10.14.6 Mojave / x86_64  OK    OK    OK    OK  UNNEEDED, same version is already published
Package 8/2041HostnameOS / ArchINSTALLBUILDCHECKBUILD BIN
ABarray 1.60.0  (landing page)
Yongming Andrew Sun
Last Commit: 7e6ed61
Last Changed Date: 2021-05-19 11:37:42 -0400
nebbiolo1Linux (Ubuntu 20.04.2 LTS) / x86_64  OK    OK    OK  UNNEEDED, same version is already published
tokay2Windows Server 2012 R2 Standard / x64  OK    OK    OK    OK  UNNEEDED, same version is already published
machv2macOS 10.14.6 Mojave / x86_64  OK    OK    OK    OK  UNNEEDED, same version is already published
Package 9/2041HostnameOS / ArchINSTALLBUILDCHECKBUILD BIN
abseqR 1.10.0  (landing page)
JiaHong Fong
Last Commit: 9ad3c88
Last Changed Date: 2021-05-19 12:39:19 -0400
nebbiolo1Linux (Ubuntu 20.04.2 LTS) / x86_64  OK    OK    OK  UNNEEDED, same version is already published
tokay2Windows Server 2012 R2 Standard / x64  OK    OK    OK    OK  UNNEEDED, same version is already published
machv2macOS 10.14.6 Mojave / x86_64  OK    OK    OK    OK  UNNEEDED, same version is already published
Package 10/2041HostnameOS / ArchINSTALLBUILDCHECKBUILD BIN
ABSSeq 1.46.0  (landing page)
Wentao Yang
Last Commit: aae4a91
Last Changed Date: 2021-05-19 12:04:01 -0400
nebbiolo1Linux (Ubuntu 20.04.2 LTS) / x86_64  OK    OK    OK  UNNEEDED, same version is already published
tokay2Windows Server 2012 R2 Standard / x64  OK    OK    OK    OK  UNNEEDED, same version is already published
machv2macOS 10.14.6 Mojave / x86_64  OK    OK    OK    OK  UNNEEDED, same version is already published
Package 11/2041HostnameOS / ArchINSTALLBUILDCHECKBUILD BIN
acde 1.22.0  (landing page)
Juan Pablo Acosta
Last Commit: db084f5
Last Changed Date: 2021-05-19 12:13:55 -0400
nebbiolo1Linux (Ubuntu 20.04.2 LTS) / x86_64  OK    OK    OK  UNNEEDED, same version is already published
tokay2Windows Server 2012 R2 Standard / x64  OK    OK    OK    OK  UNNEEDED, same version is already published
machv2macOS 10.14.6 Mojave / x86_64  OK    OK    OK    OK  UNNEEDED, same version is already published
Package 12/2041HostnameOS / ArchINSTALLBUILDCHECKBUILD BIN
ACE 1.10.0  (landing page)
Jos B Poell
Last Commit: 791411a
Last Changed Date: 2021-05-19 12:36:49 -0400
nebbiolo1Linux (Ubuntu 20.04.2 LTS) / x86_64  OK    OK    OK  UNNEEDED, same version is already published
tokay2Windows Server 2012 R2 Standard / x64  OK    OK    OK    OK  UNNEEDED, same version is already published
machv2macOS 10.14.6 Mojave / x86_64  OK    OK    OK    OK  UNNEEDED, same version is already published
Package 13/2041HostnameOS / ArchINSTALLBUILDCHECKBUILD BIN
aCGH 1.70.0  (landing page)
Peter Dimitrov
Last Commit: e412576
Last Changed Date: 2021-05-19 11:34:31 -0400
nebbiolo1Linux (Ubuntu 20.04.2 LTS) / x86_64  OK    OK    OK  UNNEEDED, same version is already published
tokay2Windows Server 2012 R2 Standard / x64  OK    OK    OK    OK  UNNEEDED, same version is already published
machv2macOS 10.14.6 Mojave / x86_64  OK    OK    OK    OK  UNNEEDED, same version is already published
Package 14/2041HostnameOS / ArchINSTALLBUILDCHECKBUILD BIN
ACME 2.48.0  (landing page)
Sean Davis
Last Commit: ae84fa6
Last Changed Date: 2021-05-19 11:38:59 -0400
nebbiolo1Linux (Ubuntu 20.04.2 LTS) / x86_64  OK    OK    WARNINGS  UNNEEDED, same version is already published
tokay2Windows Server 2012 R2 Standard / x64  OK    OK    WARNINGS    OK  UNNEEDED, same version is already published
machv2macOS 10.14.6 Mojave / x86_64  OK    OK    OK    OK  UNNEEDED, same version is already published
Package 15/2041HostnameOS / ArchINSTALLBUILDCHECKBUILD BIN
ADaCGH2 2.32.0  (landing page)
Ramon Diaz-Uriarte
Last Commit: 43bdeb8
Last Changed Date: 2021-05-19 11:46:43 -0400
nebbiolo1Linux (Ubuntu 20.04.2 LTS) / x86_64  OK    OK    OK  UNNEEDED, same version is already published
tokay2Windows Server 2012 R2 Standard / x64  OK    OK    OK    OK  UNNEEDED, same version is already published
machv2macOS 10.14.6 Mojave / x86_64  OK    OK    OK    OK  UNNEEDED, same version is already published
Package 16/2041HostnameOS / ArchINSTALLBUILDCHECKBUILD BIN
ADAM 1.8.0  (landing page)
Jose Luiz Rybarczyk Filho
Last Commit: e062ab5
Last Changed Date: 2021-05-19 12:39:40 -0400
nebbiolo1Linux (Ubuntu 20.04.2 LTS) / x86_64  OK    OK    OK  UNNEEDED, same version is already published
tokay2Windows Server 2012 R2 Standard / x64  OK    OK    OK    OK  UNNEEDED, same version is already published
machv2macOS 10.14.6 Mojave / x86_64  OK    OK    OK    OK  UNNEEDED, same version is already published
Package 17/2041HostnameOS / ArchINSTALLBUILDCHECKBUILD BIN
ADAMgui 1.8.0  (landing page)
Jose Luiz Rybarczyk Filho
Last Commit: 01ab40b
Last Changed Date: 2021-05-19 12:43:04 -0400
nebbiolo1Linux (Ubuntu 20.04.2 LTS) / x86_64  OK    OK    OK  UNNEEDED, same version is already published
tokay2Windows Server 2012 R2 Standard / x64  OK    OK    OK    OK  UNNEEDED, same version is already published
machv2macOS 10.14.6 Mojave / x86_64  OK    OK    OK    OK  UNNEEDED, same version is already published
Package 18/2041HostnameOS / ArchINSTALLBUILDCHECKBUILD BIN
adductomicsR 1.8.0  (landing page)
Josie Hayes
Last Commit: 778448c
Last Changed Date: 2021-05-19 12:40:36 -0400
nebbiolo1Linux (Ubuntu 20.04.2 LTS) / x86_64  OK    OK    WARNINGS  UNNEEDED, same version is already published
tokay2Windows Server 2012 R2 Standard / x64  OK    OK    WARNINGS    OK  UNNEEDED, same version is already published
machv2macOS 10.14.6 Mojave / x86_64  OK    OK    WARNINGS    OK  UNNEEDED, same version is already published
Package 19/2041HostnameOS / ArchINSTALLBUILDCHECKBUILD BIN
ADImpute 1.2.0  (landing page)
Ana Carolina Leote
Last Commit: 7c93ba7
Last Changed Date: 2021-05-19 12:57:20 -0400
nebbiolo1Linux (Ubuntu 20.04.2 LTS) / x86_64  OK    OK    WARNINGS  UNNEEDED, same version is already published
tokay2Windows Server 2012 R2 Standard / x64  OK    OK    WARNINGS    OK  UNNEEDED, same version is already published
machv2macOS 10.14.6 Mojave / x86_64  OK    OK    WARNINGS    OK  UNNEEDED, same version is already published
Package 20/2041HostnameOS / ArchINSTALLBUILDCHECKBUILD BIN
adSplit 1.62.0  (landing page)
Claudio Lottaz
Last Commit: 2181a05
Last Changed Date: 2021-05-19 11:37:05 -0400
nebbiolo1Linux (Ubuntu 20.04.2 LTS) / x86_64  OK    OK    OK  UNNEEDED, same version is already published
tokay2Windows Server 2012 R2 Standard / x64  OK    OK    OK    OK  UNNEEDED, same version is already published
machv2macOS 10.14.6 Mojave / x86_64  OK    OK    OK    OK  UNNEEDED, same version is already published
Package 21/2041HostnameOS / ArchINSTALLBUILDCHECKBUILD BIN
AffiXcan 1.10.0  (landing page)
Alessandro Lussana
Last Commit: 80665cf
Last Changed Date: 2021-05-19 12:38:25 -0400
nebbiolo1Linux (Ubuntu 20.04.2 LTS) / x86_64  OK    OK    OK  UNNEEDED, same version is already published
tokay2Windows Server 2012 R2 Standard / x64  OK    OK    OK    OK  UNNEEDED, same version is already published
machv2macOS 10.14.6 Mojave / x86_64  OK    OK    OK    OK  UNNEEDED, same version is already published
Package 22/2041HostnameOS / ArchINSTALLBUILDCHECKBUILD BIN
affxparser 1.64.0  (landing page)
Kasper Daniel Hansen
Last Commit: 414f49e
Last Changed Date: 2021-05-19 11:36:19 -0400
nebbiolo1Linux (Ubuntu 20.04.2 LTS) / x86_64  OK    OK    WARNINGS  UNNEEDED, same version is already published
tokay2Windows Server 2012 R2 Standard / x64  OK    OK    WARNINGS    OK  UNNEEDED, same version is already published
machv2macOS 10.14.6 Mojave / x86_64  OK    OK    WARNINGS    OK  UNNEEDED, same version is already published
Package 23/2041HostnameOS / ArchINSTALLBUILDCHECKBUILD BIN
affy 1.70.0  (landing page)
Rafael A. Irizarry
Last Commit: 9c32d61
Last Changed Date: 2021-05-19 11:32:58 -0400
nebbiolo1Linux (Ubuntu 20.04.2 LTS) / x86_64  OK    OK    WARNINGS  UNNEEDED, same version is already published
tokay2Windows Server 2012 R2 Standard / x64  OK    OK    WARNINGS    OK  UNNEEDED, same version is already published
machv2macOS 10.14.6 Mojave / x86_64  OK    OK    WARNINGS    OK  UNNEEDED, same version is already published
Package 24/2041HostnameOS / ArchINSTALLBUILDCHECKBUILD BIN
affycomp 1.68.0  (landing page)
Rafael A. Irizarry
Last Commit: 8b02704
Last Changed Date: 2021-05-19 11:33:13 -0400
nebbiolo1Linux (Ubuntu 20.04.2 LTS) / x86_64  OK    OK    OK  UNNEEDED, same version is already published
tokay2Windows Server 2012 R2 Standard / x64  OK    OK    OK    OK  UNNEEDED, same version is already published
machv2macOS 10.14.6 Mojave / x86_64  OK    OK    OK    OK  UNNEEDED, same version is already published
Package 25/2041HostnameOS / ArchINSTALLBUILDCHECKBUILD BIN
AffyCompatible 1.52.0  (landing page)
Martin Morgan
Last Commit: 7dc4c06
Last Changed Date: 2021-05-19 11:40:46 -0400
nebbiolo1Linux (Ubuntu 20.04.2 LTS) / x86_64  OK    OK    OK  UNNEEDED, same version is already published
tokay2Windows Server 2012 R2 Standard / x64  OK    OK    OK    OK  UNNEEDED, same version is already published
machv2macOS 10.14.6 Mojave / x86_64  OK    OK    OK    OK  UNNEEDED, same version is already published
Package 26/2041HostnameOS / ArchINSTALLBUILDCHECKBUILD BIN
affyContam 1.50.0  (landing page)
V. Carey
Last Commit: bb3b0e7
Last Changed Date: 2021-05-19 11:42:08 -0400
nebbiolo1Linux (Ubuntu 20.04.2 LTS) / x86_64  OK    OK    OK  UNNEEDED, same version is already published
tokay2Windows Server 2012 R2 Standard / x64  OK    OK    OK    OK  UNNEEDED, same version is already published
machv2macOS 10.14.6 Mojave / x86_64  OK    OK    OK    OK  UNNEEDED, same version is already published
Package 27/2041HostnameOS / ArchINSTALLBUILDCHECKBUILD BIN
affycoretools 1.64.0  (landing page)
James W. MacDonald
Last Commit: ed4f10c
Last Changed Date: 2021-05-19 11:36:33 -0400
nebbiolo1Linux (Ubuntu 20.04.2 LTS) / x86_64  OK    OK    WARNINGS  UNNEEDED, same version is already published
tokay2Windows Server 2012 R2 Standard / x64  OK    OK    WARNINGS    OK  UNNEEDED, same version is already published
machv2macOS 10.14.6 Mojave / x86_64  OK    OK    WARNINGS    OK  UNNEEDED, same version is already published
Package 28/2041HostnameOS / ArchINSTALLBUILDCHECKBUILD BIN
AffyExpress 1.58.0  (landing page)
Xuejun Arthur Li
Last Commit: 3b0f72d
Last Changed Date: 2021-05-19 11:39:35 -0400
nebbiolo1Linux (Ubuntu 20.04.2 LTS) / x86_64  OK    ERROR  skipped
tokay2Windows Server 2012 R2 Standard / x64  OK    ERROR  skippedskipped
machv2macOS 10.14.6 Mojave / x86_64  OK    ERROR  skippedskipped
Package 29/2041HostnameOS / ArchINSTALLBUILDCHECKBUILD BIN
affyILM 1.44.0  (landing page)
Myriam Kroll and Fabrice Berger
Last Commit: 5d0305d
Last Changed Date: 2021-05-19 11:45:39 -0400
nebbiolo1Linux (Ubuntu 20.04.2 LTS) / x86_64  OK    OK    OK  UNNEEDED, same version is already published
tokay2Windows Server 2012 R2 Standard / x64  OK    OK    OK    OK  UNNEEDED, same version is already published
machv2macOS 10.14.6 Mojave / x86_64  OK    OK    OK    OK  UNNEEDED, same version is already published
Package 30/2041HostnameOS / ArchINSTALLBUILDCHECKBUILD BIN
affyio 1.62.0  (landing page)
Ben Bolstad
Last Commit: caa75be
Last Changed Date: 2021-05-19 11:32:52 -0400
nebbiolo1Linux (Ubuntu 20.04.2 LTS) / x86_64  OK    OK    WARNINGS  UNNEEDED, same version is already published
tokay2Windows Server 2012 R2 Standard / x64  OK    OK    WARNINGS    OK  UNNEEDED, same version is already published
machv2macOS 10.14.6 Mojave / x86_64  OK    OK    OK    OK  UNNEEDED, same version is already published
Package 31/2041HostnameOS / ArchINSTALLBUILDCHECKBUILD BIN
affylmGUI 1.66.0  (landing page)
Gordon Smyth
Last Commit: ff6d6f1
Last Changed Date: 2021-05-19 11:34:17 -0400
nebbiolo1Linux (Ubuntu 20.04.2 LTS) / x86_64  OK    OK    OK  UNNEEDED, same version is already published
tokay2Windows Server 2012 R2 Standard / x64  OK    OK    OK    OK  UNNEEDED, same version is already published
machv2macOS 10.14.6 Mojave / x86_64  OK    OK    OK    OK  UNNEEDED, same version is already published
Package 32/2041HostnameOS / ArchINSTALLBUILDCHECKBUILD BIN
affyPara 1.52.0  (landing page)
Markus Schmidberger
Last Commit: ff283d5
Last Changed Date: 2021-05-19 11:40:32 -0400
nebbiolo1Linux (Ubuntu 20.04.2 LTS) / x86_64  ERROR    ERROR  skipped
tokay2Windows Server 2012 R2 Standard / x64  ERROR    ERROR  skippedskipped
machv2macOS 10.14.6 Mojave / x86_64  ERROR    ERROR  skippedskipped
Package 33/2041HostnameOS / ArchINSTALLBUILDCHECKBUILD BIN
affyPLM 1.68.0  (landing page)
Ben Bolstad
Last Commit: 492a50a
Last Changed Date: 2021-05-19 11:33:35 -0400
nebbiolo1Linux (Ubuntu 20.04.2 LTS) / x86_64  OK    OK    WARNINGS  UNNEEDED, same version is already published
tokay2Windows Server 2012 R2 Standard / x64  OK    OK    OK    OK  UNNEEDED, same version is already published
machv2macOS 10.14.6 Mojave / x86_64  OK    OK    OK    OK  UNNEEDED, same version is already published
Package 34/2041HostnameOS / ArchINSTALLBUILDCHECKBUILD BIN
affyQCReport 1.70.0  (landing page)
Craig Parman
Last Commit: 9e49c8c
Last Changed Date: 2021-05-19 11:36:05 -0400
nebbiolo1Linux (Ubuntu 20.04.2 LTS) / x86_64  ERROR    ERROR  skipped
tokay2Windows Server 2012 R2 Standard / x64  ERROR    ERROR  skippedskipped
machv2macOS 10.14.6 Mojave / x86_64  ERROR    ERROR  skippedskipped
Package 35/2041HostnameOS / ArchINSTALLBUILDCHECKBUILD BIN
AffyRNADegradation 1.38.0  (landing page)
Mario Fasold
Last Commit: fee09ea
Last Changed Date: 2021-05-19 11:51:02 -0400
nebbiolo1Linux (Ubuntu 20.04.2 LTS) / x86_64  OK    OK    OK  UNNEEDED, same version is already published
tokay2Windows Server 2012 R2 Standard / x64  OK    OK    OK    OK  UNNEEDED, same version is already published
machv2macOS 10.14.6 Mojave / x86_64  OK    OK    OK    OK  UNNEEDED, same version is already published
Package 36/2041HostnameOS / ArchINSTALLBUILDCHECKBUILD BIN
AGDEX 1.40.0  (landing page)
Cuilan lani Gao
Last Commit: a2c2223
Last Changed Date: 2021-05-19 11:50:01 -0400
nebbiolo1Linux (Ubuntu 20.04.2 LTS) / x86_64  OK    OK    OK  UNNEEDED, same version is already published
tokay2Windows Server 2012 R2 Standard / x64  OK    OK    OK    OK  UNNEEDED, same version is already published
machv2macOS 10.14.6 Mojave / x86_64  OK    OK    OK    OK  UNNEEDED, same version is already published
Package 37/2041HostnameOS / ArchINSTALLBUILDCHECKBUILD BIN
aggregateBioVar 1.2.0  (landing page)
Jason Ratcliff
Last Commit: 70ba9dd
Last Changed Date: 2021-05-19 12:56:03 -0400
nebbiolo1Linux (Ubuntu 20.04.2 LTS) / x86_64  OK    OK    OK  UNNEEDED, same version is already published
tokay2Windows Server 2012 R2 Standard / x64  OK    OK    OK    OK  UNNEEDED, same version is already published
machv2macOS 10.14.6 Mojave / x86_64  OK    OK    OK    OK  UNNEEDED, same version is already published
Package 38/2041HostnameOS / ArchINSTALLBUILDCHECKBUILD BIN
agilp 3.24.0  (landing page)
Benny Chain
Last Commit: 3346a25
Last Changed Date: 2021-05-19 11:54:07 -0400
nebbiolo1Linux (Ubuntu 20.04.2 LTS) / x86_64  OK    OK    OK  UNNEEDED, same version is already published
tokay2Windows Server 2012 R2 Standard / x64  OK    OK    OK    OK  UNNEEDED, same version is already published
machv2macOS 10.14.6 Mojave / x86_64  OK    OK    OK    OK  UNNEEDED, same version is already published
Package 39/2041HostnameOS / ArchINSTALLBUILDCHECKBUILD BIN
AgiMicroRna 2.42.0  (landing page)
Pedro Lopez-Romero
Last Commit: 5f453f7
Last Changed Date: 2021-05-19 11:43:52 -0400
nebbiolo1Linux (Ubuntu 20.04.2 LTS) / x86_64  OK    OK    OK  UNNEEDED, same version is already published
tokay2Windows Server 2012 R2 Standard / x64  OK    OK    OK    OK  UNNEEDED, same version is already published
machv2macOS 10.14.6 Mojave / x86_64  OK    OK    OK    OK  UNNEEDED, same version is already published
Package 40/2041HostnameOS / ArchINSTALLBUILDCHECKBUILD BIN
AIMS 1.24.0  (landing page)
Eric R Paquet
Last Commit: 78a7be5
Last Changed Date: 2021-05-19 12:09:52 -0400
nebbiolo1Linux (Ubuntu 20.04.2 LTS) / x86_64  OK    OK    OK  UNNEEDED, same version is already published
tokay2Windows Server 2012 R2 Standard / x64  OK    OK    OK    OK  UNNEEDED, same version is already published
machv2macOS 10.14.6 Mojave / x86_64  OK    OK    OK    OK  UNNEEDED, same version is already published
Package 41/2041HostnameOS / ArchINSTALLBUILDCHECKBUILD BIN
airpart 1.0.0  (landing page)
Wancen Mu
Last Commit: 7af1184
Last Changed Date: 2021-05-19 13:01:21 -0400
nebbiolo1Linux (Ubuntu 20.04.2 LTS) / x86_64  OK    OK    OK  UNNEEDED, same version is already published
tokay2Windows Server 2012 R2 Standard / x64  OK    OK    OK    OK  UNNEEDED, same version is already published
machv2macOS 10.14.6 Mojave / x86_64  OK    OK    OK    OK  UNNEEDED, same version is already published
Package 42/2041HostnameOS / ArchINSTALLBUILDCHECKBUILD BIN
ALDEx2 1.24.0  (landing page)
Greg Gloor
Last Commit: a41b778
Last Changed Date: 2021-05-19 12:08:00 -0400
nebbiolo1Linux (Ubuntu 20.04.2 LTS) / x86_64  OK    OK    OK  UNNEEDED, same version is already published
tokay2Windows Server 2012 R2 Standard / x64  OK    OK    OK    OK  UNNEEDED, same version is already published
machv2macOS 10.14.6 Mojave / x86_64  OK    OK    OK    OK  UNNEEDED, same version is already published
Package 43/2041HostnameOS / ArchINSTALLBUILDCHECKBUILD BIN
alevinQC 1.8.0  (landing page)
Charlotte Soneson
Last Commit: b6880ce
Last Changed Date: 2021-05-19 12:41:11 -0400
nebbiolo1Linux (Ubuntu 20.04.2 LTS) / x86_64  OK    OK    OK  UNNEEDED, same version is already published
tokay2Windows Server 2012 R2 Standard / x64  OK    OK    OK    OK  UNNEEDED, same version is already published
machv2macOS 10.14.6 Mojave / x86_64  OK    OK    OK    OK  UNNEEDED, same version is already published
Package 44/2041HostnameOS / ArchINSTALLBUILDCHECKBUILD BIN
AllelicImbalance 1.30.0  (landing page)
Jesper R Gadin
Last Commit: 5e00a1f
Last Changed Date: 2021-05-19 12:00:58 -0400
nebbiolo1Linux (Ubuntu 20.04.2 LTS) / x86_64  OK    OK    OK  UNNEEDED, same version is already published
tokay2Windows Server 2012 R2 Standard / x64  OK    OK    OK    OK  UNNEEDED, same version is already published
machv2macOS 10.14.6 Mojave / x86_64  OK    OK    OK    OK  UNNEEDED, same version is already published
Package 45/2041HostnameOS / ArchINSTALLBUILDCHECKBUILD BIN
AlphaBeta 1.6.0  (landing page)
Yadollah Shahryary Dizaji
Last Commit: 0b30919
Last Changed Date: 2021-05-19 12:45:20 -0400
nebbiolo1Linux (Ubuntu 20.04.2 LTS) / x86_64  OK    OK    OK  UNNEEDED, same version is already published
tokay2Windows Server 2012 R2 Standard / x64  OK    OK    OK    OK  UNNEEDED, same version is already published
machv2macOS 10.14.6 Mojave / x86_64  OK    OK    OK    OK  UNNEEDED, same version is already published
Package 46/2041HostnameOS / ArchINSTALLBUILDCHECKBUILD BIN
alpine 1.18.0  (landing page)
Michael Love
Last Commit: 06257d2
Last Changed Date: 2021-05-19 12:22:33 -0400
nebbiolo1Linux (Ubuntu 20.04.2 LTS) / x86_64  OK    OK    OK  UNNEEDED, same version is already published
tokay2Windows Server 2012 R2 Standard / x64  OK    OK    OK    OK  UNNEEDED, same version is already published
machv2macOS 10.14.6 Mojave / x86_64  OK    OK    OK    OK  UNNEEDED, same version is already published
Package 47/2041HostnameOS / ArchINSTALLBUILDCHECKBUILD BIN
ALPS 1.6.0  (landing page)
Venu Thatikonda
Last Commit: 26c0256
Last Changed Date: 2021-05-19 12:47:11 -0400
nebbiolo1Linux (Ubuntu 20.04.2 LTS) / x86_64  OK    ERROR  skipped
tokay2Windows Server 2012 R2 Standard / x64  OK    ERROR  skippedskipped
machv2macOS 10.14.6 Mojave / x86_64  OK    ERROR  skippedskipped
Package 48/2041HostnameOS / ArchINSTALLBUILDCHECKBUILD BIN
AlpsNMR 3.2.0  (landing page)
Luis Fernandez
Last Commit: 042b3d3
Last Changed Date: 2021-05-19 12:57:58 -0400
nebbiolo1Linux (Ubuntu 20.04.2 LTS) / x86_64  OK    OK    ERROR  
tokay2Windows Server 2012 R2 Standard / x64  OK    OK    ERROR    OK  
machv2macOS 10.14.6 Mojave / x86_64  OK    OK    ERROR    OK  
Package 49/2041HostnameOS / ArchINSTALLBUILDCHECKBUILD BIN
alsace 1.28.0  (landing page)
Ron Wehrens
Last Commit: 03344a1
Last Changed Date: 2021-05-19 12:03:18 -0400
nebbiolo1Linux (Ubuntu 20.04.2 LTS) / x86_64  OK    OK    OK  UNNEEDED, same version is already published
tokay2Windows Server 2012 R2 Standard / x64  OK    OK    OK    OK  UNNEEDED, same version is already published
machv2macOS 10.14.6 Mojave / x86_64  OK    OK    OK    OK  UNNEEDED, same version is already published
Package 50/2041HostnameOS / ArchINSTALLBUILDCHECKBUILD BIN
altcdfenvs 2.54.0  (landing page)
Laurent Gautier
Last Commit: fbe5728
Last Changed Date: 2021-05-19 11:34:10 -0400
nebbiolo1Linux (Ubuntu 20.04.2 LTS) / x86_64  OK    OK    OK  UNNEEDED, same version is already published
tokay2Windows Server 2012 R2 Standard / x64  OK    OK    OK    OK  UNNEEDED, same version is already published
machv2macOS 10.14.6 Mojave / x86_64  OK    OK    OK    OK  UNNEEDED, same version is already published
Package 51/2041HostnameOS / ArchINSTALLBUILDCHECKBUILD BIN
AMARETTO 1.8.0  (landing page)
Olivier Gevaert
Last Commit: 3a94300
Last Changed Date: 2021-05-19 12:42:00 -0400
nebbiolo1Linux (Ubuntu 20.04.2 LTS) / x86_64  OK    OK    OK  UNNEEDED, same version is already published
tokay2Windows Server 2012 R2 Standard / x64  OK    OK    OK    OK  UNNEEDED, same version is already published
machv2macOS 10.14.6 Mojave / x86_64  OK    OK    OK    OK  UNNEEDED, same version is already published
Package 52/2041HostnameOS / ArchINSTALLBUILDCHECKBUILD BIN
AMOUNTAIN 1.18.0  (landing page)
Dong Li
Last Commit: b3cec6e
Last Changed Date: 2021-05-19 12:21:36 -0400
nebbiolo1Linux (Ubuntu 20.04.2 LTS) / x86_64  OK    OK    OK  UNNEEDED, same version is already published
tokay2Windows Server 2012 R2 Standard / x64  OK    OK    OK    OK  UNNEEDED, same version is already published
machv2macOS 10.14.6 Mojave / x86_64  OK    OK    OK    OK  UNNEEDED, same version is already published
Package 53/2041HostnameOS / ArchINSTALLBUILDCHECKBUILD BIN
amplican 1.14.0  (landing page)
Eivind Valen
Last Commit: e994104
Last Changed Date: 2021-05-19 12:30:12 -0400
nebbiolo1Linux (Ubuntu 20.04.2 LTS) / x86_64  OK    OK    OK  UNNEEDED, same version is already published
tokay2Windows Server 2012 R2 Standard / x64  OK    OK    OK    OK  UNNEEDED, same version is already published
machv2macOS 10.14.6 Mojave / x86_64  OK    OK    OK    OK  UNNEEDED, same version is already published
Package 54/2041HostnameOS / ArchINSTALLBUILDCHECKBUILD BIN
Anaquin 2.16.0  (landing page)
Ted Wong
Last Commit: a2406fb
Last Changed Date: 2021-05-19 12:22:36 -0400
nebbiolo1Linux (Ubuntu 20.04.2 LTS) / x86_64  OK    OK    OK  UNNEEDED, same version is already published
tokay2Windows Server 2012 R2 Standard / x64  OK    OK    OK    OK  UNNEEDED, same version is already published
machv2macOS 10.14.6 Mojave / x86_64  OK    OK    OK    OK  UNNEEDED, same version is already published
Package 55/2041HostnameOS / ArchINSTALLBUILDCHECKBUILD BIN
ANCOMBC 1.2.0  (landing page)
Huang Lin
Last Commit: a2463e0
Last Changed Date: 2021-05-19 12:55:21 -0400
nebbiolo1Linux (Ubuntu 20.04.2 LTS) / x86_64  OK    OK    OK  UNNEEDED, same version is already published
tokay2Windows Server 2012 R2 Standard / x64  OK    OK    OK    OK  UNNEEDED, same version is already published
machv2macOS 10.14.6 Mojave / x86_64  OK    OK    OK    OK  UNNEEDED, same version is already published
Package 56/2041HostnameOS / ArchINSTALLBUILDCHECKBUILD BIN
AneuFinder 1.20.0  (landing page)
Aaron Taudt
Last Commit: 1c7aed6
Last Changed Date: 2021-05-19 12:19:05 -0400
nebbiolo1Linux (Ubuntu 20.04.2 LTS) / x86_64  OK    OK    OK  UNNEEDED, same version is already published
tokay2Windows Server 2012 R2 Standard / x64  OK    OK    OK    OK  UNNEEDED, same version is already published
machv2macOS 10.14.6 Mojave / x86_64  OK    OK    OK    OK  UNNEEDED, same version is already published
Package 57/2041HostnameOS / ArchINSTALLBUILDCHECKBUILD BIN
ANF 1.14.0  (landing page)
Tianle Ma
Last Commit: cec6e3e
Last Changed Date: 2021-05-19 12:30:57 -0400
nebbiolo1Linux (Ubuntu 20.04.2 LTS) / x86_64  OK    OK    OK  UNNEEDED, same version is already published
tokay2Windows Server 2012 R2 Standard / x64  OK    OK    OK    OK  UNNEEDED, same version is already published
machv2macOS 10.14.6 Mojave / x86_64  OK    OK    OK    OK  UNNEEDED, same version is already published
Package 58/2041HostnameOS / ArchINSTALLBUILDCHECKBUILD BIN
animalcules 1.8.1  (landing page)
Yue Zhao
Last Commit: 5a3dc66
Last Changed Date: 2021-06-02 12:17:59 -0400
nebbiolo1Linux (Ubuntu 20.04.2 LTS) / x86_64  OK    OK    OK  UNNEEDED, same version is already published
tokay2Windows Server 2012 R2 Standard / x64  OK    OK    OK    OK  UNNEEDED, same version is already published
machv2macOS 10.14.6 Mojave / x86_64  OK    OK    OK    OK  UNNEEDED, same version is already published
Package 59/2041HostnameOS / ArchINSTALLBUILDCHECKBUILD BIN
annaffy 1.64.2  (landing page)
Colin A. Smith
Last Commit: e4b2445
Last Changed Date: 2021-06-19 21:06:30 -0400
nebbiolo1Linux (Ubuntu 20.04.2 LTS) / x86_64  OK    OK    WARNINGS  UNNEEDED, same version is already published
tokay2Windows Server 2012 R2 Standard / x64  OK    OK    WARNINGS    OK  UNNEEDED, same version is already published
machv2macOS 10.14.6 Mojave / x86_64  OK    OK    WARNINGS    OK  UNNEEDED, same version is already published
Package 60/2041HostnameOS / ArchINSTALLBUILDCHECKBUILD BIN
annmap 1.34.0  (landing page)
Chris Wirth
Last Commit: c79bf2e
Last Changed Date: 2021-05-19 11:52:37 -0400
nebbiolo1Linux (Ubuntu 20.04.2 LTS) / x86_64  OK    OK    WARNINGS  UNNEEDED, same version is already published
tokay2Windows Server 2012 R2 Standard / x64... NOT SUPPORTED ...
machv2macOS 10.14.6 Mojave / x86_64  OK    OK    WARNINGS    OK  UNNEEDED, same version is already published
Package 61/2041HostnameOS / ArchINSTALLBUILDCHECKBUILD BIN
annotate 1.70.0  (landing page)
Bioconductor Package Maintainer
Last Commit: 9c8cb9d
Last Changed Date: 2021-05-19 11:32:35 -0400
nebbiolo1Linux (Ubuntu 20.04.2 LTS) / x86_64  OK    OK    OK  UNNEEDED, same version is already published
tokay2Windows Server 2012 R2 Standard / x64  OK    OK    OK    OK  UNNEEDED, same version is already published
machv2macOS 10.14.6 Mojave / x86_64  OK    OK    OK    OK  UNNEEDED, same version is already published
Package 62/2041HostnameOS / ArchINSTALLBUILDCHECKBUILD BIN
AnnotationDbi 1.54.1  (landing page)
Bioconductor Package Maintainer
Last Commit: 0040118
Last Changed Date: 2021-06-07 12:36:06 -0400
nebbiolo1Linux (Ubuntu 20.04.2 LTS) / x86_64  OK    OK    OK  UNNEEDED, same version is already published
tokay2Windows Server 2012 R2 Standard / x64  OK    OK    OK    OK  UNNEEDED, same version is already published
machv2macOS 10.14.6 Mojave / x86_64  OK    OK    OK    OK  UNNEEDED, same version is already published
Package 63/2041HostnameOS / ArchINSTALLBUILDCHECKBUILD BIN
AnnotationFilter 1.16.0  (landing page)
Bioconductor Package Maintainer
Last Commit: e4e4425
Last Changed Date: 2021-05-19 12:26:55 -0400
nebbiolo1Linux (Ubuntu 20.04.2 LTS) / x86_64  OK    OK    OK  UNNEEDED, same version is already published
tokay2Windows Server 2012 R2 Standard / x64  OK    OK    OK    OK  UNNEEDED, same version is already published
machv2macOS 10.14.6 Mojave / x86_64  OK    OK    OK    OK  UNNEEDED, same version is already published
Package 64/2041HostnameOS / ArchINSTALLBUILDCHECKBUILD BIN
AnnotationForge 1.34.0  (landing page)
Bioconductor Package Maintainer
Last Commit: ca11ffe
Last Changed Date: 2021-05-19 11:52:48 -0400
nebbiolo1Linux (Ubuntu 20.04.2 LTS) / x86_64  OK    OK    OK  UNNEEDED, same version is already published
tokay2Windows Server 2012 R2 Standard / x64  OK    OK    OK    OK  UNNEEDED, same version is already published
machv2macOS 10.14.6 Mojave / x86_64  OK    OK    OK    OK  UNNEEDED, same version is already published
Package 65/2041HostnameOS / ArchINSTALLBUILDCHECKBUILD BIN
AnnotationFuncs 1.42.0  (landing page)
Stefan McKinnon Edwards
Last Commit: e88a01e
Last Changed Date: 2021-05-19 11:47:52 -0400
nebbiolo1Linux (Ubuntu 20.04.2 LTS) / x86_64  OK    ERROR  skipped
tokay2Windows Server 2012 R2 Standard / x64  OK    ERROR  skippedskipped
machv2macOS 10.14.6 Mojave / x86_64  OK    ERROR  skippedskipped
Package 66/2041HostnameOS / ArchINSTALLBUILDCHECKBUILD BIN
AnnotationHub 3.0.1  (landing page)
Bioconductor Package Maintainer
Last Commit: c9a2947
Last Changed Date: 2021-06-18 12:27:17 -0400
nebbiolo1Linux (Ubuntu 20.04.2 LTS) / x86_64  OK    OK    WARNINGS  UNNEEDED, same version is already published
tokay2Windows Server 2012 R2 Standard / x64  OK    OK    WARNINGS    OK  UNNEEDED, same version is already published
machv2macOS 10.14.6 Mojave / x86_64  OK    OK    ERROR    OK  
Package 67/2041HostnameOS / ArchINSTALLBUILDCHECKBUILD BIN
AnnotationHubData 1.22.0  (landing page)
Bioconductor Package Maintainer
Last Commit: c2a76fb
Last Changed Date: 2021-05-19 12:15:21 -0400
nebbiolo1Linux (Ubuntu 20.04.2 LTS) / x86_64  OK    OK    WARNINGS  UNNEEDED, same version is already published
tokay2Windows Server 2012 R2 Standard / x64  OK    OK    ERROR    OK  
machv2macOS 10.14.6 Mojave / x86_64  OK    OK    WARNINGS    OK  UNNEEDED, same version is already published
Package 68/2041HostnameOS / ArchINSTALLBUILDCHECKBUILD BIN
annotationTools 1.66.0  (landing page)
Alexandre Kuhn
Last Commit: 34aad15
Last Changed Date: 2021-05-19 11:38:49 -0400
nebbiolo1Linux (Ubuntu 20.04.2 LTS) / x86_64  OK    OK    OK  UNNEEDED, same version is already published
tokay2Windows Server 2012 R2 Standard / x64  OK    OK    OK    OK  UNNEEDED, same version is already published
machv2macOS 10.14.6 Mojave / x86_64  OK    OK    OK    OK  UNNEEDED, same version is already published
Package 69/2041HostnameOS / ArchINSTALLBUILDCHECKBUILD BIN
annotatr 1.18.1  (landing page)
Raymond G. Cavalcante
Last Commit: 0066d80
Last Changed Date: 2021-07-12 10:41:46 -0400
nebbiolo1Linux (Ubuntu 20.04.2 LTS) / x86_64  OK    OK    WARNINGS  UNNEEDED, same version is already published
tokay2Windows Server 2012 R2 Standard / x64  OK    OK    WARNINGS    OK  UNNEEDED, same version is already published
machv2macOS 10.14.6 Mojave / x86_64  OK    OK    WARNINGS    OK  UNNEEDED, same version is already published
Package 70/2041HostnameOS / ArchINSTALLBUILDCHECKBUILD BIN
anota 1.40.0  (landing page)
Ola Larsson
Last Commit: ef88b0a
Last Changed Date: 2021-05-19 11:48:32 -0400
nebbiolo1Linux (Ubuntu 20.04.2 LTS) / x86_64  OK    OK    OK  UNNEEDED, same version is already published
tokay2Windows Server 2012 R2 Standard / x64  OK    OK    OK    OK  UNNEEDED, same version is already published
machv2macOS 10.14.6 Mojave / x86_64  OK    OK    OK    OK  UNNEEDED, same version is already published
Package 71/2041HostnameOS / ArchINSTALLBUILDCHECKBUILD BIN
anota2seq 1.14.0  (landing page)
Christian Oertlin , Julie Lorent
Last Commit: d5aad21
Last Changed Date: 2021-05-19 12:31:00 -0400
nebbiolo1Linux (Ubuntu 20.04.2 LTS) / x86_64  OK    OK    OK  UNNEEDED, same version is already published
tokay2Windows Server 2012 R2 Standard / x64  OK    OK    OK    OK  UNNEEDED, same version is already published
machv2macOS 10.14.6 Mojave / x86_64  OK    OK    OK    OK  UNNEEDED, same version is already published
Package 72/2041HostnameOS / ArchINSTALLBUILDCHECKBUILD BIN
antiProfiles 1.32.0  (landing page)
Hector Corrada Bravo
Last Commit: 9e83e6d
Last Changed Date: 2021-05-19 11:58:35 -0400
nebbiolo1Linux (Ubuntu 20.04.2 LTS) / x86_64  OK    OK    OK  UNNEEDED, same version is already published
tokay2Windows Server 2012 R2 Standard / x64  OK    OK    OK    OK  UNNEEDED, same version is already published
machv2macOS 10.14.6 Mojave / x86_64  OK    OK    OK    OK  UNNEEDED, same version is already published
Package 73/2041HostnameOS / ArchINSTALLBUILDCHECKBUILD BIN
AnVIL 1.4.1  (landing page)
Martin Morgan
Last Commit: d4bcc97
Last Changed Date: 2021-06-21 17:03:53 -0400
nebbiolo1Linux (Ubuntu 20.04.2 LTS) / x86_64  OK    OK    OK  UNNEEDED, same version is already published
tokay2Windows Server 2012 R2 Standard / x64  OK    OK    OK    OK  UNNEEDED, same version is already published
machv2macOS 10.14.6 Mojave / x86_64  OK    OK    OK    OK  UNNEEDED, same version is already published
Package 74/2041HostnameOS / ArchINSTALLBUILDCHECKBUILD BIN
AnVILBilling 1.2.0  (landing page)
Vince Carey
Last Commit: c339a21
Last Changed Date: 2021-05-19 12:57:15 -0400
nebbiolo1Linux (Ubuntu 20.04.2 LTS) / x86_64  OK    OK    OK  UNNEEDED, same version is already published
tokay2Windows Server 2012 R2 Standard / x64  OK    OK    OK    OK  UNNEEDED, same version is already published
machv2macOS 10.14.6 Mojave / x86_64  OK    OK    OK    OK  UNNEEDED, same version is already published
Package 75/2041HostnameOS / ArchINSTALLBUILDCHECKBUILD BIN
AnVILPublish 1.2.0  (landing page)
Martin Morgan
Last Commit: ca7c985
Last Changed Date: 2021-05-19 12:56:48 -0400
nebbiolo1Linux (Ubuntu 20.04.2 LTS) / x86_64  OK    OK    OK  UNNEEDED, same version is already published
tokay2Windows Server 2012 R2 Standard / x64  OK    OK    OK    OK  UNNEEDED, same version is already published
machv2macOS 10.14.6 Mojave / x86_64  OK    OK    OK    OK  UNNEEDED, same version is already published
Package 76/2041HostnameOS / ArchINSTALLBUILDCHECKBUILD BIN
APAlyzer 1.6.0  (landing page)
Ruijia Wang
Last Commit: e2978dc
Last Changed Date: 2021-05-19 12:45:23 -0400
nebbiolo1Linux (Ubuntu 20.04.2 LTS) / x86_64  OK    OK    OK  UNNEEDED, same version is already published
tokay2Windows Server 2012 R2 Standard / x64  OK    OK    OK    OK  UNNEEDED, same version is already published
machv2macOS 10.14.6 Mojave / x86_64  OK    OK    OK    OK  UNNEEDED, same version is already published
Package 77/2041HostnameOS / ArchINSTALLBUILDCHECKBUILD BIN
apComplex 2.58.0  (landing page)
Denise Scholtens
Last Commit: 9d396a7
Last Changed Date: 2021-05-19 11:35:18 -0400
nebbiolo1Linux (Ubuntu 20.04.2 LTS) / x86_64  OK    OK    OK  UNNEEDED, same version is already published
tokay2Windows Server 2012 R2 Standard / x64  OK    OK    OK    OK  UNNEEDED, same version is already published
machv2macOS 10.14.6 Mojave / x86_64  OK    OK    OK    OK  UNNEEDED, same version is already published
Package 78/2041HostnameOS / ArchINSTALLBUILDCHECKBUILD BIN
apeglm 1.14.0  (landing page)
Anqi Zhu
Last Commit: c64f333
Last Changed Date: 2021-05-19 12:30:01 -0400
nebbiolo1Linux (Ubuntu 20.04.2 LTS) / x86_64  OK    OK    OK  UNNEEDED, same version is already published
tokay2Windows Server 2012 R2 Standard / x64  OK    OK    OK    OK  UNNEEDED, same version is already published
machv2macOS 10.14.6 Mojave / x86_64  OK    OK    OK    OK  UNNEEDED, same version is already published
Package 79/2041HostnameOS / ArchINSTALLBUILDCHECKBUILD BIN
appreci8R 1.10.0  (landing page)
Sarah Sandmann
Last Commit: d1399fc
Last Changed Date: 2021-05-19 12:36:42 -0400
nebbiolo1Linux (Ubuntu 20.04.2 LTS) / x86_64  OK    OK    OK  UNNEEDED, same version is already published
tokay2Windows Server 2012 R2 Standard / x64  OK    OK    OK    OK  UNNEEDED, same version is already published
machv2macOS 10.14.6 Mojave / x86_64  OK    OK    OK    OK  UNNEEDED, same version is already published
Package 80/2041HostnameOS / ArchINSTALLBUILDCHECKBUILD BIN
aroma.light 3.22.0  (landing page)
Henrik Bengtsson
Last Commit: e4a668e
Last Changed Date: 2021-05-19 11:37:49 -0400
nebbiolo1Linux (Ubuntu 20.04.2 LTS) / x86_64  OK    OK    OK  UNNEEDED, same version is already published
tokay2Windows Server 2012 R2 Standard / x64  OK    OK    OK    OK  UNNEEDED, same version is already published
machv2macOS 10.14.6 Mojave / x86_64  OK    OK    OK    OK  UNNEEDED, same version is already published
Package 81/2041HostnameOS / ArchINSTALLBUILDCHECKBUILD BIN
ArrayExpress 1.52.0  (landing page)
Suhaib Mohammed
Last Commit: bac4837
Last Changed Date: 2021-05-19 11:41:54 -0400
nebbiolo1Linux (Ubuntu 20.04.2 LTS) / x86_64  OK    OK    OK  UNNEEDED, same version is already published
tokay2Windows Server 2012 R2 Standard / x64  OK    OK    OK    OK  UNNEEDED, same version is already published
machv2macOS 10.14.6 Mojave / x86_64  OK    OK    OK    OK  UNNEEDED, same version is already published
Package 82/2041HostnameOS / ArchINSTALLBUILDCHECKBUILD BIN
ArrayExpressHTS 1.42.0  (landing page)
Angela Goncalves , Andrew Tikhonov
Last Commit: 9a41140
Last Changed Date: 2021-05-19 11:48:38 -0400
nebbiolo1Linux (Ubuntu 20.04.2 LTS) / x86_64  OK    OK    WARNINGS  UNNEEDED, same version is already published
tokay2Windows Server 2012 R2 Standard / x64... NOT SUPPORTED ...
machv2macOS 10.14.6 Mojave / x86_64  OK    OK    OK    OK  UNNEEDED, same version is already published
Package 83/2041HostnameOS / ArchINSTALLBUILDCHECKBUILD BIN
arrayMvout 1.50.0  (landing page)
V. Carey
Last Commit: c59319e
Last Changed Date: 2021-05-19 11:42:11 -0400
nebbiolo1Linux (Ubuntu 20.04.2 LTS) / x86_64  OK    OK    OK  UNNEEDED, same version is already published
tokay2Windows Server 2012 R2 Standard / x64  OK    OK    OK    OK  UNNEEDED, same version is already published
machv2macOS 10.14.6 Mojave / x86_64  OK    OK    OK    OK  UNNEEDED, same version is already published
Package 84/2041HostnameOS / ArchINSTALLBUILDCHECKBUILD BIN
arrayQuality 1.70.0  (landing page)
Agnes Paquet
Last Commit: f319a3a
Last Changed Date: 2021-05-19 11:34:12 -0400
nebbiolo1Linux (Ubuntu 20.04.2 LTS) / x86_64  OK    OK    WARNINGS  UNNEEDED, same version is already published
tokay2Windows Server 2012 R2 Standard / x64  OK    OK    WARNINGS    OK  UNNEEDED, same version is already published
machv2macOS 10.14.6 Mojave / x86_64  OK    OK    WARNINGS    OK  UNNEEDED, same version is already published
Package 85/2041HostnameOS / ArchINSTALLBUILDCHECKBUILD BIN
arrayQualityMetrics 3.48.0  (landing page)
Mike Smith
Last Commit: 61bf05b
Last Changed Date: 2021-05-19 11:39:30 -0400
nebbiolo1Linux (Ubuntu 20.04.2 LTS) / x86_64  OK    OK    OK  UNNEEDED, same version is already published
tokay2Windows Server 2012 R2 Standard / x64  OK    OK    OK    OK  UNNEEDED, same version is already published
machv2macOS 10.14.6 Mojave / x86_64  OK    OK    OK    OK  UNNEEDED, same version is already published
Package 86/2041HostnameOS / ArchINSTALLBUILDCHECKBUILD BIN
ArrayTools 1.52.0  (landing page)
Arthur Li
Last Commit: 122370f
Last Changed Date: 2021-05-19 11:41:46 -0400
nebbiolo1Linux (Ubuntu 20.04.2 LTS) / x86_64  OK    ERROR  skipped
tokay2Windows Server 2012 R2 Standard / x64  OK    ERROR  skippedskipped
machv2macOS 10.14.6 Mojave / x86_64  OK    ERROR  skippedskipped
Package 87/2041HostnameOS / ArchINSTALLBUILDCHECKBUILD BIN
ARRmNormalization 1.32.0  (landing page)
Jean-Philippe Fortin
Last Commit: 242d488
Last Changed Date: 2021-05-19 11:57:52 -0400
nebbiolo1Linux (Ubuntu 20.04.2 LTS) / x86_64  OK    OK    OK  UNNEEDED, same version is already published
tokay2Windows Server 2012 R2 Standard / x64  OK    OK    OK    OK  UNNEEDED, same version is already published
machv2macOS 10.14.6 Mojave / x86_64  OK    OK    OK    OK  UNNEEDED, same version is already published
Package 88/2041HostnameOS / ArchINSTALLBUILDCHECKBUILD BIN
artMS 1.10.2  (landing page)
David Jimenez-Morales
Last Commit: 9f507a7
Last Changed Date: 2021-07-14 02:53:05 -0400
nebbiolo1Linux (Ubuntu 20.04.2 LTS) / x86_64  OK    OK    OK  UNNEEDED, same version is already published
tokay2Windows Server 2012 R2 Standard / x64  OK    OK    OK    OK  UNNEEDED, same version is already published
machv2macOS 10.14.6 Mojave / x86_64  OK    OK    OK    OK  UNNEEDED, same version is already published
Package 89/2041HostnameOS / ArchINSTALLBUILDCHECKBUILD BIN
ASAFE 1.18.0  (landing page)
Qian Zhang
Last Commit: d7d0980
Last Changed Date: 2021-05-19 12:21:52 -0400
nebbiolo1Linux (Ubuntu 20.04.2 LTS) / x86_64  OK    OK    OK  UNNEEDED, same version is already published
tokay2Windows Server 2012 R2 Standard / x64  OK    OK    OK    OK  UNNEEDED, same version is already published
machv2macOS 10.14.6 Mojave / x86_64  OK    OK    OK    OK  UNNEEDED, same version is already published
Package 90/2041HostnameOS / ArchINSTALLBUILDCHECKBUILD BIN
ASEB 1.36.0  (landing page)
Likun Wang
Last Commit: e3fce2b
Last Changed Date: 2021-05-19 11:50:59 -0400
nebbiolo1Linux (Ubuntu 20.04.2 LTS) / x86_64  OK    OK    OK  UNNEEDED, same version is already published
tokay2Windows Server 2012 R2 Standard / x64  OK    OK    OK    OK  UNNEEDED, same version is already published
machv2macOS 10.14.6 Mojave / x86_64  OK    OK    OK    OK  UNNEEDED, same version is already published
Package 91/2041HostnameOS / ArchINSTALLBUILDCHECKBUILD BIN
ASGSCA 1.26.0  (landing page)
Hela Romdhani
Last Commit: 9ace820
Last Changed Date: 2021-05-19 12:08:29 -0400
nebbiolo1Linux (Ubuntu 20.04.2 LTS) / x86_64  OK    OK    OK  UNNEEDED, same version is already published
tokay2Windows Server 2012 R2 Standard / x64  OK    OK    OK    OK  UNNEEDED, same version is already published
machv2macOS 10.14.6 Mojave / x86_64  OK    OK    OK    OK  UNNEEDED, same version is already published
Package 92/2041HostnameOS / ArchINSTALLBUILDCHECKBUILD BIN
ASICS 2.8.0  (landing page)
Gaëlle Lefort
Last Commit: 3169aa8
Last Changed Date: 2021-05-19 12:34:32 -0400
nebbiolo1Linux (Ubuntu 20.04.2 LTS) / x86_64  OK    OK    OK  UNNEEDED, same version is already published
tokay2Windows Server 2012 R2 Standard / x64  OK    OK    OK    OK  UNNEEDED, same version is already published
machv2macOS 10.14.6 Mojave / x86_64  OK    OK    OK    OK  UNNEEDED, same version is already published
Package 93/2041HostnameOS / ArchINSTALLBUILDCHECKBUILD BIN
ASpediaFI 1.6.0  (landing page)
Doyeong Yu
Last Commit: a36105f
Last Changed Date: 2021-05-19 12:47:16 -0400
nebbiolo1Linux (Ubuntu 20.04.2 LTS) / x86_64  OK    OK    OK  UNNEEDED, same version is already published
tokay2Windows Server 2012 R2 Standard / x64  OK    OK    OK    OK  UNNEEDED, same version is already published
machv2macOS 10.14.6 Mojave / x86_64  OK    OK    OK    OK  UNNEEDED, same version is already published
Package 94/2041HostnameOS / ArchINSTALLBUILDCHECKBUILD BIN
ASpli 2.2.0  (landing page)
Estefania Mancini
Last Commit: 6dddfb0
Last Changed Date: 2021-05-19 12:22:07 -0400
nebbiolo1Linux (Ubuntu 20.04.2 LTS) / x86_64  OK    OK    OK  UNNEEDED, same version is already published
tokay2Windows Server 2012 R2 Standard / x64  OK    OK    OK    OK  UNNEEDED, same version is already published
machv2macOS 10.14.6 Mojave / x86_64  OK    OK    OK    OK  UNNEEDED, same version is already published
Package 95/2041HostnameOS / ArchINSTALLBUILDCHECKBUILD BIN
AssessORF 1.10.0  (landing page)
Deepank Korandla
Last Commit: c43e459
Last Changed Date: 2021-05-19 12:39:14 -0400
nebbiolo1Linux (Ubuntu 20.04.2 LTS) / x86_64  OK    OK    OK  UNNEEDED, same version is already published
tokay2Windows Server 2012 R2 Standard / x64  OK    OK    OK    OK  UNNEEDED, same version is already published
machv2macOS 10.14.6 Mojave / x86_64  OK    OK    OK    OK  UNNEEDED, same version is already published
Package 96/2041HostnameOS / ArchINSTALLBUILDCHECKBUILD BIN
ASSET 2.10.0  (landing page)
Samsiddhi Bhattacharjee
Last Commit: 394d6cf
Last Changed Date: 2021-05-19 12:00:17 -0400
nebbiolo1Linux (Ubuntu 20.04.2 LTS) / x86_64  OK    OK    WARNINGS  UNNEEDED, same version is already published
tokay2Windows Server 2012 R2 Standard / x64  OK    OK    WARNINGS    OK  UNNEEDED, same version is already published
machv2macOS 10.14.6 Mojave / x86_64  OK    OK    WARNINGS    OK  UNNEEDED, same version is already published
Package 97/2041HostnameOS / ArchINSTALLBUILDCHECKBUILD BIN
ASSIGN 1.28.1  (landing page)
Ying Shen , W. Evan Johnson
Last Commit: 9e787ec
Last Changed Date: 2021-06-13 17:07:47 -0400
nebbiolo1Linux (Ubuntu 20.04.2 LTS) / x86_64  OK    OK    OK  UNNEEDED, same version is already published
tokay2Windows Server 2012 R2 Standard / x64  OK    OK    OK    OK  UNNEEDED, same version is already published
machv2macOS 10.14.6 Mojave / x86_64  OK    OK    OK    OK  UNNEEDED, same version is already published
Package 98/2041HostnameOS / ArchINSTALLBUILDCHECKBUILD BIN
ATACseqQC 1.16.0  (landing page)
Jianhong Ou
Last Commit: e345154
Last Changed Date: 2021-05-19 12:27:43 -0400
nebbiolo1Linux (Ubuntu 20.04.2 LTS) / x86_64  OK    OK    OK  UNNEEDED, same version is already published
tokay2Windows Server 2012 R2 Standard / x64  OK    OK    OK    OK  UNNEEDED, same version is already published
machv2macOS 10.14.6 Mojave / x86_64  OK    OK    OK    OK  UNNEEDED, same version is already published
Package 99/2041HostnameOS / ArchINSTALLBUILDCHECKBUILD BIN
atSNP 1.8.0  (landing page)
Sunyoung Shin
Last Commit: 813c1c6
Last Changed Date: 2021-05-19 12:41:05 -0400
nebbiolo1Linux (Ubuntu 20.04.2 LTS) / x86_64  OK    OK    OK  UNNEEDED, same version is already published
tokay2Windows Server 2012 R2 Standard / x64  OK    OK    OK    OK  UNNEEDED, same version is already published
machv2macOS 10.14.6 Mojave / x86_64  OK    OK    OK    OK  UNNEEDED, same version is already published
Package 100/2041HostnameOS / ArchINSTALLBUILDCHECKBUILD BIN
attract 1.44.0  (landing page)
Samuel Zimmerman
Last Commit: 6497b3f
Last Changed Date: 2021-05-19 11:45:42 -0400
nebbiolo1Linux (Ubuntu 20.04.2 LTS) / x86_64  OK    OK    OK  UNNEEDED, same version is already published
tokay2Windows Server 2012 R2 Standard / x64  OK    OK    OK    OK  UNNEEDED, same version is already published
machv2macOS 10.14.6 Mojave / x86_64  OK    OK    OK    OK  UNNEEDED, same version is already published
Package 101/2041HostnameOS / ArchINSTALLBUILDCHECKBUILD BIN
AUCell 1.14.0  (landing page)
Sara Aibar
Last Commit: 8849265
Last Changed Date: 2021-05-19 12:30:20 -0400
nebbiolo1Linux (Ubuntu 20.04.2 LTS) / x86_64  OK    OK    OK  UNNEEDED, same version is already published
tokay2Windows Server 2012 R2 Standard / x64  OK    OK    OK    OK  UNNEEDED, same version is already published
machv2macOS 10.14.6 Mojave / x86_64  OK    OK    OK    OK  UNNEEDED, same version is already published
Package 102/2041HostnameOS / ArchINSTALLBUILDCHECKBUILD BIN
autonomics 1.0.1  (landing page)
Aditya Bhagwat
Last Commit: 5df16f7
Last Changed Date: 2021-05-25 07:57:21 -0400
nebbiolo1Linux (Ubuntu 20.04.2 LTS) / x86_64  OK    OK    WARNINGS  UNNEEDED, same version is already published
tokay2Windows Server 2012 R2 Standard / x64  OK    OK    ERROR    OK  
machv2macOS 10.14.6 Mojave / x86_64  OK    OK    WARNINGS    OK  UNNEEDED, same version is already published
Package 103/2041HostnameOS / ArchINSTALLBUILDCHECKBUILD BIN
Autotuner 1.6.0  (landing page)
Craig McLean
Last Commit: f373bec
Last Changed Date: 2021-05-19 12:45:03 -0400
nebbiolo1Linux (Ubuntu 20.04.2 LTS) / x86_64  OK    OK    OK  UNNEEDED, same version is already published
tokay2Windows Server 2012 R2 Standard / x64  OK    OK    OK    OK  UNNEEDED, same version is already published
machv2macOS 10.14.6 Mojave / x86_64  OK    OK    OK    OK  UNNEEDED, same version is already published
Package 104/2041HostnameOS / ArchINSTALLBUILDCHECKBUILD BIN
AWFisher 1.6.0  (landing page)
Zhiguang Huo
Last Commit: d14025a
Last Changed Date: 2021-05-19 12:44:47 -0400
nebbiolo1Linux (Ubuntu 20.04.2 LTS) / x86_64  OK    OK    OK  UNNEEDED, same version is already published
tokay2Windows Server 2012 R2 Standard / x64  OK    OK    OK    OK  UNNEEDED, same version is already published
machv2macOS 10.14.6 Mojave / x86_64  OK    OK    OK    OK  UNNEEDED, same version is already published
Package 105/2041HostnameOS / ArchINSTALLBUILDCHECKBUILD BIN
awst 1.0.0  (landing page)
Davide Risso
Last Commit: e922ee7
Last Changed Date: 2021-05-19 13:02:40 -0400
nebbiolo1Linux (Ubuntu 20.04.2 LTS) / x86_64  OK    OK    OK  UNNEEDED, same version is already published
tokay2Windows Server 2012 R2 Standard / x64  OK    OK    OK    OK  UNNEEDED, same version is already published
machv2macOS 10.14.6 Mojave / x86_64  OK    OK    OK    OK  UNNEEDED, same version is already published
B
ABCDEFGHIJKLMNOPQRSTUVWXYZ
Package 106/2041HostnameOS / ArchINSTALLBUILDCHECKBUILD BIN
BaalChIP 1.18.0  (landing page)
Ines de Santiago
Last Commit: 49e2ae7
Last Changed Date: 2021-05-19 12:22:59 -0400
nebbiolo1Linux (Ubuntu 20.04.2 LTS) / x86_64  OK    OK    WARNINGS  UNNEEDED, same version is already published
tokay2Windows Server 2012 R2 Standard / x64  OK    OK    WARNINGS    OK  UNNEEDED, same version is already published
machv2macOS 10.14.6 Mojave / x86_64  OK    OK    WARNINGS    OK  UNNEEDED, same version is already published
Package 107/2041HostnameOS / ArchINSTALLBUILDCHECKBUILD BIN
BAC 1.52.0  (landing page)
Raphael Gottardo
Last Commit: 25895e4
Last Changed Date: 2021-05-19 11:40:12 -0400
nebbiolo1Linux (Ubuntu 20.04.2 LTS) / x86_64  OK    OK    OK  UNNEEDED, same version is already published
tokay2Windows Server 2012 R2 Standard / x64  OK    OK    OK    OK  UNNEEDED, same version is already published
machv2macOS 10.14.6 Mojave / x86_64  OK    OK    OK    OK  UNNEEDED, same version is already published
Package 108/2041HostnameOS / ArchINSTALLBUILDCHECKBUILD BIN
bacon 1.20.0  (landing page)
Maarten van Iterson
Last Commit: 629e321
Last Changed Date: 2021-05-19 12:18:45 -0400
nebbiolo1Linux (Ubuntu 20.04.2 LTS) / x86_64  OK    OK    OK  UNNEEDED, same version is already published
tokay2Windows Server 2012 R2 Standard / x64  OK    OK    OK    OK  UNNEEDED, same version is already published
machv2macOS 10.14.6 Mojave / x86_64  OK    OK    OK    OK  UNNEEDED, same version is already published
Package 109/2041HostnameOS / ArchINSTALLBUILDCHECKBUILD BIN
BADER 1.30.0  (landing page)
Andreas Neudecker
Last Commit: 461f332
Last Changed Date: 2021-05-19 12:00:35 -0400
nebbiolo1Linux (Ubuntu 20.04.2 LTS) / x86_64  OK    OK    OK  UNNEEDED, same version is already published
tokay2Windows Server 2012 R2 Standard / x64  OK    OK    OK    OK  UNNEEDED, same version is already published
machv2macOS 10.14.6 Mojave / x86_64  OK    OK    OK    OK  UNNEEDED, same version is already published
Package 110/2041HostnameOS / ArchINSTALLBUILDCHECKBUILD BIN
BadRegionFinder 1.20.0  (landing page)
Sarah Sandmann
Last Commit: 833821c
Last Changed Date: 2021-05-19 12:19:30 -0400
nebbiolo1Linux (Ubuntu 20.04.2 LTS) / x86_64  OK    OK    OK  UNNEEDED, same version is already published
tokay2Windows Server 2012 R2 Standard / x64  OK    OK    OK    OK  UNNEEDED, same version is already published
machv2macOS 10.14.6 Mojave / x86_64  OK    OK    OK    OK  UNNEEDED, same version is already published
Package 111/2041HostnameOS / ArchINSTALLBUILDCHECKBUILD BIN
BAGS 2.32.0  (landing page)
Alejandro Quiroz-Zarate
Last Commit: d94e763
Last Changed Date: 2021-05-19 11:51:16 -0400
nebbiolo1Linux (Ubuntu 20.04.2 LTS) / x86_64  OK    OK    OK  UNNEEDED, same version is already published
tokay2Windows Server 2012 R2 Standard / x64  OK    OK    OK    OK  UNNEEDED, same version is already published
machv2macOS 10.14.6 Mojave / x86_64  OK    OK    OK    OK  UNNEEDED, same version is already published
Package 112/2041HostnameOS / ArchINSTALLBUILDCHECKBUILD BIN
ballgown 2.24.0  (landing page)
Jack Fu
Last Commit: 34829e1
Last Changed Date: 2021-05-19 12:06:23 -0400
nebbiolo1Linux (Ubuntu 20.04.2 LTS) / x86_64  OK    OK    OK  UNNEEDED, same version is already published
tokay2Windows Server 2012 R2 Standard / x64  OK    OK    OK    OK  UNNEEDED, same version is already published
machv2macOS 10.14.6 Mojave / x86_64  OK    OK    OK    OK  UNNEEDED, same version is already published
Package 113/2041HostnameOS / ArchINSTALLBUILDCHECKBUILD BIN
bambu 1.2.0  (landing page)
Ying Chen
Last Commit: bd9fce4
Last Changed Date: 2021-05-19 12:57:00 -0400
nebbiolo1Linux (Ubuntu 20.04.2 LTS) / x86_64  OK    OK    OK  UNNEEDED, same version is already published
tokay2Windows Server 2012 R2 Standard / x64  OK    OK    OK    OK  UNNEEDED, same version is already published
machv2macOS 10.14.6 Mojave / x86_64  OK    OK    OK    OK  UNNEEDED, same version is already published
Package 114/2041HostnameOS / ArchINSTALLBUILDCHECKBUILD BIN
bamsignals 1.24.0  (landing page)
Johannes Helmuth
Last Commit: 91d1e61
Last Changed Date: 2021-05-19 12:11:57 -0400
nebbiolo1Linux (Ubuntu 20.04.2 LTS) / x86_64  OK    OK    OK  UNNEEDED, same version is already published
tokay2Windows Server 2012 R2 Standard / x64  OK    OK    OK    OK  UNNEEDED, same version is already published
machv2macOS 10.14.6 Mojave / x86_64  OK    OK    OK    OK  UNNEEDED, same version is already published
Package 115/2041HostnameOS / ArchINSTALLBUILDCHECKBUILD BIN
BANDITS 1.8.0  (landing page)
Simone Tiberi
Last Commit: a4ebc87
Last Changed Date: 2021-05-19 12:42:51 -0400
nebbiolo1Linux (Ubuntu 20.04.2 LTS) / x86_64  OK    OK    OK  UNNEEDED, same version is already published
tokay2Windows Server 2012 R2 Standard / x64  OK    OK    OK    OK  UNNEEDED, same version is already published
machv2macOS 10.14.6 Mojave / x86_64  OK    OK    OK    OK  UNNEEDED, same version is already published
Package 116/2041HostnameOS / ArchINSTALLBUILDCHECKBUILD BIN
banocc 1.16.0  (landing page)
George Weingart
Last Commit: cf8d0fb
Last Changed Date: 2021-05-19 12:27:05 -0400
nebbiolo1Linux (Ubuntu 20.04.2 LTS) / x86_64  OK    OK    OK  UNNEEDED, same version is already published
tokay2Windows Server 2012 R2 Standard / x64  OK    ERROR  skippedskipped
machv2macOS 10.14.6 Mojave / x86_64  OK    OK    OK    OK  UNNEEDED, same version is already published
Package 117/2041HostnameOS / ArchINSTALLBUILDCHECKBUILD BIN
barcodetrackR 1.0.0  (landing page)
Diego Alexander Espinoza
Last Commit: 875e093
Last Changed Date: 2021-05-19 13:01:26 -0400
nebbiolo1Linux (Ubuntu 20.04.2 LTS) / x86_64  OK    OK    OK  UNNEEDED, same version is already published
tokay2Windows Server 2012 R2 Standard / x64  OK    OK    OK    OK  UNNEEDED, same version is already published
machv2macOS 10.14.6 Mojave / x86_64  OK    OK    OK    OK  UNNEEDED, same version is already published
Package 118/2041HostnameOS / ArchINSTALLBUILDCHECKBUILD BIN
basecallQC 1.16.0  (landing page)
Thomas Carroll
Last Commit: ac2c7cf
Last Changed Date: 2021-05-19 12:27:10 -0400
nebbiolo1Linux (Ubuntu 20.04.2 LTS) / x86_64  OK    OK    OK  UNNEEDED, same version is already published
tokay2Windows Server 2012 R2 Standard / x64  OK    OK    OK    OK  UNNEEDED, same version is already published
machv2macOS 10.14.6 Mojave / x86_64  OK    OK    OK    OK  UNNEEDED, same version is already published
Package 119/2041HostnameOS / ArchINSTALLBUILDCHECKBUILD BIN
BaseSpaceR 1.36.0  (landing page)
Jared O'Connell
Last Commit: a99d258
Last Changed Date: 2021-05-19 11:58:12 -0400
nebbiolo1Linux (Ubuntu 20.04.2 LTS) / x86_64  OK    OK    OK  UNNEEDED, same version is already published
tokay2Windows Server 2012 R2 Standard / x64  OK    OK    OK    OK  UNNEEDED, same version is already published
machv2macOS 10.14.6 Mojave / x86_64  OK    OK    OK    OK  UNNEEDED, same version is already published
Package 120/2041HostnameOS / ArchINSTALLBUILDCHECKBUILD BIN
Basic4Cseq 1.28.0  (landing page)
Carolin Walter
Last Commit: 0ad4961
Last Changed Date: 2021-05-19 12:03:22 -0400
nebbiolo1Linux (Ubuntu 20.04.2 LTS) / x86_64  OK    OK    OK  UNNEEDED, same version is already published
tokay2Windows Server 2012 R2 Standard / x64  OK    OK    OK    OK  UNNEEDED, same version is already published
machv2macOS 10.14.6 Mojave / x86_64  OK    OK    OK    OK  UNNEEDED, same version is already published
Package 121/2041HostnameOS / ArchINSTALLBUILDCHECKBUILD BIN
BASiCS 2.4.0  (landing page)
Alan O'Callaghan
Last Commit: 385fa3d
Last Changed Date: 2021-05-19 12:30:39 -0400
nebbiolo1Linux (Ubuntu 20.04.2 LTS) / x86_64  OK    OK    OK  UNNEEDED, same version is already published
tokay2Windows Server 2012 R2 Standard / x64  OK    OK    OK    OK  UNNEEDED, same version is already published
machv2macOS 10.14.6 Mojave / x86_64  OK    OK    OK    OK  UNNEEDED, same version is already published
Package 122/2041HostnameOS / ArchINSTALLBUILDCHECKBUILD BIN
BasicSTARRseq 1.20.0  (landing page)
Annika Buerger
Last Commit: 6542fef
Last Changed Date: 2021-05-19 12:17:47 -0400
nebbiolo1Linux (Ubuntu 20.04.2 LTS) / x86_64  OK    OK    OK  UNNEEDED, same version is already published
tokay2Windows Server 2012 R2 Standard / x64  OK    OK    OK    OK  UNNEEDED, same version is already published
machv2macOS 10.14.6 Mojave / x86_64  OK    OK    OK    OK  UNNEEDED, same version is already published
Package 123/2041HostnameOS / ArchINSTALLBUILDCHECKBUILD BIN
basilisk 1.4.0  (landing page)
Aaron Lun
Last Commit: 11d7d30
Last Changed Date: 2021-05-19 12:49:27 -0400
nebbiolo1Linux (Ubuntu 20.04.2 LTS) / x86_64  OK    OK    OK  UNNEEDED, same version is already published
tokay2Windows Server 2012 R2 Standard / x64  OK    OK    OK    OK  UNNEEDED, same version is already published
machv2macOS 10.14.6 Mojave / x86_64  OK    OK    ERROR    OK  
Package 124/2041HostnameOS / ArchINSTALLBUILDCHECKBUILD BIN
basilisk.utils 1.4.0  (landing page)
Aaron Lun
Last Commit: e74f4df
Last Changed Date: 2021-05-19 12:49:40 -0400
nebbiolo1Linux (Ubuntu 20.04.2 LTS) / x86_64  OK    OK    OK  UNNEEDED, same version is already published
tokay2Windows Server 2012 R2 Standard / x64  OK    OK    OK    OK  UNNEEDED, same version is already published
machv2macOS 10.14.6 Mojave / x86_64  OK    OK    OK    OK  UNNEEDED, same version is already published
Package 125/2041HostnameOS / ArchINSTALLBUILDCHECKBUILD BIN
batchelor 1.8.0  (landing page)
Aaron Lun
Last Commit: 58f6f51
Last Changed Date: 2021-05-19 12:42:21 -0400
nebbiolo1Linux (Ubuntu 20.04.2 LTS) / x86_64  OK    OK    OK  UNNEEDED, same version is already published
tokay2Windows Server 2012 R2 Standard / x64  OK    OK    OK    OK  UNNEEDED, same version is already published
machv2macOS 10.14.6 Mojave / x86_64  OK    OK    OK    OK  UNNEEDED, same version is already published
Package 126/2041HostnameOS / ArchINSTALLBUILDCHECKBUILD BIN
BatchQC 1.20.0  (landing page)
Solaiappan Manimaran
Last Commit: 696d55c
Last Changed Date: 2021-05-19 12:19:44 -0400
nebbiolo1Linux (Ubuntu 20.04.2 LTS) / x86_64  OK    OK    OK  UNNEEDED, same version is already published
tokay2Windows Server 2012 R2 Standard / x64  OK    OK    OK    OK  UNNEEDED, same version is already published
machv2macOS 10.14.6 Mojave / x86_64  OK    OK    OK    OK  UNNEEDED, same version is already published
Package 127/2041HostnameOS / ArchINSTALLBUILDCHECKBUILD BIN
BayesKnockdown 1.18.0  (landing page)
William Chad Young
Last Commit: d299049
Last Changed Date: 2021-05-19 12:22:12 -0400
nebbiolo1Linux (Ubuntu 20.04.2 LTS) / x86_64  OK    OK    OK  UNNEEDED, same version is already published
tokay2Windows Server 2012 R2 Standard / x64  OK    OK    OK    OK  UNNEEDED, same version is already published
machv2macOS 10.14.6 Mojave / x86_64  OK    OK    OK    OK  UNNEEDED, same version is already published
Package 128/2041HostnameOS / ArchINSTALLBUILDCHECKBUILD BIN
BayesSpace 1.2.0  (landing page)
Matt Stone
Last Commit: 53377bd
Last Changed Date: 2021-05-19 12:56:21 -0400
nebbiolo1Linux (Ubuntu 20.04.2 LTS) / x86_64  OK    OK    OK  UNNEEDED, same version is already published
tokay2Windows Server 2012 R2 Standard / x64  OK    OK    OK    OK  UNNEEDED, same version is already published
machv2macOS 10.14.6 Mojave / x86_64  OK    OK    OK    OK  UNNEEDED, same version is already published
Package 129/2041HostnameOS / ArchINSTALLBUILDCHECKBUILD BIN
bayNorm 1.10.0  (landing page)
Wenhao Tang
Last Commit: cbf997b
Last Changed Date: 2021-05-19 12:38:44 -0400
nebbiolo1Linux (Ubuntu 20.04.2 LTS) / x86_64  OK    OK    OK  UNNEEDED, same version is already published
tokay2Windows Server 2012 R2 Standard / x64  OK    OK    OK    OK  UNNEEDED, same version is already published
machv2macOS 10.14.6 Mojave / x86_64  OK    OK    OK    OK  UNNEEDED, same version is already published
Package 130/2041HostnameOS / ArchINSTALLBUILDCHECKBUILD BIN
baySeq 2.26.0  (landing page)
Thomas J. Hardcastle
Last Commit: 44ebe60
Last Changed Date: 2021-05-19 11:44:05 -0400
nebbiolo1Linux (Ubuntu 20.04.2 LTS) / x86_64  OK    OK    OK  UNNEEDED, same version is already published
tokay2Windows Server 2012 R2 Standard / x64  OK    OK    OK    OK  UNNEEDED, same version is already published
machv2macOS 10.14.6 Mojave / x86_64  OK    OK    OK    OK  UNNEEDED, same version is already published
Package 131/2041HostnameOS / ArchINSTALLBUILDCHECKBUILD BIN
BBCAnalyzer 1.22.0  (landing page)
Sarah Sandmann
Last Commit: ca0ad63
Last Changed Date: 2021-05-19 12:15:08 -0400
nebbiolo1Linux (Ubuntu 20.04.2 LTS) / x86_64  OK    OK    OK  UNNEEDED, same version is already published
tokay2Windows Server 2012 R2 Standard / x64  OK    OK    WARNINGS    OK  UNNEEDED, same version is already published
machv2macOS 10.14.6 Mojave / x86_64  OK    OK    OK    OK  UNNEEDED, same version is already published
Package 132/2041HostnameOS / ArchINSTALLBUILDCHECKBUILD BIN
BCRANK 1.54.0  (landing page)
Adam Ameur
Last Commit: 827b00a
Last Changed Date: 2021-05-19 11:40:23 -0400
nebbiolo1Linux (Ubuntu 20.04.2 LTS) / x86_64  OK    OK    OK  UNNEEDED, same version is already published
tokay2Windows Server 2012 R2 Standard / x64  OK    OK    OK    OK  UNNEEDED, same version is already published
machv2macOS 10.14.6 Mojave / x86_64  OK    OK    OK    OK  UNNEEDED, same version is already published
Package 133/2041HostnameOS / ArchINSTALLBUILDCHECKBUILD BIN
bcSeq 1.14.0  (landing page)
Jiaxing Lin
Last Commit: d9092ae
Last Changed Date: 2021-05-19 12:32:05 -0400
nebbiolo1Linux (Ubuntu 20.04.2 LTS) / x86_64  OK    OK    WARNINGS  UNNEEDED, same version is already published
tokay2Windows Server 2012 R2 Standard / x64  OK    OK    WARNINGS    OK  UNNEEDED, same version is already published
machv2macOS 10.14.6 Mojave / x86_64  OK    OK    OK    OK  UNNEEDED, same version is already published
Package 134/2041HostnameOS / ArchINSTALLBUILDCHECKBUILD BIN
BDMMAcorrect 1.10.0  (landing page)
ZHENWEI DAI
Last Commit: c22bbaf
Last Changed Date: 2021-05-19 12:39:32 -0400
nebbiolo1Linux (Ubuntu 20.04.2 LTS) / x86_64  OK    OK    OK  UNNEEDED, same version is already published
tokay2Windows Server 2012 R2 Standard / x64  OK    OK    OK    OK  UNNEEDED, same version is already published
machv2macOS 10.14.6 Mojave / x86_64  OK    OK    OK    OK  UNNEEDED, same version is already published
Package 135/2041HostnameOS / ArchINSTALLBUILDCHECKBUILD BIN
beachmat 2.8.0  (landing page)
Aaron Lun
Last Commit: 0c77f77
Last Changed Date: 2021-05-19 12:28:53 -0400
nebbiolo1Linux (Ubuntu 20.04.2 LTS) / x86_64  OK    OK    OK  UNNEEDED, same version is already published
tokay2Windows Server 2012 R2 Standard / x64  OK    OK    OK    OK  UNNEEDED, same version is already published
machv2macOS 10.14.6 Mojave / x86_64  OK    OK    OK    OK  UNNEEDED, same version is already published
Package 136/2041HostnameOS / ArchINSTALLBUILDCHECKBUILD BIN
beadarray 2.42.0  (landing page)
Mark Dunning
Last Commit: 028000c
Last Changed Date: 2021-05-19 11:37:00 -0400
nebbiolo1Linux (Ubuntu 20.04.2 LTS) / x86_64  OK    OK    OK  UNNEEDED, same version is already published
tokay2Windows Server 2012 R2 Standard / x64  OK    OK    OK    OK  UNNEEDED, same version is already published
machv2macOS 10.14.6 Mojave / x86_64  OK    OK    OK    OK  UNNEEDED, same version is already published
Package 137/2041HostnameOS / ArchINSTALLBUILDCHECKBUILD BIN
beadarraySNP 1.58.0  (landing page)
Jan Oosting
Last Commit: 6da1ae1
Last Changed Date: 2021-05-19 11:38:03 -0400
nebbiolo1Linux (Ubuntu 20.04.2 LTS) / x86_64  OK    OK    OK  UNNEEDED, same version is already published
tokay2Windows Server 2012 R2 Standard / x64  OK    OK    OK    OK  UNNEEDED, same version is already published
machv2macOS 10.14.6 Mojave / x86_64  OK    OK    OK    OK  UNNEEDED, same version is already published
Package 138/2041HostnameOS / ArchINSTALLBUILDCHECKBUILD BIN
BeadDataPackR 1.44.0  (landing page)
Mike Smith
Last Commit: ca45790
Last Changed Date: 2021-05-19 11:45:02 -0400
nebbiolo1Linux (Ubuntu 20.04.2 LTS) / x86_64  OK    OK    OK  UNNEEDED, same version is already published
tokay2Windows Server 2012 R2 Standard / x64  OK    OK    OK    OK  UNNEEDED, same version is already published
machv2macOS 10.14.6 Mojave / x86_64  OK    OK    OK    OK  UNNEEDED, same version is already published
Package 139/2041HostnameOS / ArchINSTALLBUILDCHECKBUILD BIN
BEARscc 1.12.0  (landing page)
Benjamin Schuster-Boeckler
Last Commit: 79b6626
Last Changed Date: 2021-05-19 12:33:02 -0400
nebbiolo1Linux (Ubuntu 20.04.2 LTS) / x86_64  OK    OK    OK  UNNEEDED, same version is already published
tokay2Windows Server 2012 R2 Standard / x64  OK    OK    OK    OK  UNNEEDED, same version is already published
machv2macOS 10.14.6 Mojave / x86_64  OK    OK    OK    OK  UNNEEDED, same version is already published
Package 140/2041HostnameOS / ArchINSTALLBUILDCHECKBUILD BIN
BEAT 1.30.0  (landing page)
Kemal Akman
Last Commit: 226a8df
Last Changed Date: 2021-05-19 12:02:28 -0400
nebbiolo1Linux (Ubuntu 20.04.2 LTS) / x86_64  OK    OK    OK  UNNEEDED, same version is already published
tokay2Windows Server 2012 R2 Standard / x64  OK    OK    OK    OK  UNNEEDED, same version is already published
machv2macOS 10.14.6 Mojave / x86_64  OK    OK    OK    OK  UNNEEDED, same version is already published
Package 141/2041HostnameOS / ArchINSTALLBUILDCHECKBUILD BIN
BEclear 2.8.0  (landing page)
David Rasp
Last Commit: 820b246
Last Changed Date: 2021-05-19 12:13:44 -0400
nebbiolo1Linux (Ubuntu 20.04.2 LTS) / x86_64  OK    OK    OK  UNNEEDED, same version is already published
tokay2Windows Server 2012 R2 Standard / x64  OK    OK    OK    OK  UNNEEDED, same version is already published
machv2macOS 10.14.6 Mojave / x86_64  OK    OK    OK    OK  UNNEEDED, same version is already published
Package 142/2041HostnameOS / ArchINSTALLBUILDCHECKBUILD BIN
BgeeCall 1.8.0  (landing page)
Julien Wollbrett
Last Commit: 75b35d9
Last Changed Date: 2021-05-19 12:48:49 -0400
nebbiolo1Linux (Ubuntu 20.04.2 LTS) / x86_64  OK    OK    OK  UNNEEDED, same version is already published
tokay2Windows Server 2012 R2 Standard / x64  OK    OK    OK    OK  UNNEEDED, same version is already published
machv2macOS 10.14.6 Mojave / x86_64  OK    OK    OK    OK  UNNEEDED, same version is already published
Package 143/2041HostnameOS / ArchINSTALLBUILDCHECKBUILD BIN
BgeeDB 2.18.1  (landing page)
Julien Wollbrett , Julien Roux , Andrea Komljenovic , Frederic Bastian
Last Commit: 6e3f28d
Last Changed Date: 2021-06-15 22:49:49 -0400
nebbiolo1Linux (Ubuntu 20.04.2 LTS) / x86_64  OK    OK    OK  UNNEEDED, same version is already published
tokay2Windows Server 2012 R2 Standard / x64  OK    OK    OK    OK  UNNEEDED, same version is already published
machv2macOS 10.14.6 Mojave / x86_64  OK    OK    OK    OK  UNNEEDED, same version is already published
Package 144/2041HostnameOS / ArchINSTALLBUILDCHECKBUILD BIN
BGmix 1.52.0  (landing page)
Alex Lewin
Last Commit: ec212a3
Last Changed Date: 2021-05-19 11:40:00 -0400
nebbiolo1Linux (Ubuntu 20.04.2 LTS) / x86_64  OK    OK    WARNINGS  UNNEEDED, same version is already published
tokay2Windows Server 2012 R2 Standard / x64... NOT SUPPORTED ...
machv2macOS 10.14.6 Mojave / x86_64  OK    OK    OK    OK  UNNEEDED, same version is already published
Package 145/2041HostnameOS / ArchINSTALLBUILDCHECKBUILD BIN
bgx 1.58.0  (landing page)
Ernest Turro
Last Commit: f9fb330
Last Changed Date: 2021-05-19 11:39:10 -0400
nebbiolo1Linux (Ubuntu 20.04.2 LTS) / x86_64  OK    OK    OK  UNNEEDED, same version is already published
tokay2Windows Server 2012 R2 Standard / x64  OK    OK    OK    OK  UNNEEDED, same version is already published
machv2macOS 10.14.6 Mojave / x86_64  OK    OK    WARNINGS    OK  UNNEEDED, same version is already published
Package 146/2041HostnameOS / ArchINSTALLBUILDCHECKBUILD BIN
BHC 1.44.0  (landing page)
Rich Savage
Last Commit: 8a054fb
Last Changed Date: 2021-05-19 11:45:47 -0400
nebbiolo1Linux (Ubuntu 20.04.2 LTS) / x86_64  OK    OK    OK  UNNEEDED, same version is already published
tokay2Windows Server 2012 R2 Standard / x64  OK    OK    OK    OK  UNNEEDED, same version is already published
machv2macOS 10.14.6 Mojave / x86_64  OK    OK    OK    OK  UNNEEDED, same version is already published
Package 147/2041HostnameOS / ArchINSTALLBUILDCHECKBUILD BIN
BicARE 1.50.0  (landing page)
Pierre Gestraud
Last Commit: 8c27ce5
Last Changed Date: 2021-05-19 11:42:14 -0400
nebbiolo1Linux (Ubuntu 20.04.2 LTS) / x86_64  OK    OK    OK  UNNEEDED, same version is already published
tokay2Windows Server 2012 R2 Standard / x64  OK    OK    OK    OK  UNNEEDED, same version is already published
machv2macOS 10.14.6 Mojave / x86_64  OK    OK    OK    OK  UNNEEDED, same version is already published
Package 148/2041HostnameOS / ArchINSTALLBUILDCHECKBUILD BIN
BiFET 1.12.0  (landing page)
Ahrim Youn
Last Commit: 5eb0b62
Last Changed Date: 2021-05-19 12:32:41 -0400
nebbiolo1Linux (Ubuntu 20.04.2 LTS) / x86_64  OK    OK    OK  UNNEEDED, same version is already published
tokay2Windows Server 2012 R2 Standard / x64  OK    OK    OK    OK  UNNEEDED, same version is already published
machv2macOS 10.14.6 Mojave / x86_64  OK    OK    OK    OK  UNNEEDED, same version is already published
Package 149/2041HostnameOS / ArchINSTALLBUILDCHECKBUILD BIN
BiGGR 1.28.0  (landing page)
Anand K. Gavai
Last Commit: 1736ee9
Last Changed Date: 2021-05-19 12:00:29 -0400
nebbiolo1Linux (Ubuntu 20.04.2 LTS) / x86_64  OK    OK    OK  UNNEEDED, same version is already published
tokay2Windows Server 2012 R2 Standard / x64  OK    OK    OK    OK  UNNEEDED, same version is already published
machv2macOS 10.14.6 Mojave / x86_64... NOT SUPPORTED ...
Package 150/2041HostnameOS / ArchINSTALLBUILDCHECKBUILD BIN
bigmelon 1.18.0  (landing page)
Tyler J. Gorrie-Stone
Last Commit: 6ca2330
Last Changed Date: 2021-05-19 12:23:05 -0400
nebbiolo1Linux (Ubuntu 20.04.2 LTS) / x86_64  OK    OK    OK  UNNEEDED, same version is already published
tokay2Windows Server 2012 R2 Standard / x64  OK    OK    OK    OK  UNNEEDED, same version is already published
machv2macOS 10.14.6 Mojave / x86_64  OK    OK    OK    OK  UNNEEDED, same version is already published
Package 151/2041HostnameOS / ArchINSTALLBUILDCHECKBUILD BIN
bigmemoryExtras 1.40.0  (landing page)
Peter M. Haverty
Last Commit: 3db91bc
Last Changed Date: 2021-05-19 11:54:13 -0400
nebbiolo1Linux (Ubuntu 20.04.2 LTS) / x86_64  OK    OK    ERROR  
tokay2Windows Server 2012 R2 Standard / x64... NOT SUPPORTED ...
machv2macOS 10.14.6 Mojave / x86_64  OK    OK    ERROR    OK  
Package 152/2041HostnameOS / ArchINSTALLBUILDCHECKBUILD BIN
bigPint 1.8.0  (landing page)
Lindsay Rutter
Last Commit: d2b72f4
Last Changed Date: 2021-05-19 12:40:30 -0400
nebbiolo1Linux (Ubuntu 20.04.2 LTS) / x86_64  OK    OK    WARNINGS  UNNEEDED, same version is already published
tokay2Windows Server 2012 R2 Standard / x64  OK    OK    WARNINGS    OK  UNNEEDED, same version is already published
machv2macOS 10.14.6 Mojave / x86_64  OK    OK    WARNINGS    OK  UNNEEDED, same version is already published
Package 153/2041HostnameOS / ArchINSTALLBUILDCHECKBUILD BIN
bioassayR 1.30.0  (landing page)
Daniela Cassol
Last Commit: 4c1993a
Last Changed Date: 2021-05-19 12:01:01 -0400
nebbiolo1Linux (Ubuntu 20.04.2 LTS) / x86_64  OK    OK    OK  UNNEEDED, same version is already published
tokay2Windows Server 2012 R2 Standard / x64  OK    OK    WARNINGS    OK  UNNEEDED, same version is already published
machv2macOS 10.14.6 Mojave / x86_64  OK    OK    OK    OK  UNNEEDED, same version is already published
Package 154/2041HostnameOS / ArchINSTALLBUILDCHECKBUILD BIN
Biobase 2.52.0  (landing page)
Bioconductor Package Maintainer
Last Commit: be5163c
Last Changed Date: 2021-05-19 11:32:30 -0400
nebbiolo1Linux (Ubuntu 20.04.2 LTS) / x86_64  OK    OK    OK  UNNEEDED, same version is already published
tokay2Windows Server 2012 R2 Standard / x64  OK    OK    OK    OK  UNNEEDED, same version is already published
machv2macOS 10.14.6 Mojave / x86_64  OK    OK    OK    OK  UNNEEDED, same version is already published
Package 155/2041HostnameOS / ArchINSTALLBUILDCHECKBUILD BIN
biobroom 1.24.0  (landing page)
John D. Storey and Andrew J. Bass
Last Commit: 9a686b2
Last Changed Date: 2021-05-19 12:16:32 -0400
nebbiolo1Linux (Ubuntu 20.04.2 LTS) / x86_64  OK    OK    WARNINGS  UNNEEDED, same version is already published
tokay2Windows Server 2012 R2 Standard / x64  OK    OK    WARNINGS    OK  UNNEEDED, same version is already published
machv2macOS 10.14.6 Mojave / x86_64  OK    OK    WARNINGS    OK  UNNEEDED, same version is already published
Package 156/2041HostnameOS / ArchINSTALLBUILDCHECKBUILD BIN
biobtreeR 1.4.0  (landing page)
Tamer Gur
Last Commit: f2a07b9
Last Changed Date: 2021-05-19 12:48:34 -0400
nebbiolo1Linux (Ubuntu 20.04.2 LTS) / x86_64  OK    OK    OK  UNNEEDED, same version is already published
tokay2Windows Server 2012 R2 Standard / x64  OK    OK    OK    OK  UNNEEDED, same version is already published
machv2macOS 10.14.6 Mojave / x86_64  OK    OK    OK    OK  UNNEEDED, same version is already published
Package 157/2041HostnameOS / ArchINSTALLBUILDCHECKBUILD BIN
bioCancer 1.20.02  (landing page)
Karim Mezhoud
Last Commit: 19fc7ba
Last Changed Date: 2021-06-30 07:34:37 -0400
nebbiolo1Linux (Ubuntu 20.04.2 LTS) / x86_64  OK    OK    OK  UNNEEDED, same version is already published
tokay2Windows Server 2012 R2 Standard / x64  OK    OK    OK    OK  UNNEEDED, same version is already published
machv2macOS 10.14.6 Mojave / x86_64  OK    OK    OK    OK  UNNEEDED, same version is already published
Package 158/2041HostnameOS / ArchINSTALLBUILDCHECKBUILD BIN
BiocCaseStudies 1.54.0  (landing page)
Bioconductor Package Maintainer
Last Commit: 06c9fd8
Last Changed Date: 2021-05-19 11:39:57 -0400
nebbiolo1Linux (Ubuntu 20.04.2 LTS) / x86_64  OK    OK    ERROR  
tokay2Windows Server 2012 R2 Standard / x64  OK    OK    ERROR    OK  
machv2macOS 10.14.6 Mojave / x86_64  OK    OK    ERROR    OK  
Package 159/2041HostnameOS / ArchINSTALLBUILDCHECKBUILD BIN
BiocCheck 1.28.0  (landing page)
Bioconductor Package Maintainer
Last Commit: 5fcd8f9
Last Changed Date: 2021-05-19 12:04:16 -0400
nebbiolo1Linux (Ubuntu 20.04.2 LTS) / x86_64  OK    OK    OK  UNNEEDED, same version is already published
tokay2Windows Server 2012 R2 Standard / x64  OK    OK    OK    OK  UNNEEDED, same version is already published
machv2macOS 10.14.6 Mojave / x86_64  OK    OK    OK    OK  UNNEEDED, same version is already published
Package 160/2041HostnameOS / ArchINSTALLBUILDCHECKBUILD BIN
BiocDockerManager 1.4.0  (landing page)
Bioconductor Package Maintainer
Last Commit: 16ea460
Last Changed Date: 2021-05-19 12:50:55 -0400
nebbiolo1Linux (Ubuntu 20.04.2 LTS) / x86_64  OK    OK    OK  UNNEEDED, same version is already published
tokay2Windows Server 2012 R2 Standard / x64  OK    OK    OK    OK  UNNEEDED, same version is already published
machv2macOS 10.14.6 Mojave / x86_64  OK    OK    OK    OK  UNNEEDED, same version is already published
Package 161/2041HostnameOS / ArchINSTALLBUILDCHECKBUILD BIN
BiocFileCache 2.0.0  (landing page)
Lori Shepherd
Last Commit: 280a8f9
Last Changed Date: 2021-05-19 12:26:36 -0400
nebbiolo1Linux (Ubuntu 20.04.2 LTS) / x86_64  OK    OK    OK  UNNEEDED, same version is already published
tokay2Windows Server 2012 R2 Standard / x64  OK    OK    OK    OK  UNNEEDED, same version is already published
machv2macOS 10.14.6 Mojave / x86_64  OK    OK    OK    OK  UNNEEDED, same version is already published
Package 162/2041HostnameOS / ArchINSTALLBUILDCHECKBUILD BIN
BiocGenerics 0.38.0  (landing page)
Bioconductor Package Maintainer
Last Commit: 1db849a
Last Changed Date: 2021-05-19 11:50:56 -0400
nebbiolo1Linux (Ubuntu 20.04.2 LTS) / x86_64  OK    OK    WARNINGS  UNNEEDED, same version is already published
tokay2Windows Server 2012 R2 Standard / x64  OK    OK    WARNINGS    OK  UNNEEDED, same version is already published
machv2macOS 10.14.6 Mojave / x86_64  OK    OK    WARNINGS    OK  UNNEEDED, same version is already published
Package 163/2041HostnameOS / ArchINSTALLBUILDCHECKBUILD BIN
biocGraph 1.54.0  (landing page)
Florian Hahne
Last Commit: f0f25d4
Last Changed Date: 2021-05-19 11:39:20 -0400
nebbiolo1Linux (Ubuntu 20.04.2 LTS) / x86_64  OK    OK    OK  UNNEEDED, same version is already published
tokay2Windows Server 2012 R2 Standard / x64  OK    OK    OK    OK  UNNEEDED, same version is already published
machv2macOS 10.14.6 Mojave / x86_64  OK    OK    OK    OK  UNNEEDED, same version is already published
Package 164/2041HostnameOS / ArchINSTALLBUILDCHECKBUILD BIN
BiocIO 1.2.0  (landing page)
Bioconductor Package Maintainer
Last Commit: fef4c1c
Last Changed Date: 2021-05-19 12:54:48 -0400
nebbiolo1Linux (Ubuntu 20.04.2 LTS) / x86_64  OK    OK    OK  UNNEEDED, same version is already published
tokay2Windows Server 2012 R2 Standard / x64  OK    OK    OK    OK  UNNEEDED, same version is already published
machv2macOS 10.14.6 Mojave / x86_64  OK    OK    OK    OK  UNNEEDED, same version is already published
Package 165/2041HostnameOS / ArchINSTALLBUILDCHECKBUILD BIN
BiocNeighbors 1.10.0  (landing page)
Aaron Lun
Last Commit: c6779d6
Last Changed Date: 2021-05-19 12:36:35 -0400
nebbiolo1Linux (Ubuntu 20.04.2 LTS) / x86_64  OK    OK    OK  UNNEEDED, same version is already published
tokay2Windows Server 2012 R2 Standard / x64  OK    OK    OK    OK  UNNEEDED, same version is already published
machv2macOS 10.14.6 Mojave / x86_64  OK    OK    OK    OK  UNNEEDED, same version is already published
Package 166/2041HostnameOS / ArchINSTALLBUILDCHECKBUILD BIN
BiocOncoTK 1.12.1  (landing page)
VJ Carey
Last Commit: 5b4a389
Last Changed Date: 2021-06-28 15:44:05 -0400
nebbiolo1Linux (Ubuntu 20.04.2 LTS) / x86_64  OK    OK    OK  UNNEEDED, same version is already published
tokay2Windows Server 2012 R2 Standard / x64  OK    OK    OK    OK  UNNEEDED, same version is already published
machv2macOS 10.14.6 Mojave / x86_64  OK    OK    OK    OK  UNNEEDED, same version is already published
Package 167/2041HostnameOS / ArchINSTALLBUILDCHECKBUILD BIN
BioCor 1.16.0  (landing page)
Lluís Revilla Sancho
Last Commit: 8b830d8
Last Changed Date: 2021-05-19 12:26:34 -0400
nebbiolo1Linux (Ubuntu 20.04.2 LTS) / x86_64  OK    OK    OK  UNNEEDED, same version is already published
tokay2Windows Server 2012 R2 Standard / x64  OK    OK    OK    OK  UNNEEDED, same version is already published
machv2macOS 10.14.6 Mojave / x86_64  OK    OK    OK    OK  UNNEEDED, same version is already published
Package 168/2041HostnameOS / ArchINSTALLBUILDCHECKBUILD BIN
BiocParallel 1.26.1  (landing page)
Bioconductor Package Maintainer
Last Commit: f7278ab
Last Changed Date: 2021-07-03 16:07:26 -0400
nebbiolo1Linux (Ubuntu 20.04.2 LTS) / x86_64  OK    OK    OK  UNNEEDED, same version is already published
tokay2Windows Server 2012 R2 Standard / x64  OK    OK    OK    OK  UNNEEDED, same version is already published
machv2macOS 10.14.6 Mojave / x86_64  OK    OK    OK    OK  UNNEEDED, same version is already published
Package 169/2041HostnameOS / ArchINSTALLBUILDCHECKBUILD BIN
BiocPkgTools 1.10.1  (landing page)
Sean Davis
Last Commit: bba81c9
Last Changed Date: 2021-05-22 15:29:12 -0400
nebbiolo1Linux (Ubuntu 20.04.2 LTS) / x86_64  OK    OK    OK  UNNEEDED, same version is already published
tokay2Windows Server 2012 R2 Standard / x64  OK    OK    OK    OK  UNNEEDED, same version is already published
machv2macOS 10.14.6 Mojave / x86_64  OK    OK    OK    OK  UNNEEDED, same version is already published
Package 170/2041HostnameOS / ArchINSTALLBUILDCHECKBUILD BIN
BiocSet 1.6.0  (landing page)
Kayla Morrell
Last Commit: af9d883
Last Changed Date: 2021-05-19 12:48:11 -0400
nebbiolo1Linux (Ubuntu 20.04.2 LTS) / x86_64  OK    OK    OK  UNNEEDED, same version is already published
tokay2Windows Server 2012 R2 Standard / x64  OK    OK    OK    OK  UNNEEDED, same version is already published
machv2macOS 10.14.6 Mojave / x86_64  OK    OK    OK    OK  UNNEEDED, same version is already published
Package 171/2041HostnameOS / ArchINSTALLBUILDCHECKBUILD BIN
BiocSingular 1.8.1  (landing page)
Aaron Lun
Last Commit: 860033b
Last Changed Date: 2021-06-08 02:14:49 -0400
nebbiolo1Linux (Ubuntu 20.04.2 LTS) / x86_64  OK    OK    OK  UNNEEDED, same version is already published
tokay2Windows Server 2012 R2 Standard / x64  OK    OK    OK    OK  UNNEEDED, same version is already published
machv2macOS 10.14.6 Mojave / x86_64  OK    OK    OK    OK  UNNEEDED, same version is already published
Package 172/2041HostnameOS / ArchINSTALLBUILDCHECKBUILD BIN
BiocSklearn 1.14.0  (landing page)
Vince Carey
Last Commit: 559d1a8
Last Changed Date: 2021-05-19 12:29:17 -0400
nebbiolo1Linux (Ubuntu 20.04.2 LTS) / x86_64  OK    OK    OK  UNNEEDED, same version is already published
tokay2Windows Server 2012 R2 Standard / x64  OK    OK    OK    OK  UNNEEDED, same version is already published
machv2macOS 10.14.6 Mojave / x86_64  OK    OK    OK    OK  UNNEEDED, same version is already published
Package 173/2041HostnameOS / ArchINSTALLBUILDCHECKBUILD BIN
BiocStyle 2.20.2  (landing page)
Bioconductor Package
Last Commit: a35cffe
Last Changed Date: 2021-06-17 04:20:37 -0400
nebbiolo1Linux (Ubuntu 20.04.2 LTS) / x86_64  OK    OK    OK  UNNEEDED, same version is already published
tokay2Windows Server 2012 R2 Standard / x64  OK    OK    OK    OK  UNNEEDED, same version is already published
machv2macOS 10.14.6 Mojave / x86_64  OK    OK    OK    OK  UNNEEDED, same version is already published
Package 174/2041HostnameOS / ArchINSTALLBUILDCHECKBUILD BIN
biocthis 1.2.0  (landing page)
Leonardo Collado-Torres
Last Commit: bc58cac
Last Changed Date: 2021-05-19 12:56:42 -0400
nebbiolo1Linux (Ubuntu 20.04.2 LTS) / x86_64  OK    OK    OK  UNNEEDED, same version is already published
tokay2Windows Server 2012 R2 Standard / x64  OK    ERROR  skippedskipped
machv2macOS 10.14.6 Mojave / x86_64  OK    OK    OK    OK  UNNEEDED, same version is already published
Package 175/2041HostnameOS / ArchINSTALLBUILDCHECKBUILD BIN
BiocVersion 3.13.1  (landing page)
Bioconductor Package Maintainer
Last Commit: 3466413
Last Changed Date: 2020-10-27 13:48:38 -0400
nebbiolo1Linux (Ubuntu 20.04.2 LTS) / x86_64  OK    OK    OK  UNNEEDED, same version is already published
tokay2Windows Server 2012 R2 Standard / x64  OK    OK    OK    OK  UNNEEDED, same version is already published
machv2macOS 10.14.6 Mojave / x86_64  OK    OK    OK    OK  UNNEEDED, same version is already published
Package 176/2041HostnameOS / ArchINSTALLBUILDCHECKBUILD BIN
biocViews 1.60.0  (landing page)
Bioconductor Package Maintainer
Last Commit: b861d8d
Last Changed Date: 2021-05-19 11:36:22 -0400
nebbiolo1Linux (Ubuntu 20.04.2 LTS) / x86_64  OK    OK    OK  UNNEEDED, same version is already published
tokay2Windows Server 2012 R2 Standard / x64  OK    OK    OK    OK  UNNEEDED, same version is already published
machv2macOS 10.14.6 Mojave / x86_64  OK    OK    OK    OK  UNNEEDED, same version is already published
Package 177/2041HostnameOS / ArchINSTALLBUILDCHECKBUILD BIN
BiocWorkflowTools 1.18.0  (landing page)
Mike Smith
Last Commit: 3894fab
Last Changed Date: 2021-05-19 12:22:57 -0400
nebbiolo1Linux (Ubuntu 20.04.2 LTS) / x86_64  OK    OK    OK  UNNEEDED, same version is already published
tokay2Windows Server 2012 R2 Standard / x64  OK    OK    OK    OK  UNNEEDED, same version is already published
machv2macOS 10.14.6 Mojave / x86_64  OK    OK    OK    OK  UNNEEDED, same version is already published
Package 178/2041HostnameOS / ArchINSTALLBUILDCHECKBUILD BIN
biodb 1.0.4  (landing page)
Pierrick Roger
Last Commit: 84b7aff
Last Changed Date: 2021-06-09 04:23:12 -0400
nebbiolo1Linux (Ubuntu 20.04.2 LTS) / x86_64  OK    OK    OK  UNNEEDED, same version is already published
tokay2Windows Server 2012 R2 Standard / x64  OK    OK    OK    OK  UNNEEDED, same version is already published
machv2macOS 10.14.6 Mojave / x86_64  OK    OK    OK    OK  UNNEEDED, same version is already published
Package 179/2041HostnameOS / ArchINSTALLBUILDCHECKBUILD BIN
bioDist 1.64.0  (landing page)
Bioconductor Package Maintainer
Last Commit: acf9621
Last Changed Date: 2021-05-19 11:35:12 -0400
nebbiolo1Linux (Ubuntu 20.04.2 LTS) / x86_64  OK    OK    OK  UNNEEDED, same version is already published
tokay2Windows Server 2012 R2 Standard / x64  OK    OK    OK    OK  UNNEEDED, same version is already published
machv2macOS 10.14.6 Mojave / x86_64  OK    OK    OK    OK  UNNEEDED, same version is already published
Package 180/2041HostnameOS / ArchINSTALLBUILDCHECKBUILD BIN
biomaRt 2.48.2  (landing page)
Mike Smith
Last Commit: 0a1199d
Last Changed Date: 2021-06-29 08:26:35 -0400
nebbiolo1Linux (Ubuntu 20.04.2 LTS) / x86_64  OK    OK    OK  UNNEEDED, same version is already published
tokay2Windows Server 2012 R2 Standard / x64  OK    OK    ERROR    OK  
machv2macOS 10.14.6 Mojave / x86_64  OK    OK    OK    OK  UNNEEDED, same version is already published
Package 181/2041HostnameOS / ArchINSTALLBUILDCHECKBUILD BIN
biomformat 1.20.0  (landing page)
Paul J. McMurdie
Last Commit: 986d2aa
Last Changed Date: 2021-05-19 12:16:57 -0400
nebbiolo1Linux (Ubuntu 20.04.2 LTS) / x86_64  OK    OK    WARNINGS  UNNEEDED, same version is already published
tokay2Windows Server 2012 R2 Standard / x64  OK    OK    WARNINGS    OK  UNNEEDED, same version is already published
machv2macOS 10.14.6 Mojave / x86_64  OK    OK    WARNINGS    OK  UNNEEDED, same version is already published
Package 182/2041HostnameOS / ArchINSTALLBUILDCHECKBUILD BIN
BioMM 1.8.0  (landing page)
Junfang Chen
Last Commit: 765ffb7
Last Changed Date: 2021-05-19 12:41:03 -0400
nebbiolo1Linux (Ubuntu 20.04.2 LTS) / x86_64  OK    OK    OK  UNNEEDED, same version is already published
tokay2Windows Server 2012 R2 Standard / x64  OK    OK    OK    OK  UNNEEDED, same version is already published
machv2macOS 10.14.6 Mojave / x86_64  OK    OK    OK    OK  UNNEEDED, same version is already published
Package 183/2041HostnameOS / ArchINSTALLBUILDCHECKBUILD BIN
BioMVCClass 1.60.0  (landing page)
Elizabeth Whalen
Last Commit: b626fb8
Last Changed Date: 2021-05-19 11:37:57 -0400
nebbiolo1Linux (Ubuntu 20.04.2 LTS) / x86_64  OK    OK    OK  UNNEEDED, same version is already published
tokay2Windows Server 2012 R2 Standard / x64  OK    OK    OK    OK  UNNEEDED, same version is already published
machv2macOS 10.14.6 Mojave / x86_64  OK    OK    OK    OK  UNNEEDED, same version is already published
Package 184/2041HostnameOS / ArchINSTALLBUILDCHECKBUILD BIN
biomvRCNS 1.32.0  (landing page)
Yang Du
Last Commit: c4c6948
Last Changed Date: 2021-05-19 11:57:38 -0400
nebbiolo1Linux (Ubuntu 20.04.2 LTS) / x86_64  OK    OK    OK  UNNEEDED, same version is already published
tokay2Windows Server 2012 R2 Standard / x64  OK    OK    OK    OK  UNNEEDED, same version is already published
machv2macOS 10.14.6 Mojave / x86_64  OK    OK    OK    OK  UNNEEDED, same version is already published
Package 185/2041HostnameOS / ArchINSTALLBUILDCHECKBUILD BIN
BioNERO 1.0.1  (landing page)
Fabricio Almeida-Silva
Last Commit: f8eb1c4
Last Changed Date: 2021-07-02 11:12:05 -0400
nebbiolo1Linux (Ubuntu 20.04.2 LTS) / x86_64  OK    OK    OK  UNNEEDED, same version is already published
tokay2Windows Server 2012 R2 Standard / x64  OK    OK    OK    OK  UNNEEDED, same version is already published
machv2macOS 10.14.6 Mojave / x86_64  OK    OK    OK    OK  UNNEEDED, same version is already published
Package 186/2041HostnameOS / ArchINSTALLBUILDCHECKBUILD BIN
BioNet 1.52.0  (landing page)
Marcus Dittrich
Last Commit: 5045304
Last Changed Date: 2021-05-19 11:46:01 -0400
nebbiolo1Linux (Ubuntu 20.04.2 LTS) / x86_64  OK    OK    OK  UNNEEDED, same version is already published
tokay2Windows Server 2012 R2 Standard / x64  OK    OK    OK    OK  UNNEEDED, same version is already published
machv2macOS 10.14.6 Mojave / x86_64  OK    OK    OK    OK  UNNEEDED, same version is already published
Package 187/2041HostnameOS / ArchINSTALLBUILDCHECKBUILD BIN
BioNetStat 1.12.0  (landing page)
Vinicius Jardim
Last Commit: 1bd4d5e
Last Changed Date: 2021-05-19 12:35:18 -0400
nebbiolo1Linux (Ubuntu 20.04.2 LTS) / x86_64  OK    OK    OK  UNNEEDED, same version is already published
tokay2Windows Server 2012 R2 Standard / x64  OK    OK    OK    OK  UNNEEDED, same version is already published
machv2macOS 10.14.6 Mojave / x86_64  OK    OK    OK    OK  UNNEEDED, same version is already published
Package 188/2041HostnameOS / ArchINSTALLBUILDCHECKBUILD BIN
BioQC 1.20.0  (landing page)
Jitao David Zhang
Last Commit: 1f94f0f
Last Changed Date: 2021-05-19 12:16:54 -0400
nebbiolo1Linux (Ubuntu 20.04.2 LTS) / x86_64  OK    OK    OK  UNNEEDED, same version is already published
tokay2Windows Server 2012 R2 Standard / x64  OK    OK    OK    OK  UNNEEDED, same version is already published
machv2macOS 10.14.6 Mojave / x86_64  OK    OK    OK    OK  UNNEEDED, same version is already published
Package 189/2041HostnameOS / ArchINSTALLBUILDCHECKBUILD BIN
biosigner 1.20.0  (landing page)
Philippe Rinaudo , Etienne Thevenot
Last Commit: 2186320
Last Changed Date: 2021-05-19 12:18:29 -0400
nebbiolo1Linux (Ubuntu 20.04.2 LTS) / x86_64  OK    OK    OK  UNNEEDED, same version is already published
tokay2Windows Server 2012 R2 Standard / x64  OK    OK    OK    OK  UNNEEDED, same version is already published
machv2macOS 10.14.6 Mojave / x86_64  OK    OK    OK    OK  UNNEEDED, same version is already published
Package 190/2041HostnameOS / ArchINSTALLBUILDCHECKBUILD BIN
Biostrings 2.60.1  (landing page)
H. Pagès
Last Commit: e0cd6ef
Last Changed Date: 2021-06-03 22:08:27 -0400
nebbiolo1Linux (Ubuntu 20.04.2 LTS) / x86_64  OK    OK    WARNINGS  UNNEEDED, same version is already published
tokay2Windows Server 2012 R2 Standard / x64  OK    OK    WARNINGS    OK  UNNEEDED, same version is already published
machv2macOS 10.14.6 Mojave / x86_64  OK    OK    WARNINGS    OK  UNNEEDED, same version is already published
Package 191/2041HostnameOS / ArchINSTALLBUILDCHECKBUILD BIN
BioTIP 1.6.0  (landing page)
Yuxi (Jennifer) Sun , Zhezhen Wang , and X Holly Yang
Last Commit: 42fb23f
Last Changed Date: 2021-05-19 12:46:34 -0400
nebbiolo1Linux (Ubuntu 20.04.2 LTS) / x86_64  OK    OK    WARNINGS  UNNEEDED, same version is already published
tokay2Windows Server 2012 R2 Standard / x64  OK    OK    WARNINGS    OK  UNNEEDED, same version is already published
machv2macOS 10.14.6 Mojave / x86_64  OK    OK    WARNINGS    OK  UNNEEDED, same version is already published
Package 192/2041HostnameOS / ArchINSTALLBUILDCHECKBUILD BIN
biotmle 1.16.0  (landing page)
Nima Hejazi
Last Commit: 64f9cfb
Last Changed Date: 2021-05-19 12:27:26 -0400
nebbiolo1Linux (Ubuntu 20.04.2 LTS) / x86_64  OK    OK    OK  UNNEEDED, same version is already published
tokay2Windows Server 2012 R2 Standard / x64  OK    OK    OK    OK  UNNEEDED, same version is already published
machv2macOS 10.14.6 Mojave / x86_64  OK    OK    OK    OK  UNNEEDED, same version is already published
Package 193/2041HostnameOS / ArchINSTALLBUILDCHECKBUILD BIN
biovizBase 1.40.0  (landing page)
Michael Lawrence
Last Commit: e741735
Last Changed Date: 2021-05-19 11:50:05 -0400
nebbiolo1Linux (Ubuntu 20.04.2 LTS) / x86_64  OK    OK    WARNINGS  UNNEEDED, same version is already published
tokay2Windows Server 2012 R2 Standard / x64  OK    OK    WARNINGS    OK  UNNEEDED, same version is already published
machv2macOS 10.14.6 Mojave / x86_64  OK    OK    WARNINGS    OK  UNNEEDED, same version is already published
Package 194/2041HostnameOS / ArchINSTALLBUILDCHECKBUILD BIN
BiRewire 3.24.0  (landing page)
Andrea Gobbi
Last Commit: 6a27de6
Last Changed Date: 2021-05-19 12:00:40 -0400
nebbiolo1Linux (Ubuntu 20.04.2 LTS) / x86_64  OK    OK    WARNINGS  UNNEEDED, same version is already published
tokay2Windows Server 2012 R2 Standard / x64  OK    OK    WARNINGS    OK  UNNEEDED, same version is already published
machv2macOS 10.14.6 Mojave / x86_64  OK    OK    OK    OK  UNNEEDED, same version is already published
Package 195/2041HostnameOS / ArchINSTALLBUILDCHECKBUILD BIN
biscuiteer 1.6.0  (landing page)
"Jacob Morrison"
Last Commit: 6d86b7b
Last Changed Date: 2021-05-19 12:47:26 -0400
nebbiolo1Linux (Ubuntu 20.04.2 LTS) / x86_64  OK    OK    WARNINGS  UNNEEDED, same version is already published
tokay2Windows Server 2012 R2 Standard / x64  OK    OK    WARNINGS    OK  UNNEEDED, same version is already published
machv2macOS 10.14.6 Mojave / x86_64  OK    OK    WARNINGS    OK  UNNEEDED, same version is already published
Package 196/2041HostnameOS / ArchINSTALLBUILDCHECKBUILD BIN
BiSeq 1.32.0  (landing page)
Katja Hebestreit
Last Commit: d5b9175
Last Changed Date: 2021-05-19 11:58:45 -0400
nebbiolo1Linux (Ubuntu 20.04.2 LTS) / x86_64  OK    OK    OK  UNNEEDED, same version is already published
tokay2Windows Server 2012 R2 Standard / x64  OK    OK    OK    OK  UNNEEDED, same version is already published
machv2macOS 10.14.6 Mojave / x86_64  OK    OK    OK    OK  UNNEEDED, same version is already published
Package 197/2041HostnameOS / ArchINSTALLBUILDCHECKBUILD BIN
BitSeq 1.36.0  (landing page)
Antti Honkela , Panagiotis Papastamoulis
Last Commit: 9a22089
Last Changed Date: 2021-05-19 11:52:00 -0400
nebbiolo1Linux (Ubuntu 20.04.2 LTS) / x86_64  OK    OK    WARNINGS  UNNEEDED, same version is already published
tokay2Windows Server 2012 R2 Standard / x64  OK    OK    WARNINGS    OK  UNNEEDED, same version is already published
machv2macOS 10.14.6 Mojave / x86_64  OK    OK    WARNINGS    OK  UNNEEDED, same version is already published
Package 198/2041HostnameOS / ArchINSTALLBUILDCHECKBUILD BIN
blacksheepr 1.6.0  (landing page)
RugglesLab
Last Commit: 665a6ef
Last Changed Date: 2021-05-19 12:46:59 -0400
nebbiolo1Linux (Ubuntu 20.04.2 LTS) / x86_64  OK    OK    OK  UNNEEDED, same version is already published
tokay2Windows Server 2012 R2 Standard / x64  OK    OK    OK    OK  UNNEEDED, same version is already published
machv2macOS 10.14.6 Mojave / x86_64  OK    OK    OK    OK  UNNEEDED, same version is already published
Package 199/2041HostnameOS / ArchINSTALLBUILDCHECKBUILD BIN
blima 1.26.0  (landing page)
Vojtěch Kulvait
Last Commit: f56780e
Last Changed Date: 2021-05-19 12:05:08 -0400
nebbiolo1Linux (Ubuntu 20.04.2 LTS) / x86_64  OK    OK    WARNINGS  UNNEEDED, same version is already published
tokay2Windows Server 2012 R2 Standard / x64  OK    OK    WARNINGS    OK  UNNEEDED, same version is already published
machv2macOS 10.14.6 Mojave / x86_64  OK    OK    WARNINGS    OK  UNNEEDED, same version is already published
Package 200/2041HostnameOS / ArchINSTALLBUILDCHECKBUILD BIN
BLMA 1.16.0  (landing page)
Hung Nguyen
Last Commit: 9b4e0e3
Last Changed Date: 2021-05-19 12:27:28 -0400
nebbiolo1Linux (Ubuntu 20.04.2 LTS) / x86_64  OK    OK    OK  UNNEEDED, same version is already published
tokay2Windows Server 2012 R2 Standard / x64  OK    OK    OK    OK  UNNEEDED, same version is already published
machv2macOS 10.14.6 Mojave / x86_64  OK    OK    OK    OK  UNNEEDED, same version is already published
Package 201/2041HostnameOS / ArchINSTALLBUILDCHECKBUILD BIN
BloodGen3Module 1.0.0  (landing page)
Darawan Rinchai
Last Commit: 2f62a72
Last Changed Date: 2021-05-19 13:03:34 -0400
nebbiolo1Linux (Ubuntu 20.04.2 LTS) / x86_64  OK    OK    WARNINGS  UNNEEDED, same version is already published
tokay2Windows Server 2012 R2 Standard / x64  OK    OK    WARNINGS    OK  UNNEEDED, same version is already published
machv2macOS 10.14.6 Mojave / x86_64  OK    OK    WARNINGS    OK  UNNEEDED, same version is already published
Package 202/2041HostnameOS / ArchINSTALLBUILDCHECKBUILD BIN
bluster 1.2.1  (landing page)
Aaron Lun
Last Commit: 5657043
Last Changed Date: 2021-05-26 02:25:40 -0400
nebbiolo1Linux (Ubuntu 20.04.2 LTS) / x86_64  OK    OK    OK  UNNEEDED, same version is already published
tokay2Windows Server 2012 R2 Standard / x64  OK    OK    OK    OK  UNNEEDED, same version is already published
machv2macOS 10.14.6 Mojave / x86_64  OK    OK    OK    OK  UNNEEDED, same version is already published
Package 203/2041HostnameOS / ArchINSTALLBUILDCHECKBUILD BIN
bnbc 1.14.0  (landing page)
Kipper Fletez-Brant
Last Commit: 210c4d2
Last Changed Date: 2021-05-19 12:31:07 -0400
nebbiolo1Linux (Ubuntu 20.04.2 LTS) / x86_64  OK    OK    OK  UNNEEDED, same version is already published
tokay2Windows Server 2012 R2 Standard / x64  OK    OK    OK    OK  UNNEEDED, same version is already published
machv2macOS 10.14.6 Mojave / x86_64  OK    OK    OK    OK  UNNEEDED, same version is already published
Package 204/2041HostnameOS / ArchINSTALLBUILDCHECKBUILD BIN
bnem 1.0.0  (landing page)
Martin Pirkl
Last Commit: 3109efd
Last Changed Date: 2021-05-19 12:58:21 -0400
nebbiolo1Linux (Ubuntu 20.04.2 LTS) / x86_64  OK    OK    OK  UNNEEDED, same version is already published
tokay2Windows Server 2012 R2 Standard / x64  OK    OK    OK    OK  UNNEEDED, same version is already published
machv2macOS 10.14.6 Mojave / x86_64  OK    OK    OK    OK  UNNEEDED, same version is already published
Package 205/2041HostnameOS / ArchINSTALLBUILDCHECKBUILD BIN
BPRMeth 1.18.0  (landing page)
Chantriolnt-Andreas Kapourani
Last Commit: 2d62182
Last Changed Date: 2021-05-19 12:24:30 -0400
nebbiolo1Linux (Ubuntu 20.04.2 LTS) / x86_64  OK    OK    OK  UNNEEDED, same version is already published
tokay2Windows Server 2012 R2 Standard / x64  OK    OK    OK    OK  UNNEEDED, same version is already published
machv2macOS 10.14.6 Mojave / x86_64  OK    OK    OK    OK  UNNEEDED, same version is already published
Package 206/2041HostnameOS / ArchINSTALLBUILDCHECKBUILD BIN
BRAIN 1.38.0  (landing page)
Piotr Dittwald
Last Commit: eea0fc0
Last Changed Date: 2021-05-19 11:51:37 -0400
nebbiolo1Linux (Ubuntu 20.04.2 LTS) / x86_64  OK    OK    WARNINGS  UNNEEDED, same version is already published
tokay2Windows Server 2012 R2 Standard / x64  OK    OK    WARNINGS    OK  UNNEEDED, same version is already published
machv2macOS 10.14.6 Mojave / x86_64  OK    OK    WARNINGS    OK  UNNEEDED, same version is already published
Package 207/2041HostnameOS / ArchINSTALLBUILDCHECKBUILD BIN
brainflowprobes 1.6.0  (landing page)
Amanda Price
Last Commit: 3bae675
Last Changed Date: 2021-05-19 12:47:58 -0400
nebbiolo1Linux (Ubuntu 20.04.2 LTS) / x86_64  OK    OK    OK  UNNEEDED, same version is already published
tokay2Windows Server 2012 R2 Standard / x64  OK    OK    OK    OK  UNNEEDED, same version is already published
machv2macOS 10.14.6 Mojave / x86_64  OK    OK    OK    OK  UNNEEDED, same version is already published
Package 208/2041HostnameOS / ArchINSTALLBUILDCHECKBUILD BIN
BrainSABER 1.2.0  (landing page)
USD Biomedical Engineering
Last Commit: 0c1b22d
Last Changed Date: 2021-05-19 12:52:45 -0400
nebbiolo1Linux (Ubuntu 20.04.2 LTS) / x86_64  OK&nbs