Back to Multiple platform build/check report for BioC 3.13
ABCDEFGH[I]JKLMNOPQRSTUVWXYZ

All results for package impute

This page was generated on 2021-06-14 14:04:30 -0400 (Mon, 14 Jun 2021).

Package 918/2041HostnameOS / ArchINSTALLBUILDCHECKBUILD BIN
impute 1.66.0  (landing page)
Balasubramanian Narasimhan
Snapshot Date: 2021-06-13 06:50:09 -0400 (Sun, 13 Jun 2021)
URL: https://git.bioconductor.org/packages/impute
Branch: RELEASE_3_13
Last Commit: 5a92999
Last Changed Date: 2021-05-19 11:33:57 -0400 (Wed, 19 May 2021)
nebbiolo1Linux (Ubuntu 20.04.2 LTS) / x86_64  OK    OK    OK  UNNEEDED, same version is already published
tokay2Windows Server 2012 R2 Standard / x64  OK    OK    OK    OK  UNNEEDED, same version is already published
machv2macOS 10.14.6 Mojave / x86_64  OK    OK    OK    OK  UNNEEDED, same version is already published

Results for Bioconductor software packages that depend directly on package impute

QUICK STATSOS / ArchINSTALLBUILDCHECKBUILD BIN
nebbiolo1Linux (Ubuntu 20.04.2 LTS) / x86_64
0029
0029
00920
tokay2Windows Server 2012 R2 Standard / x64
1027
1027
10917
0027
machv2macOS 10.14.6 Mojave / x86_64
0029
0029
01820
0029
Package 1/29HostnameOS / ArchINSTALLBUILDCHECKBUILD BIN
AMARETTO 1.8.0  (landing page)
Olivier Gevaert
Last Commit: 3a94300
Last Changed Date: 2021-05-19 12:42:00 -0400
nebbiolo1Linux (Ubuntu 20.04.2 LTS) / x86_64  OK    OK    OK  UNNEEDED, same version is already published
tokay2Windows Server 2012 R2 Standard / x64  OK    OK    OK    OK  UNNEEDED, same version is already published
machv2macOS 10.14.6 Mojave / x86_64  OK    OK    OK    OK  UNNEEDED, same version is already published
Package 2/29HostnameOS / ArchINSTALLBUILDCHECKBUILD BIN
biscuiteer 1.6.0  (landing page)
"Jacob Morrison"
Last Commit: 6d86b7b
Last Changed Date: 2021-05-19 12:47:26 -0400
nebbiolo1Linux (Ubuntu 20.04.2 LTS) / x86_64  OK    OK    WARNINGS  UNNEEDED, same version is already published
tokay2Windows Server 2012 R2 Standard / x64  OK    OK    WARNINGS    OK  UNNEEDED, same version is already published
machv2macOS 10.14.6 Mojave / x86_64  OK    OK    WARNINGS    OK  UNNEEDED, same version is already published
Package 3/29HostnameOS / ArchINSTALLBUILDCHECKBUILD BIN
CancerSubtypes 1.18.0  (landing page)
Taosheng Xu
Last Commit: 66e771e
Last Changed Date: 2021-05-19 12:22:25 -0400
nebbiolo1Linux (Ubuntu 20.04.2 LTS) / x86_64  OK    OK    OK  UNNEEDED, same version is already published
tokay2Windows Server 2012 R2 Standard / x64  OK    OK    OK    OK  UNNEEDED, same version is already published
machv2macOS 10.14.6 Mojave / x86_64  OK    OK    OK    OK  UNNEEDED, same version is already published
Package 4/29HostnameOS / ArchINSTALLBUILDCHECKBUILD BIN
CGHcall 2.54.0  (landing page)
Mark van de Wiel
Last Commit: b30726c
Last Changed Date: 2021-05-19 11:39:33 -0400
nebbiolo1Linux (Ubuntu 20.04.2 LTS) / x86_64  OK    OK    WARNINGS  UNNEEDED, same version is already published
tokay2Windows Server 2012 R2 Standard / x64  OK    OK    WARNINGS    OK  UNNEEDED, same version is already published
machv2macOS 10.14.6 Mojave / x86_64  OK    OK    WARNINGS    OK  UNNEEDED, same version is already published
Package 5/29HostnameOS / ArchINSTALLBUILDCHECKBUILD BIN
ChAMP 2.22.0  (landing page)
Yuan Tian
Last Commit: 2350b07
Last Changed Date: 2021-05-19 12:01:34 -0400
nebbiolo1Linux (Ubuntu 20.04.2 LTS) / x86_64  OK    OK    WARNINGS  UNNEEDED, same version is already published
tokay2Windows Server 2012 R2 Standard / x64  OK    OK    WARNINGS    OK  UNNEEDED, same version is already published
machv2macOS 10.14.6 Mojave / x86_64  OK    OK    WARNINGS    OK  UNNEEDED, same version is already published
Package 6/29HostnameOS / ArchINSTALLBUILDCHECKBUILD BIN
cola 1.8.0  (landing page)
Zuguang Gu
Last Commit: 8699e51
Last Changed Date: 2021-05-19 12:40:27 -0400
nebbiolo1Linux (Ubuntu 20.04.2 LTS) / x86_64  OK    OK    OK  UNNEEDED, same version is already published
tokay2Windows Server 2012 R2 Standard / x64  TIMEOUT    TIMEOUT  skippedskipped
machv2macOS 10.14.6 Mojave / x86_64  OK    OK    OK    OK  UNNEEDED, same version is already published
Package 7/29HostnameOS / ArchINSTALLBUILDCHECKBUILD BIN
DAPAR 1.24.4  (landing page)
Samuel Wieczorek
Last Commit: 12b8d14
Last Changed Date: 2021-06-08 22:14:55 -0400
nebbiolo1Linux (Ubuntu 20.04.2 LTS) / x86_64  OK    OK    OK  UNNEEDED, same version is already published
tokay2Windows Server 2012 R2 Standard / x64  OK    OK    OK    OK  UNNEEDED, same version is already published
machv2macOS 10.14.6 Mojave / x86_64  OK    OK    OK    OK  UNNEEDED, same version is already published
Package 8/29HostnameOS / ArchINSTALLBUILDCHECKBUILD BIN
DExMA 1.0.0  (landing page)
Juan Antonio Villatoro-GarcĂ­a
Last Commit: c216183
Last Changed Date: 2021-05-19 13:02:57 -0400
nebbiolo1Linux (Ubuntu 20.04.2 LTS) / x86_64  OK    OK    OK  UNNEEDED, same version is already published
tokay2Windows Server 2012 R2 Standard / x64  OK    OK    OK    OK  UNNEEDED, same version is already published
machv2macOS 10.14.6 Mojave / x86_64  OK    OK    OK    OK  UNNEEDED, same version is already published
Package 9/29HostnameOS / ArchINSTALLBUILDCHECKBUILD BIN
doppelgangR 1.20.0  (landing page)
Levi Waldron
Last Commit: 94fcf60
Last Changed Date: 2021-05-19 12:18:41 -0400
nebbiolo1Linux (Ubuntu 20.04.2 LTS) / x86_64  OK    OK    OK  UNNEEDED, same version is already published
tokay2Windows Server 2012 R2 Standard / x64  OK    OK    OK    OK  UNNEEDED, same version is already published
machv2macOS 10.14.6 Mojave / x86_64  OK    OK    OK    OK  UNNEEDED, same version is already published
Package 10/29HostnameOS / ArchINSTALLBUILDCHECKBUILD BIN
EGAD 1.20.0  (landing page)
Sara Ballouz
Last Commit: 948910f
Last Changed Date: 2021-05-19 12:20:29 -0400
nebbiolo1Linux (Ubuntu 20.04.2 LTS) / x86_64  OK    OK    WARNINGS  UNNEEDED, same version is already published
tokay2Windows Server 2012 R2 Standard / x64  OK    OK    WARNINGS    OK  UNNEEDED, same version is already published
machv2macOS 10.14.6 Mojave / x86_64  OK    OK    WARNINGS    OK  UNNEEDED, same version is already published
Package 11/29HostnameOS / ArchINSTALLBUILDCHECKBUILD BIN
ENmix 1.28.2  (landing page)
Zongli Xu
Last Commit: d3c0203
Last Changed Date: 2021-05-30 12:18:47 -0400
nebbiolo1Linux (Ubuntu 20.04.2 LTS) / x86_64  OK    OK    OK  UNNEEDED, same version is already published
tokay2Windows Server 2012 R2 Standard / x64  OK    OK    OK    OK  UNNEEDED, same version is already published
machv2macOS 10.14.6 Mojave / x86_64  OK    OK    OK    OK  UNNEEDED, same version is already published
Package 12/29HostnameOS / ArchINSTALLBUILDCHECKBUILD BIN
fastLiquidAssociation 1.28.0  (landing page)
Tina Gunderson
Last Commit: a7ffa47
Last Changed Date: 2021-05-19 12:05:00 -0400
nebbiolo1Linux (Ubuntu 20.04.2 LTS) / x86_64  OK    OK    WARNINGS  UNNEEDED, same version is already published
tokay2Windows Server 2012 R2 Standard / x64  OK    OK    WARNINGS    OK  UNNEEDED, same version is already published
machv2macOS 10.14.6 Mojave / x86_64  OK    OK    WARNINGS    OK  UNNEEDED, same version is already published
Package 13/29HostnameOS / ArchINSTALLBUILDCHECKBUILD BIN
genefu 2.24.2  (landing page)
Benjamin Haibe-Kains
Last Commit: 829a30e
Last Changed Date: 2021-05-21 19:30:17 -0400
nebbiolo1Linux (Ubuntu 20.04.2 LTS) / x86_64  OK    OK    OK  UNNEEDED, same version is already published
tokay2Windows Server 2012 R2 Standard / x64  OK    OK    OK    OK  UNNEEDED, same version is already published
machv2macOS 10.14.6 Mojave / x86_64  OK    OK    OK    OK  UNNEEDED, same version is already published
Package 14/29HostnameOS / ArchINSTALLBUILDCHECKBUILD BIN
genomation 1.24.0  (landing page)
Altuna Akalin , Vedran Franke
Last Commit: 94f0278
Last Changed Date: 2021-05-19 12:09:55 -0400
nebbiolo1Linux (Ubuntu 20.04.2 LTS) / x86_64  OK    OK    WARNINGS  UNNEEDED, same version is already published
tokay2Windows Server 2012 R2 Standard / x64  OK    OK    WARNINGS    OK  UNNEEDED, same version is already published
machv2macOS 10.14.6 Mojave / x86_64  OK    OK    WARNINGS    OK  UNNEEDED, same version is already published
Package 15/29HostnameOS / ArchINSTALLBUILDCHECKBUILD BIN
MAGAR 1.0.0  (landing page)
Scherer Michael
Last Commit: 0cd7d6d
Last Changed Date: 2021-05-19 12:59:59 -0400
nebbiolo1Linux (Ubuntu 20.04.2 LTS) / x86_64  OK    OK    OK  UNNEEDED, same version is already published
tokay2Windows Server 2012 R2 Standard / x64  OK    OK    OK    OK  UNNEEDED, same version is already published
machv2macOS 10.14.6 Mojave / x86_64  OK    OK    OK    OK  UNNEEDED, same version is already published
Package 16/29HostnameOS / ArchINSTALLBUILDCHECKBUILD BIN
MatrixQCvis 1.0.0  (landing page)
Thomas Naake
Last Commit: fb7fe47
Last Changed Date: 2021-05-19 13:03:26 -0400
nebbiolo1Linux (Ubuntu 20.04.2 LTS) / x86_64  OK    OK    OK  UNNEEDED, same version is already published
tokay2Windows Server 2012 R2 Standard / x64  OK    OK    OK    OK  UNNEEDED, same version is already published
machv2macOS 10.14.6 Mojave / x86_64  OK    OK    OK    OK  UNNEEDED, same version is already published
Package 17/29HostnameOS / ArchINSTALLBUILDCHECKBUILD BIN
MEAT 1.4.0  (landing page)
Sarah Voisin
Last Commit: 57d07d3
Last Changed Date: 2021-05-19 12:49:22 -0400
nebbiolo1Linux (Ubuntu 20.04.2 LTS) / x86_64  OK    OK    WARNINGS  UNNEEDED, same version is already published
tokay2Windows Server 2012 R2 Standard / x64  OK    OK    WARNINGS    OK  UNNEEDED, same version is already published
machv2macOS 10.14.6 Mojave / x86_64  OK    OK    WARNINGS    OK  UNNEEDED, same version is already published
Package 18/29HostnameOS / ArchINSTALLBUILDCHECKBUILD BIN
MethylMix 2.22.0  (landing page)
Olivier Gevaert
Last Commit: 612ce15
Last Changed Date: 2021-05-19 12:07:08 -0400
nebbiolo1Linux (Ubuntu 20.04.2 LTS) / x86_64  OK    OK    OK  UNNEEDED, same version is already published
tokay2Windows Server 2012 R2 Standard / x64  OK    OK    OK    OK  UNNEEDED, same version is already published
machv2macOS 10.14.6 Mojave / x86_64  OK    OK    OK    OK  UNNEEDED, same version is already published
Package 19/29HostnameOS / ArchINSTALLBUILDCHECKBUILD BIN
miRLAB 1.22.0  (landing page)
Vu Viet Hoang Pham
Last Commit: 829c088
Last Changed Date: 2021-05-19 12:14:40 -0400
nebbiolo1Linux (Ubuntu 20.04.2 LTS) / x86_64  OK    OK    OK  UNNEEDED, same version is already published
tokay2Windows Server 2012 R2 Standard / x64  OK    OK    OK    OK  UNNEEDED, same version is already published
machv2macOS 10.14.6 Mojave / x86_64  OK    OK    OK    OK  UNNEEDED, same version is already published
Package 20/29HostnameOS / ArchINSTALLBUILDCHECKBUILD BIN
MSnbase 2.18.0  (landing page)
Laurent Gatto
Last Commit: 8653c08
Last Changed Date: 2021-05-19 11:47:43 -0400
nebbiolo1Linux (Ubuntu 20.04.2 LTS) / x86_64  OK    OK    OK  UNNEEDED, same version is already published
tokay2Windows Server 2012 R2 Standard / x64  OK    OK    TIMEOUT    OK  
machv2macOS 10.14.6 Mojave / x86_64  OK    OK    OK    OK  UNNEEDED, same version is already published
Package 21/29HostnameOS / ArchINSTALLBUILDCHECKBUILD BIN
netboost 2.0.0  (landing page)
Pascal Schlosser
Last Commit: daccaa3
Last Changed Date: 2021-05-19 12:43:54 -0400
nebbiolo1Linux (Ubuntu 20.04.2 LTS) / x86_64  OK    OK    OK  UNNEEDED, same version is already published
tokay2Windows Server 2012 R2 Standard / x64... NOT SUPPORTED ...
machv2macOS 10.14.6 Mojave / x86_64  OK    OK    OK    OK  UNNEEDED, same version is already published
Package 22/29HostnameOS / ArchINSTALLBUILDCHECKBUILD BIN
Pigengene 1.18.0  (landing page)
Habil Zare
Last Commit: 848d21a
Last Changed Date: 2021-05-19 12:20:45 -0400
nebbiolo1Linux (Ubuntu 20.04.2 LTS) / x86_64  OK    OK    WARNINGS  UNNEEDED, same version is already published
tokay2Windows Server 2012 R2 Standard / x64  OK    OK    WARNINGS    OK  UNNEEDED, same version is already published
machv2macOS 10.14.6 Mojave / x86_64  OK    OK    ERROR    OK  
Package 23/29HostnameOS / ArchINSTALLBUILDCHECKBUILD BIN
pmp 1.4.0  (landing page)
Gavin Rhys Lloyd
Last Commit: e0310dc
Last Changed Date: 2021-05-19 12:48:58 -0400
nebbiolo1Linux (Ubuntu 20.04.2 LTS) / x86_64  OK    OK    OK  UNNEEDED, same version is already published
tokay2Windows Server 2012 R2 Standard / x64  OK    OK    OK    OK  UNNEEDED, same version is already published
machv2macOS 10.14.6 Mojave / x86_64  OK    OK    OK    OK  UNNEEDED, same version is already published
Package 24/29HostnameOS / ArchINSTALLBUILDCHECKBUILD BIN
POMA 1.2.0  (landing page)
Pol Castellano-Escuder
Last Commit: a990e43
Last Changed Date: 2021-05-19 12:54:15 -0400
nebbiolo1Linux (Ubuntu 20.04.2 LTS) / x86_64  OK    OK    OK  UNNEEDED, same version is already published
tokay2Windows Server 2012 R2 Standard / x64  OK    OK    OK    OK  UNNEEDED, same version is already published
machv2macOS 10.14.6 Mojave / x86_64  OK    OK    OK    OK  UNNEEDED, same version is already published
Package 25/29HostnameOS / ArchINSTALLBUILDCHECKBUILD BIN
REMP 1.16.0  (landing page)
Yinan Zheng
Last Commit: 9be0aa3
Last Changed Date: 2021-05-19 12:25:51 -0400
nebbiolo1Linux (Ubuntu 20.04.2 LTS) / x86_64  OK    OK    OK  UNNEEDED, same version is already published
tokay2Windows Server 2012 R2 Standard / x64  OK    OK    OK    OK  UNNEEDED, same version is already published
machv2macOS 10.14.6 Mojave / x86_64  OK    OK    OK    OK  UNNEEDED, same version is already published
Package 26/29HostnameOS / ArchINSTALLBUILDCHECKBUILD BIN
RNAAgeCalc 1.4.0  (landing page)
Xu Ren
Last Commit: a4fe63d
Last Changed Date: 2021-05-19 12:50:18 -0400
nebbiolo1Linux (Ubuntu 20.04.2 LTS) / x86_64  OK    OK    OK  UNNEEDED, same version is already published
tokay2Windows Server 2012 R2 Standard / x64  OK    OK    OK    OK  UNNEEDED, same version is already published
machv2macOS 10.14.6 Mojave / x86_64  OK    OK    OK    OK  UNNEEDED, same version is already published
Package 27/29HostnameOS / ArchINSTALLBUILDCHECKBUILD BIN
Rnits 1.26.0  (landing page)
Dipen P. Sangurdekar
Last Commit: 756cbae
Last Changed Date: 2021-05-19 12:07:11 -0400
nebbiolo1Linux (Ubuntu 20.04.2 LTS) / x86_64  OK    OK    WARNINGS  UNNEEDED, same version is already published
tokay2Windows Server 2012 R2 Standard / x64  OK    OK    WARNINGS    OK  UNNEEDED, same version is already published
machv2macOS 10.14.6 Mojave / x86_64  OK    OK    WARNINGS    OK  UNNEEDED, same version is already published
Package 28/29HostnameOS / ArchINSTALLBUILDCHECKBUILD BIN
statTarget 1.22.0  (landing page)
Hemi Luan
Last Commit: b41ec46
Last Changed Date: 2021-05-19 12:23:27 -0400
nebbiolo1Linux (Ubuntu 20.04.2 LTS) / x86_64  OK    OK    OK  UNNEEDED, same version is already published
tokay2Windows Server 2012 R2 Standard / x64  OK    OK    OK    OK  UNNEEDED, same version is already published
machv2macOS 10.14.6 Mojave / x86_64  OK    OK    OK    OK  UNNEEDED, same version is already published
Package 29/29HostnameOS / ArchINSTALLBUILDCHECKBUILD BIN
TIN 1.24.0  (landing page)
Bjarne Johannessen
Last Commit: 4ee1fa2
Last Changed Date: 2021-05-19 12:12:06 -0400
nebbiolo1Linux (Ubuntu 20.04.2 LTS) / x86_64  OK    OK    OK  UNNEEDED, same version is already published
tokay2Windows Server 2012 R2 Standard / x64  OK    OK    OK    OK  UNNEEDED, same version is already published
machv2macOS 10.14.6 Mojave / x86_64  OK    OK    OK    OK  UNNEEDED, same version is already published