Back to Multiple platform build/check report for BioC 3.13
ABCDEFGH[I]JKLMNOPQRSTUVWXYZ

This page was generated on 2021-06-18 14:05:49 -0400 (Fri, 18 Jun 2021).

CHECK results for ideal on nebbiolo1

To the developers/maintainers of the ideal package:
- Please allow up to 24 hours (and sometimes 48 hours) for your latest push to git@git.bioconductor.org:packages/ideal.git to
reflect on this report. See How and When does the builder pull? When will my changes propagate? here for more information.
- Make sure to use the following settings in order to reproduce any error or warning you see on this page.

raw results

Package 899/2041HostnameOS / ArchINSTALLBUILDCHECKBUILD BIN
ideal 1.16.0  (landing page)
Federico Marini
Snapshot Date: 2021-06-17 06:50:12 -0400 (Thu, 17 Jun 2021)
URL: https://git.bioconductor.org/packages/ideal
Branch: RELEASE_3_13
Last Commit: bbbffd1
Last Changed Date: 2021-05-19 12:27:38 -0400 (Wed, 19 May 2021)
nebbiolo1Linux (Ubuntu 20.04.2 LTS) / x86_64  OK    OK    OK  UNNEEDED, same version is already published
tokay2Windows Server 2012 R2 Standard / x64  OK    OK    OK    OK  UNNEEDED, same version is already published
machv2macOS 10.14.6 Mojave / x86_64  OK    OK    OK    OK  UNNEEDED, same version is already published

Summary

Package: ideal
Version: 1.16.0
Command: /home/biocbuild/bbs-3.13-bioc/R/bin/R CMD check --install=check:ideal.install-out.txt --library=/home/biocbuild/bbs-3.13-bioc/R/library --no-vignettes --timings ideal_1.16.0.tar.gz
StartedAt: 2021-06-17 12:14:56 -0400 (Thu, 17 Jun 2021)
EndedAt: 2021-06-17 12:21:34 -0400 (Thu, 17 Jun 2021)
EllapsedTime: 397.3 seconds
RetCode: 0
Status:   OK  
CheckDir: ideal.Rcheck
Warnings: 0

Command output

##############################################################################
##############################################################################
###
### Running command:
###
###   /home/biocbuild/bbs-3.13-bioc/R/bin/R CMD check --install=check:ideal.install-out.txt --library=/home/biocbuild/bbs-3.13-bioc/R/library --no-vignettes --timings ideal_1.16.0.tar.gz
###
##############################################################################
##############################################################################


* using log directory ‘/home/biocbuild/bbs-3.13-bioc/meat/ideal.Rcheck’
* using R version 4.1.0 (2021-05-18)
* using platform: x86_64-pc-linux-gnu (64-bit)
* using session charset: UTF-8
* using option ‘--no-vignettes’
* checking for file ‘ideal/DESCRIPTION’ ... OK
* checking extension type ... Package
* this is package ‘ideal’ version ‘1.16.0’
* package encoding: UTF-8
* checking package namespace information ... OK
* checking package dependencies ... OK
* checking if this is a source package ... OK
* checking if there is a namespace ... OK
* checking for hidden files and directories ... OK
* checking for portable file names ... OK
* checking for sufficient/correct file permissions ... OK
* checking whether package ‘ideal’ can be installed ... OK
* checking installed package size ... OK
* checking package directory ... OK
* checking ‘build’ directory ... OK
* checking DESCRIPTION meta-information ... OK
* checking top-level files ... OK
* checking for left-over files ... OK
* checking index information ... OK
* checking package subdirectories ... OK
* checking R files for non-ASCII characters ... OK
* checking R files for syntax errors ... OK
* checking whether the package can be loaded ... OK
* checking whether the package can be loaded with stated dependencies ... OK
* checking whether the package can be unloaded cleanly ... OK
* checking whether the namespace can be loaded with stated dependencies ... OK
* checking whether the namespace can be unloaded cleanly ... OK
* checking dependencies in R code ... OK
* checking S3 generic/method consistency ... OK
* checking replacement functions ... OK
* checking foreign function calls ... OK
* checking R code for possible problems ... NOTE
ideal: no visible binding for '<<-' assignment to ‘ideal_env’
ideal : <anonymous>: no visible binding for global variable ‘airway’
ideal : <anonymous>: no visible binding for global variable ‘pvalue’
ideal : <anonymous>: no visible binding for global variable ‘baseMean’
ideal : <anonymous>: no visible binding for global variable ‘ideal_env’
Undefined global functions or variables:
  airway baseMean ideal_env pvalue
* checking Rd files ... OK
* checking Rd metadata ... OK
* checking Rd cross-references ... OK
* checking for missing documentation entries ... OK
* checking for code/documentation mismatches ... OK
* checking Rd \usage sections ... OK
* checking Rd contents ... OK
* checking for unstated dependencies in examples ... OK
* checking files in ‘vignettes’ ... OK
* checking examples ... OK
Examples with CPU (user + system) or elapsed time > 5s
                  user system elapsed
goseqTable      21.493  0.464  21.961
wrapup_for_iSEE  8.271  0.144   8.416
plot_ma          7.264  0.993   8.258
plot_volcano     6.651  0.360   7.012
ggplotCounts     5.556  0.156   5.713
* checking for unstated dependencies in ‘tests’ ... OK
* checking tests ...
  Running ‘testthat.R’
 OK
* checking for unstated dependencies in vignettes ... OK
* checking package vignettes in ‘inst/doc’ ... OK
* checking running R code from vignettes ... SKIPPED
* checking re-building of vignette outputs ... SKIPPED
* checking PDF version of manual ... OK
* DONE

Status: 1 NOTE
See
  ‘/home/biocbuild/bbs-3.13-bioc/meat/ideal.Rcheck/00check.log’
for details.



Installation output

ideal.Rcheck/00install.out

##############################################################################
##############################################################################
###
### Running command:
###
###   /home/biocbuild/bbs-3.13-bioc/R/bin/R CMD INSTALL ideal
###
##############################################################################
##############################################################################


* installing to library ‘/home/biocbuild/bbs-3.13-bioc/R/library’
* installing *source* package ‘ideal’ ...
** using staged installation
** R
** inst
** byte-compile and prepare package for lazy loading

groupGOTerms: 	GOBPTerm, GOMFTerm, GOCCTerm environments built.
** help
*** installing help indices
** building package indices
** installing vignettes
** testing if installed package can be loaded from temporary location

groupGOTerms: 	GOBPTerm, GOMFTerm, GOCCTerm environments built.
** testing if installed package can be loaded from final location

groupGOTerms: 	GOBPTerm, GOMFTerm, GOCCTerm environments built.
** testing if installed package keeps a record of temporary installation path
* DONE (ideal)

Tests output

ideal.Rcheck/tests/testthat.Rout


R version 4.1.0 (2021-05-18) -- "Camp Pontanezen"
Copyright (C) 2021 The R Foundation for Statistical Computing
Platform: x86_64-pc-linux-gnu (64-bit)

R is free software and comes with ABSOLUTELY NO WARRANTY.
You are welcome to redistribute it under certain conditions.
Type 'license()' or 'licence()' for distribution details.

R is a collaborative project with many contributors.
Type 'contributors()' for more information and
'citation()' on how to cite R or R packages in publications.

Type 'demo()' for some demos, 'help()' for on-line help, or
'help.start()' for an HTML browser interface to help.
Type 'q()' to quit R.

> library(testthat)
> library(ideal)
Loading required package: topGO
Loading required package: BiocGenerics
Loading required package: parallel

Attaching package: 'BiocGenerics'

The following objects are masked from 'package:parallel':

    clusterApply, clusterApplyLB, clusterCall, clusterEvalQ,
    clusterExport, clusterMap, parApply, parCapply, parLapply,
    parLapplyLB, parRapply, parSapply, parSapplyLB

The following objects are masked from 'package:stats':

    IQR, mad, sd, var, xtabs

The following objects are masked from 'package:base':

    Filter, Find, Map, Position, Reduce, anyDuplicated, append,
    as.data.frame, basename, cbind, colnames, dirname, do.call,
    duplicated, eval, evalq, get, grep, grepl, intersect, is.unsorted,
    lapply, mapply, match, mget, order, paste, pmax, pmax.int, pmin,
    pmin.int, rank, rbind, rownames, sapply, setdiff, sort, table,
    tapply, union, unique, unsplit, which.max, which.min

Loading required package: graph
Loading required package: Biobase
Welcome to Bioconductor

    Vignettes contain introductory material; view with
    'browseVignettes()'. To cite Bioconductor, see
    'citation("Biobase")', and for packages 'citation("pkgname")'.

Loading required package: GO.db
Loading required package: AnnotationDbi
Loading required package: stats4
Loading required package: IRanges
Loading required package: S4Vectors

Attaching package: 'S4Vectors'

The following objects are masked from 'package:base':

    I, expand.grid, unname


Loading required package: SparseM

Attaching package: 'SparseM'

The following object is masked from 'package:base':

    backsolve


groupGOTerms: 	GOBPTerm, GOMFTerm, GOCCTerm environments built.

Attaching package: 'topGO'

The following object is masked from 'package:IRanges':

    members

Welcome to ideal v1.16.0

If you use ideal in your work, please cite:

Federico Marini, Jan Linke, Harald Binder
ideal: an R/Bioconductor package for Interactive Differential Expression Analysis
BMC Bioinformatics, 2020 - https://doi.org/10.1186/s12859-020-03819-5

> 
> test_check("ideal")
[ FAIL 0 | WARN 0 | SKIP 0 | PASS 2 ]
> 
> proc.time()
   user  system elapsed 
 17.022   1.296  18.307 

Example timings

ideal.Rcheck/ideal-Ex.timings

nameusersystemelapsed
deseqresult2DEgenes3.7970.1373.933
deseqresult2tbl3.2020.0473.250
ggplotCounts5.5560.1565.713
goseqTable21.493 0.46421.961
ideal2.4640.1912.662
plot_ma7.2640.9938.258
plot_volcano6.6510.3607.012
read_gmt0.0960.0160.630
sepguesser0.0080.0040.014
sig_heatmap1.9040.0521.955
wrapup_for_iSEE8.2710.1448.416