Back to Multiple platform build/check report for BioC 3.13
ABCDEFG[H]IJKLMNOPQRSTUVWXYZ

This page was generated on 2021-09-17 15:06:07 -0400 (Fri, 17 Sep 2021).

BUILD results for h5vc on tokay2

To the developers/maintainers of the h5vc package:
- Please allow up to 24 hours (and sometimes 48 hours) for your latest push to git@git.bioconductor.org:packages/h5vc.git to
reflect on this report. See How and When does the builder pull? When will my changes propagate? here for more information.
- Make sure to use the following settings in order to reproduce any error or warning you see on this page.

raw results

Package 837/2041HostnameOS / ArchINSTALLBUILDCHECKBUILD BIN
h5vc 2.26.1  (landing page)
Paul Theodor Pyl
Snapshot Date: 2021-09-16 04:50:11 -0400 (Thu, 16 Sep 2021)
git_url: https://git.bioconductor.org/packages/h5vc
git_branch: RELEASE_3_13
git_last_commit: 95d3f8b
git_last_commit_date: 2021-05-21 16:31:59 -0400 (Fri, 21 May 2021)
nebbiolo1Linux (Ubuntu 20.04.2 LTS) / x86_64  OK    OK    WARNINGS  UNNEEDED, same version is already published
tokay2Windows Server 2012 R2 Standard / x64  OK    OK    WARNINGS    OK  UNNEEDED, same version is already published
machv2macOS 10.14.6 Mojave / x86_64  OK    OK    WARNINGS    OK  UNNEEDED, same version is already published

Summary

Package: h5vc
Version: 2.26.1
Command: chmod a+r h5vc -R && C:\Users\biocbuild\bbs-3.13-bioc\R\bin\R.exe CMD build --keep-empty-dirs --no-resave-data h5vc
StartedAt: 2021-09-16 14:27:45 -0400 (Thu, 16 Sep 2021)
EndedAt: 2021-09-16 14:29:46 -0400 (Thu, 16 Sep 2021)
EllapsedTime: 120.6 seconds
RetCode: 0
Status:   OK  
PackageFile: h5vc_2.26.1.tar.gz
PackageFileSize: 1011 KiB

Command output

##############################################################################
##############################################################################
###
### Running command:
###
###   chmod a+r h5vc -R && C:\Users\biocbuild\bbs-3.13-bioc\R\bin\R.exe CMD build --keep-empty-dirs --no-resave-data h5vc
###
##############################################################################
##############################################################################


* checking for file 'h5vc/DESCRIPTION' ... OK
* preparing 'h5vc':
* checking DESCRIPTION meta-information ... OK
* cleaning src
* installing the package to build vignettes
* creating vignettes ... OK
* cleaning src
* checking for LF line-endings in source and make files and shell scripts
* checking for empty or unneeded directories
* looking to see if a 'data/datalist' file should be added
* building 'h5vc_2.26.1.tar.gz'