Back to Multiple platform build/check report for BioC 3.13
ABCDEFG[H]IJKLMNOPQRSTUVWXYZ

This page was generated on 2021-09-24 15:06:43 -0400 (Fri, 24 Sep 2021).

BUILD BIN results for h5vc on machv2

To the developers/maintainers of the h5vc package:
- Please allow up to 24 hours (and sometimes 48 hours) for your latest push to git@git.bioconductor.org:packages/h5vc.git to
reflect on this report. See How and When does the builder pull? When will my changes propagate? here for more information.
- Make sure to use the following settings in order to reproduce any error or warning you see on this page.

raw results

Package 837/2041HostnameOS / ArchINSTALLBUILDCHECKBUILD BIN
h5vc 2.26.1  (landing page)
Paul Theodor Pyl
Snapshot Date: 2021-09-23 04:50:12 -0400 (Thu, 23 Sep 2021)
git_url: https://git.bioconductor.org/packages/h5vc
git_branch: RELEASE_3_13
git_last_commit: 95d3f8b
git_last_commit_date: 2021-05-21 16:31:59 -0400 (Fri, 21 May 2021)
nebbiolo1Linux (Ubuntu 20.04.2 LTS) / x86_64  OK    OK    WARNINGS  UNNEEDED, same version is already published
tokay2Windows Server 2012 R2 Standard / x64  OK    OK    WARNINGS    OK  UNNEEDED, same version is already published
machv2macOS 10.14.6 Mojave / x86_64  OK    OK    WARNINGS    OK  UNNEEDED, same version is already published

Summary

Package: h5vc
Version: 2.26.1
Command: rm -rf h5vc.buildbin-libdir && mkdir h5vc.buildbin-libdir && /Users/biocbuild/BBS/utils/build-universal.sh h5vc_2.26.1.tar.gz /Library/Frameworks/R.framework/Versions/Current/Resources/bin/R h5vc.buildbin-libdir
StartedAt: 2021-09-24 02:21:33 -0400 (Fri, 24 Sep 2021)
EndedAt: 2021-09-24 02:22:39 -0400 (Fri, 24 Sep 2021)
EllapsedTime: 66.5 seconds
RetCode: 0
Status:   OK  
PackageFile: h5vc_2.26.1.tgz
PackageFileSize: 1.627 MiB

Command output

##############################################################################
##############################################################################
###
### Running command:
###
###   rm -rf h5vc.buildbin-libdir && mkdir h5vc.buildbin-libdir && /Users/biocbuild/BBS/utils/build-universal.sh h5vc_2.26.1.tar.gz /Library/Frameworks/R.framework/Versions/Current/Resources/bin/R h5vc.buildbin-libdir
###
##############################################################################
##############################################################################


>>>>>>> 
>>>>>>> INSTALLATION WITH 'R CMD INSTALL --preclean --no-multiarch --library=h5vc.buildbin-libdir h5vc_2.26.1.tar.gz'
>>>>>>> 

* installing *source* package ‘h5vc’ ...
** using staged installation
** libs
clang -mmacosx-version-min=10.13 -I"/Library/Frameworks/R.framework/Resources/include" -DNDEBUG -D_FILE_OFFSET_BITS=64 -I'/Library/Frameworks/R.framework/Versions/4.1/Resources/library/Rhtslib/include' -I/usr/local/include   -fPIC  -Wall -g -O2  -c bam.c -o bam.o
clang -mmacosx-version-min=10.13 -I"/Library/Frameworks/R.framework/Resources/include" -DNDEBUG -D_FILE_OFFSET_BITS=64 -I'/Library/Frameworks/R.framework/Versions/4.1/Resources/library/Rhtslib/include' -I/usr/local/include   -fPIC  -Wall -g -O2  -c bam_plbuf.c -o bam_plbuf.o
clang -mmacosx-version-min=10.13 -I"/Library/Frameworks/R.framework/Resources/include" -DNDEBUG -D_FILE_OFFSET_BITS=64 -I'/Library/Frameworks/R.framework/Versions/4.1/Resources/library/Rhtslib/include' -I/usr/local/include   -fPIC  -Wall -g -O2  -c sam.c -o sam.o
clang++ -mmacosx-version-min=10.13 -std=gnu++14 -I"/Library/Frameworks/R.framework/Resources/include" -DNDEBUG -D_FILE_OFFSET_BITS=64 -I'/Library/Frameworks/R.framework/Versions/4.1/Resources/library/Rhtslib/include' -I/usr/local/include   -fPIC  -Wall -g -O2  -c tallyBAM.cpp -o tallyBAM.o
tallyBAM.cpp:47:7: warning: unused variable 'len' [-Wunused-variable]
  int len = nttable->end - nttable->beg;
      ^
tallyBAM.cpp:60:18: warning: variable 'c' is used uninitialized whenever 'if' condition is false [-Wsometimes-uninitialized]
        }else if(p->indel > 0){
                 ^~~~~~~~~~~~
tallyBAM.cpp:64:16: note: uninitialized use occurs here
        str += c;
               ^
tallyBAM.cpp:60:15: note: remove the 'if' if its condition is always true
        }else if(p->indel > 0){
              ^~~~~~~~~~~~~~~~
tallyBAM.cpp:55:15: note: initialize the variable 'c' to silence this warning
        char c;
              ^
               = '\0'
tallyBAM.cpp:96:7: warning: unused variable 'len' [-Wunused-variable]
  int len = nttable->end - nttable->beg;
      ^
tallyBAM.cpp:140:6: warning: unused variable 'c' [-Wunused-variable]
        int c = 0;
            ^
tallyBAM.cpp:43:12: warning: unused function 'pileup_func_old' [-Wunused-function]
static int pileup_func_old(uint32_t tid, uint32_t pos, int n, const bam_pileup1_t *pl, void *data)
           ^
5 warnings generated.
clang++ -mmacosx-version-min=10.13 -std=gnu++14 -dynamiclib -Wl,-headerpad_max_install_names -undefined dynamic_lookup -single_module -multiply_defined suppress -L/Library/Frameworks/R.framework/Resources/lib -L/usr/local/lib -o h5vc.so bam.o bam_plbuf.o sam.o tallyBAM.o /Library/Frameworks/R.framework/Versions/4.1/Resources/library/Rhtslib/usrlib/libhts.a -lcurl -F/Library/Frameworks/R.framework/.. -framework R -Wl,-framework -Wl,CoreFoundation
installing to /Users/biocbuild/bbs-3.13-bioc/meat/h5vc.buildbin-libdir/00LOCK-h5vc/00new/h5vc/libs
** R
** data
** inst
** byte-compile and prepare package for lazy loading
Warning: replacing previous import ‘Biostrings::pattern’ by ‘grid::pattern’ when loading ‘h5vc’
** help
*** installing help indices
** building package indices
** installing vignettes
** testing if installed package can be loaded from temporary location
Warning: replacing previous import ‘Biostrings::pattern’ by ‘grid::pattern’ when loading ‘h5vc’
** checking absolute paths in shared objects and dynamic libraries
** testing if installed package can be loaded from final location
Warning: replacing previous import ‘Biostrings::pattern’ by ‘grid::pattern’ when loading ‘h5vc’
** testing if installed package keeps a record of temporary installation path
* DONE (h5vc)


>>>>>>> 
>>>>>>> FIXING LINKS FOR h5vc.buildbin-libdir/h5vc/libs/h5vc.so
>>>>>>> 

install_name_tool -change "/usr/local/lib/libgcc_s.1.dylib" "/Library/Frameworks/R.framework/Versions/4.1/Resources/lib/libgcc_s.1.dylib" "h5vc.buildbin-libdir/h5vc/libs/h5vc.so"
install_name_tool -change "/usr/local/lib/libgfortran.5.dylib" "/Library/Frameworks/R.framework/Versions/4.1/Resources/lib/libgfortran.5.dylib" "h5vc.buildbin-libdir/h5vc/libs/h5vc.so"
install_name_tool -change "/usr/local/lib/libquadmath.0.dylib" "/Library/Frameworks/R.framework/Versions/4.1/Resources/lib/libquadmath.0.dylib" "h5vc.buildbin-libdir/h5vc/libs/h5vc.so"