Back to Multiple platform build/check report for BioC 3.13
ABCDEF[G]HIJKLMNOPQRSTUVWXYZ

This page was generated on 2021-07-23 15:06:06 -0400 (Fri, 23 Jul 2021).

CHECK results for gsean on tokay2

To the developers/maintainers of the gsean package:
- Please allow up to 24 hours (and sometimes 48 hours) for your latest push to git@git.bioconductor.org:packages/gsean.git to
reflect on this report. See How and When does the builder pull? When will my changes propagate? here for more information.
- Make sure to use the following settings in order to reproduce any error or warning you see on this page.

raw results

Package 823/2041HostnameOS / ArchINSTALLBUILDCHECKBUILD BIN
gsean 1.12.0  (landing page)
Dongmin Jung
Snapshot Date: 2021-07-22 04:50:13 -0400 (Thu, 22 Jul 2021)
URL: https://git.bioconductor.org/packages/gsean
Branch: RELEASE_3_13
Last Commit: 211c760
Last Changed Date: 2021-05-19 12:32:59 -0400 (Wed, 19 May 2021)
nebbiolo1Linux (Ubuntu 20.04.2 LTS) / x86_64  OK    OK    OK  UNNEEDED, same version is already published
tokay2Windows Server 2012 R2 Standard / x64  OK    OK    OK    OK  UNNEEDED, same version is already published
machv2macOS 10.14.6 Mojave / x86_64  OK    OK    OK    OK  UNNEEDED, same version is already published

Summary

Package: gsean
Version: 1.12.0
Command: C:\Users\biocbuild\bbs-3.13-bioc\R\bin\R.exe CMD check --force-multiarch --install=check:gsean.install-out.txt --library=C:\Users\biocbuild\bbs-3.13-bioc\R\library --no-vignettes --timings gsean_1.12.0.tar.gz
StartedAt: 2021-07-23 00:22:33 -0400 (Fri, 23 Jul 2021)
EndedAt: 2021-07-23 00:27:22 -0400 (Fri, 23 Jul 2021)
EllapsedTime: 288.9 seconds
RetCode: 0
Status:   OK  
CheckDir: gsean.Rcheck
Warnings: 0

Command output

##############################################################################
##############################################################################
###
### Running command:
###
###   C:\Users\biocbuild\bbs-3.13-bioc\R\bin\R.exe CMD check --force-multiarch --install=check:gsean.install-out.txt --library=C:\Users\biocbuild\bbs-3.13-bioc\R\library --no-vignettes --timings gsean_1.12.0.tar.gz
###
##############################################################################
##############################################################################


* using log directory 'C:/Users/biocbuild/bbs-3.13-bioc/meat/gsean.Rcheck'
* using R version 4.1.0 (2021-05-18)
* using platform: x86_64-w64-mingw32 (64-bit)
* using session charset: ISO8859-1
* using option '--no-vignettes'
* checking for file 'gsean/DESCRIPTION' ... OK
* checking extension type ... Package
* this is package 'gsean' version '1.12.0'
* checking package namespace information ... OK
* checking package dependencies ... OK
* checking if this is a source package ... OK
* checking if there is a namespace ... OK
* checking for hidden files and directories ... OK
* checking for portable file names ... OK
* checking whether package 'gsean' can be installed ... OK
* checking installed package size ... OK
* checking package directory ... OK
* checking 'build' directory ... OK
* checking DESCRIPTION meta-information ... OK
* checking top-level files ... OK
* checking for left-over files ... OK
* checking index information ... OK
* checking package subdirectories ... OK
* checking R files for non-ASCII characters ... OK
* checking R files for syntax errors ... OK
* loading checks for arch 'i386'
** checking whether the package can be loaded ... OK
** checking whether the package can be loaded with stated dependencies ... OK
** checking whether the package can be unloaded cleanly ... OK
** checking whether the namespace can be loaded with stated dependencies ... OK
** checking whether the namespace can be unloaded cleanly ... OK
* loading checks for arch 'x64'
** checking whether the package can be loaded ... OK
** checking whether the package can be loaded with stated dependencies ... OK
** checking whether the package can be unloaded cleanly ... OK
** checking whether the namespace can be loaded with stated dependencies ... OK
** checking whether the namespace can be unloaded cleanly ... OK
* checking dependencies in R code ... OK
* checking S3 generic/method consistency ... OK
* checking replacement functions ... OK
* checking foreign function calls ... OK
* checking R code for possible problems ... NOTE
centrality_gsea: no visible global function definition for 'na.omit'
centrality_gsea: no visible global function definition for 'quantile'
exprs2adj: no visible global function definition for 'quantile'
label_prop_gsea: no visible global function definition for 'na.omit'
Undefined global functions or variables:
  na.omit quantile
Consider adding
  importFrom("stats", "na.omit", "quantile")
to your NAMESPACE file.
* checking Rd files ... OK
* checking Rd metadata ... OK
* checking Rd cross-references ... OK
* checking for missing documentation entries ... OK
* checking for code/documentation mismatches ... OK
* checking Rd \usage sections ... OK
* checking Rd contents ... OK
* checking for unstated dependencies in examples ... OK
* checking contents of 'data' directory ... OK
* checking data for non-ASCII characters ... OK
* checking data for ASCII and uncompressed saves ... OK
* checking files in 'vignettes' ... OK
* checking examples ...
** running examples for arch 'i386' ... OK
Examples with CPU (user + system) or elapsed time > 5s
          user system elapsed
exprs2adj 4.91   0.69    5.75
** running examples for arch 'x64' ... OK
* checking for unstated dependencies in vignettes ... OK
* checking package vignettes in 'inst/doc' ... OK
* checking running R code from vignettes ... SKIPPED
* checking re-building of vignette outputs ... SKIPPED
* checking PDF version of manual ... OK
* DONE

Status: 1 NOTE
See
  'C:/Users/biocbuild/bbs-3.13-bioc/meat/gsean.Rcheck/00check.log'
for details.



Installation output

gsean.Rcheck/00install.out

##############################################################################
##############################################################################
###
### Running command:
###
###   C:\cygwin\bin\curl.exe -O http://155.52.207.165/BBS/3.13/bioc/src/contrib/gsean_1.12.0.tar.gz && rm -rf gsean.buildbin-libdir && mkdir gsean.buildbin-libdir && C:\Users\biocbuild\bbs-3.13-bioc\R\bin\R.exe CMD INSTALL --merge-multiarch --build --library=gsean.buildbin-libdir gsean_1.12.0.tar.gz && C:\Users\biocbuild\bbs-3.13-bioc\R\bin\R.exe CMD INSTALL gsean_1.12.0.zip && rm gsean_1.12.0.tar.gz gsean_1.12.0.zip
###
##############################################################################
##############################################################################


  % Total    % Received % Xferd  Average Speed   Time    Time     Time  Current
                                 Dload  Upload   Total   Spent    Left  Speed

  0     0    0     0    0     0      0      0 --:--:-- --:--:-- --:--:--     0
100  282k  100  282k    0     0  1579k      0 --:--:-- --:--:-- --:--:-- 1586k

install for i386

* installing *source* package 'gsean' ...
** using staged installation
** R
** data
** byte-compile and prepare package for lazy loading
** help
*** installing help indices
  converting help for package 'gsean'
    finding HTML links ... done
    GO_dme                                  html  
    KEGG_hsa                                html  
    centrality_gsea                         html  
    exprs2adj                               html  
    gsean-package                           html  
    gsean                                   html  
    label_prop_gsea                         html  
** building package indices
** installing vignettes
** testing if installed package can be loaded from temporary location
** testing if installed package can be loaded from final location
** testing if installed package keeps a record of temporary installation path

install for x64

* installing *source* package 'gsean' ...
** testing if installed package can be loaded
* MD5 sums
packaged installation of 'gsean' as gsean_1.12.0.zip
* DONE (gsean)
* installing to library 'C:/Users/biocbuild/bbs-3.13-bioc/R/library'
package 'gsean' successfully unpacked and MD5 sums checked

Tests output


Example timings

gsean.Rcheck/examples_i386/gsean-Ex.timings

nameusersystemelapsed
GO_dme0.190.010.20
KEGG_hsa0.020.000.02
centrality_gsea0.800.020.81
exprs2adj4.910.695.75
gsean0.120.230.36
label_prop_gsea0.540.000.62

gsean.Rcheck/examples_x64/gsean-Ex.timings

nameusersystemelapsed
GO_dme0.140.000.14
KEGG_hsa0.020.000.02
centrality_gsea1.020.021.14
exprs2adj3.730.654.81
gsean0.150.300.44
label_prop_gsea0.650.000.66