Back to Multiple platform build/check report for BioC 3.13
ABCDEF[G]HIJKLMNOPQRSTUVWXYZ

This page was generated on 2021-08-04 15:05:41 -0400 (Wed, 04 Aug 2021).

BUILD results for graphite on tokay2

To the developers/maintainers of the graphite package:
- Please allow up to 24 hours (and sometimes 48 hours) for your latest push to git@git.bioconductor.org:packages/graphite.git to
reflect on this report. See How and When does the builder pull? When will my changes propagate? here for more information.
- Make sure to use the following settings in order to reproduce any error or warning you see on this page.

raw results

Package 808/2041HostnameOS / ArchINSTALLBUILDCHECKBUILD BIN
graphite 1.38.0  (landing page)
Gabriele Sales
Snapshot Date: 2021-08-03 04:50:12 -0400 (Tue, 03 Aug 2021)
URL: https://git.bioconductor.org/packages/graphite
Branch: RELEASE_3_13
Last Commit: 7517460
Last Changed Date: 2021-05-19 11:49:41 -0400 (Wed, 19 May 2021)
nebbiolo1Linux (Ubuntu 20.04.2 LTS) / x86_64  OK    OK    OK  UNNEEDED, same version is already published
tokay2Windows Server 2012 R2 Standard / x64  OK    OK    ERROR    OK  
machv2macOS 10.14.6 Mojave / x86_64  OK    OK    OK    OK  UNNEEDED, same version is already published

Summary

Package: graphite
Version: 1.38.0
Command: chmod a+r graphite -R && C:\Users\biocbuild\bbs-3.13-bioc\R\bin\R.exe CMD build --keep-empty-dirs --no-resave-data graphite
StartedAt: 2021-08-03 15:07:50 -0400 (Tue, 03 Aug 2021)
EndedAt: 2021-08-03 15:09:10 -0400 (Tue, 03 Aug 2021)
EllapsedTime: 80.6 seconds
RetCode: 0
Status:   OK  
PackageFile: graphite_1.38.0.tar.gz
PackageFileSize: 759.8 KiB

Command output

##############################################################################
##############################################################################
###
### Running command:
###
###   chmod a+r graphite -R && C:\Users\biocbuild\bbs-3.13-bioc\R\bin\R.exe CMD build --keep-empty-dirs --no-resave-data graphite
###
##############################################################################
##############################################################################


* checking for file 'graphite/DESCRIPTION' ... OK
* preparing 'graphite':
* checking DESCRIPTION meta-information ... OK
* installing the package to build vignettes
* creating vignettes ... OK
* checking for LF line-endings in source and make files and shell scripts
* checking for empty or unneeded directories
Omitted 'LazyData' from DESCRIPTION
* building 'graphite_1.38.0.tar.gz'