Back to Multiple platform build/check report for BioC 3.13
ABCDEF[G]HIJKLMNOPQRSTUVWXYZ

This page was generated on 2021-06-18 14:06:45 -0400 (Fri, 18 Jun 2021).

BUILD BIN results for graphite on machv2

To the developers/maintainers of the graphite package:
- Please allow up to 24 hours (and sometimes 48 hours) for your latest push to git@git.bioconductor.org:packages/graphite.git to
reflect on this report. See How and When does the builder pull? When will my changes propagate? here for more information.
- Make sure to use the following settings in order to reproduce any error or warning you see on this page.

raw results

Package 808/2041HostnameOS / ArchINSTALLBUILDCHECKBUILD BIN
graphite 1.38.0  (landing page)
Gabriele Sales
Snapshot Date: 2021-06-17 06:50:12 -0400 (Thu, 17 Jun 2021)
URL: https://git.bioconductor.org/packages/graphite
Branch: RELEASE_3_13
Last Commit: 7517460
Last Changed Date: 2021-05-19 11:49:41 -0400 (Wed, 19 May 2021)
nebbiolo1Linux (Ubuntu 20.04.2 LTS) / x86_64  OK    OK    OK  UNNEEDED, same version is already published
tokay2Windows Server 2012 R2 Standard / x64  OK    ERROR  skippedskipped
machv2macOS 10.14.6 Mojave / x86_64  OK    OK    OK    OK  UNNEEDED, same version is already published

Summary

Package: graphite
Version: 1.38.0
Command: rm -rf graphite.buildbin-libdir && mkdir graphite.buildbin-libdir && /Users/biocbuild/BBS/utils/build-universal.sh graphite_1.38.0.tar.gz /Library/Frameworks/R.framework/Versions/Current/Resources/bin/R graphite.buildbin-libdir
StartedAt: 2021-06-18 02:14:19 -0400 (Fri, 18 Jun 2021)
EndedAt: 2021-06-18 02:15:01 -0400 (Fri, 18 Jun 2021)
EllapsedTime: 41.2 seconds
RetCode: 0
Status:   OK  
PackageFile: graphite_1.38.0.tgz
PackageFileSize: 893.4 KiB

Command output

##############################################################################
##############################################################################
###
### Running command:
###
###   rm -rf graphite.buildbin-libdir && mkdir graphite.buildbin-libdir && /Users/biocbuild/BBS/utils/build-universal.sh graphite_1.38.0.tar.gz /Library/Frameworks/R.framework/Versions/Current/Resources/bin/R graphite.buildbin-libdir
###
##############################################################################
##############################################################################


>>>>>>> 
>>>>>>> INSTALLATION WITH 'R CMD INSTALL --preclean --no-multiarch --library=graphite.buildbin-libdir graphite_1.38.0.tar.gz'
>>>>>>> 

* installing *source* package ‘graphite’ ...
** using staged installation
** R
** inst
** byte-compile and prepare package for lazy loading
** help
*** installing help indices
** building package indices
** installing vignettes
** testing if installed package can be loaded from temporary location
** testing if installed package can be loaded from final location
** testing if installed package keeps a record of temporary installation path
* DONE (graphite)