Back to Multiple platform build/check report for BioC 3.13
ABCDEF[G]HIJKLMNOPQRSTUVWXYZ

This page was generated on 2021-06-17 02:38:20 -0400 (Thu, 17 Jun 2021).

INSTALL results for graph on nebbiolo1

To the developers/maintainers of the graph package:
- Please allow up to 24 hours (and sometimes 48 hours) for your latest push to git@git.bioconductor.org:packages/graph.git to
reflect on this report. See How and When does the builder pull? When will my changes propagate? here for more information.
- Make sure to use the following settings in order to reproduce any error or warning you see on this page.

raw results

Package 805/2041HostnameOS / ArchINSTALLBUILDCHECKBUILD BIN
graph 1.70.0  (landing page)
Bioconductor Package Maintainer
Snapshot Date: 2021-06-15 06:50:12 -0400 (Tue, 15 Jun 2021)
URL: https://git.bioconductor.org/packages/graph
Branch: RELEASE_3_13
Last Commit: 1c28350
Last Changed Date: 2021-05-19 11:33:03 -0400 (Wed, 19 May 2021)
nebbiolo1Linux (Ubuntu 20.04.2 LTS) / x86_64  OK    OK    OK  UNNEEDED, same version is already published
tokay2Windows Server 2012 R2 Standard / x64  OK    OK    OK    OK  UNNEEDED, same version is already published
machv2macOS 10.14.6 Mojave / x86_64  OK    OK    OK    OK  UNNEEDED, same version is already published

Summary

Package: graph
Version: 1.70.0
Command: /home/biocbuild/bbs-3.13-bioc/R/bin/R CMD INSTALL graph
StartedAt: 2021-06-15 08:05:17 -0400 (Tue, 15 Jun 2021)
EndedAt: 2021-06-15 08:05:30 -0400 (Tue, 15 Jun 2021)
EllapsedTime: 13.9 seconds
RetCode: 0
Status:   OK  

Command output

##############################################################################
##############################################################################
###
### Running command:
###
###   /home/biocbuild/bbs-3.13-bioc/R/bin/R CMD INSTALL graph
###
##############################################################################
##############################################################################


* installing to library ‘/home/biocbuild/bbs-3.13-bioc/R/library’
* installing *source* package ‘graph’ ...
** using staged installation
** libs
gcc -I"/home/biocbuild/bbs-3.13-bioc/R/include" -DNDEBUG   -I/usr/local/include   -fpic  -g -O2  -Wall -c graph.c -o graph.o
gcc -shared -L/home/biocbuild/bbs-3.13-bioc/R/lib -L/usr/local/lib -o graph.so graph.o -L/home/biocbuild/bbs-3.13-bioc/R/lib -lR
mv graph.so BioC_graph.so
installing to /home/biocbuild/bbs-3.13-bioc/R/library/00LOCK-graph/00new/graph/libs
** R
** data
** inst
** byte-compile and prepare package for lazy loading
** help
*** installing help indices
** building package indices
** installing vignettes
** testing if installed package can be loaded from temporary location
** checking absolute paths in shared objects and dynamic libraries
** testing if installed package can be loaded from final location
** testing if installed package keeps a record of temporary installation path
* DONE (graph)