Back to Multiple platform build/check report for BioC 3.13
ABCDEF[G]HIJKLMNOPQRSTUVWXYZ

Multiple platform build/check report for BioC 3.13

All results for package globaltest

This page was generated on 2021-05-15 12:14:04 -0400 (Sat, 15 May 2021).

Package 780/2042HostnameOS / ArchINSTALLBUILDCHECKBUILD BIN
globaltest 5.45.0  (landing page)
Jelle Goeman
Snapshot Date: 2021-05-14 14:50:09 -0400 (Fri, 14 May 2021)
URL: https://git.bioconductor.org/packages/globaltest
Branch: master
Last Commit: 4cda910
Last Changed Date: 2020-10-27 10:24:26 -0400 (Tue, 27 Oct 2020)
nebbiolo1Linux (Ubuntu 20.04.2 LTS) / x86_64  OK    OK    OK  UNNEEDED, same version exists in internal repository
riesling1Windows Server 2019 Standard / x64  OK    OK    OK    OK  UNNEEDED, same version exists in internal repository
machv2macOS 10.14.6 Mojave / x86_64  OK    OK    OK    OK  UNNEEDED, same version exists in internal repository

Results for Bioconductor software packages that depend directly on package globaltest

QUICK STATSOS / ArchINSTALLBUILDCHECKBUILD BIN
nebbiolo1Linux (Ubuntu 20.04.2 LTS) / x86_64
005
005
0014
riesling1Windows Server 2019 Standard / x64
005
005
0014
005
machv2macOS 10.14.6 Mojave / x86_64
005
005
0014
005
Package 1/5HostnameOS / ArchINSTALLBUILDCHECKBUILD BIN
BiSeq 1.31.0  (landing page)
Katja Hebestreit
Last Commit: 810f267
Last Changed Date: 2020-10-27 10:50:37 -0400
nebbiolo1Linux (Ubuntu 20.04.2 LTS) / x86_64  OK    OK    OK  UNNEEDED, same version exists in internal repository
riesling1Windows Server 2019 Standard / x64  OK    OK    OK    OK  UNNEEDED, same version exists in internal repository
machv2macOS 10.14.6 Mojave / x86_64  OK    OK    OK    OK  UNNEEDED, same version exists in internal repository
Package 2/5HostnameOS / ArchINSTALLBUILDCHECKBUILD BIN
ChAMP 2.21.1  (landing page)
Yuan Tian
Last Commit: ff261fe
Last Changed Date: 2020-11-02 15:24:31 -0400
nebbiolo1Linux (Ubuntu 20.04.2 LTS) / x86_64  OK    OK    WARNINGS  UNNEEDED, same version exists in internal repository
riesling1Windows Server 2019 Standard / x64  OK    OK    WARNINGS    OK  UNNEEDED, same version exists in internal repository
machv2macOS 10.14.6 Mojave / x86_64  OK    OK    WARNINGS    OK  UNNEEDED, same version exists in internal repository
Package 3/5HostnameOS / ArchINSTALLBUILDCHECKBUILD BIN
EGSEA 1.19.1  (landing page)
Monther Alhamdoosh
Last Commit: 9e8831b
Last Changed Date: 2021-01-27 17:49:31 -0400
nebbiolo1Linux (Ubuntu 20.04.2 LTS) / x86_64  OK    OK    OK  UNNEEDED, same version exists in internal repository
riesling1Windows Server 2019 Standard / x64  OK    OK    OK    OK  UNNEEDED, same version exists in internal repository
machv2macOS 10.14.6 Mojave / x86_64  OK    OK    OK    OK  UNNEEDED, same version exists in internal repository
Package 4/5HostnameOS / ArchINSTALLBUILDCHECKBUILD BIN
GlobalAncova 4.9.1  (landing page)
Manuela Hummel
Last Commit: f2512c8
Last Changed Date: 2021-01-31 04:39:31 -0400
nebbiolo1Linux (Ubuntu 20.04.2 LTS) / x86_64  OK    OK    OK  UNNEEDED, same version exists in internal repository
riesling1Windows Server 2019 Standard / x64  OK    OK    OK    OK  UNNEEDED, same version exists in internal repository
machv2macOS 10.14.6 Mojave / x86_64  OK    OK    OK    OK  UNNEEDED, same version exists in internal repository
Package 5/5HostnameOS / ArchINSTALLBUILDCHECKBUILD BIN
SIM 1.61.0  (landing page)
Renee X. de Menezes
Last Commit: 47370a9
Last Changed Date: 2020-10-27 10:33:42 -0400
nebbiolo1Linux (Ubuntu 20.04.2 LTS) / x86_64  OK    OK    OK  UNNEEDED, same version exists in internal repository
riesling1Windows Server 2019 Standard / x64  OK    OK    OK    OK  UNNEEDED, same version exists in internal repository
machv2macOS 10.14.6 Mojave / x86_64  OK    OK    OK    OK  UNNEEDED, same version exists in internal repository