Back to Multiple platform build/check report for BioC 3.13
ABCDE[F]GHIJKLMNOPQRSTUVWXYZ

This page was generated on 2021-06-18 14:05:47 -0400 (Fri, 18 Jun 2021).

BUILD results for flowWorkspace on nebbiolo1

To the developers/maintainers of the flowWorkspace package:
- Please allow up to 24 hours (and sometimes 48 hours) for your latest push to git@git.bioconductor.org:packages/flowWorkspace.git to
reflect on this report. See How and When does the builder pull? When will my changes propagate? here for more information.
- Make sure to use the following settings in order to reproduce any error or warning you see on this page.

raw results

Package 669/2041HostnameOS / ArchINSTALLBUILDCHECKBUILD BIN
flowWorkspace 4.4.0  (landing page)
Greg Finak , Mike Jiang
Snapshot Date: 2021-06-17 06:50:12 -0400 (Thu, 17 Jun 2021)
URL: https://git.bioconductor.org/packages/flowWorkspace
Branch: RELEASE_3_13
Last Commit: 8b26faf
Last Changed Date: 2021-05-19 11:48:41 -0400 (Wed, 19 May 2021)
nebbiolo1Linux (Ubuntu 20.04.2 LTS) / x86_64  OK    OK    WARNINGS  UNNEEDED, same version is already published
tokay2Windows Server 2012 R2 Standard / x64  OK    OK    WARNINGS    OK  UNNEEDED, same version is already published
machv2macOS 10.14.6 Mojave / x86_64  OK    OK    WARNINGS    OK  UNNEEDED, same version is already published

Summary

Package: flowWorkspace
Version: 4.4.0
Command: /home/biocbuild/bbs-3.13-bioc/R/bin/R CMD build --keep-empty-dirs --no-resave-data flowWorkspace
StartedAt: 2021-06-17 09:17:53 -0400 (Thu, 17 Jun 2021)
EndedAt: 2021-06-17 09:21:53 -0400 (Thu, 17 Jun 2021)
EllapsedTime: 239.4 seconds
RetCode: 0
Status:   OK  
PackageFile: flowWorkspace_4.4.0.tar.gz
PackageFileSize: 4.384 MiB

Command output

##############################################################################
##############################################################################
###
### Running command:
###
###   /home/biocbuild/bbs-3.13-bioc/R/bin/R CMD build --keep-empty-dirs --no-resave-data flowWorkspace
###
##############################################################################
##############################################################################


* checking for file ‘flowWorkspace/DESCRIPTION’ ... OK
* preparing ‘flowWorkspace’:
* checking DESCRIPTION meta-information ... OK
* cleaning src
* installing the package to build vignettes
* creating vignettes ... OK
* cleaning src
* checking for LF line-endings in source and make files and shell scripts
* checking for empty or unneeded directories
WARNING: Removing directory ‘flowWorkspace/Meta’ which should only
  occur in an installed package
  NB: this package now depends on R (>= 3.5.0)
  WARNING: Added dependency on R >= 3.5.0 because serialized objects in
  serialize/load version 3 cannot be read in older versions of R.
  File(s) containing such objects:
    ‘flowWorkspace/tests/testthat/expect_result/empty_pop.rds’
* building ‘flowWorkspace_4.4.0.tar.gz’