Back to Multiple platform build/check report for BioC 3.13
ABCDE[F]GHIJKLMNOPQRSTUVWXYZ

This page was generated on 2021-09-24 15:05:45 -0400 (Fri, 24 Sep 2021).

INSTALL results for flowUtils on nebbiolo1

To the developers/maintainers of the flowUtils package:
- Please allow up to 24 hours (and sometimes 48 hours) for your latest push to git@git.bioconductor.org:packages/flowUtils.git to
reflect on this report. See How and When does the builder pull? When will my changes propagate? here for more information.
- Make sure to use the following settings in order to reproduce any error or warning you see on this page.

raw results

Package 666/2041HostnameOS / ArchINSTALLBUILDCHECKBUILD BIN
flowUtils 1.56.0  (landing page)
Josef Spidlen
Snapshot Date: 2021-09-23 04:50:12 -0400 (Thu, 23 Sep 2021)
git_url: https://git.bioconductor.org/packages/flowUtils
git_branch: RELEASE_3_13
git_last_commit: ad93cd2
git_last_commit_date: 2021-05-19 11:38:23 -0400 (Wed, 19 May 2021)
nebbiolo1Linux (Ubuntu 20.04.2 LTS) / x86_64  OK    OK    WARNINGS  UNNEEDED, same version is already published
tokay2Windows Server 2012 R2 Standard / x64  OK    OK    WARNINGS    OK  UNNEEDED, same version is already published
machv2macOS 10.14.6 Mojave / x86_64  OK    OK    WARNINGS    OK  UNNEEDED, same version is already published

Summary

Package: flowUtils
Version: 1.56.0
Command: /home/biocbuild/bbs-3.13-bioc/R/bin/R CMD INSTALL flowUtils
StartedAt: 2021-09-23 06:14:26 -0400 (Thu, 23 Sep 2021)
EndedAt: 2021-09-23 06:14:36 -0400 (Thu, 23 Sep 2021)
EllapsedTime: 9.6 seconds
RetCode: 0
Status:   OK  

Command output

##############################################################################
##############################################################################
###
### Running command:
###
###   /home/biocbuild/bbs-3.13-bioc/R/bin/R CMD INSTALL flowUtils
###
##############################################################################
##############################################################################


* installing to library ‘/home/biocbuild/bbs-3.13-bioc/R/library’
* installing *source* package ‘flowUtils’ ...
** using staged installation
** R
** inst
** byte-compile and prepare package for lazy loading
No methods found in package ‘flowCore’ for requests: ‘action’, ‘assign’, ‘Data’, ‘gate’, ‘tree’ when loading ‘flowUtils’
** help
*** installing help indices
** building package indices
** installing vignettes
** testing if installed package can be loaded from temporary location
No methods found in package ‘flowCore’ for requests: ‘action’, ‘assign’, ‘Data’, ‘gate’, ‘tree’ when loading ‘flowUtils’
** testing if installed package can be loaded from final location
No methods found in package ‘flowCore’ for requests: ‘action’, ‘assign’, ‘Data’, ‘gate’, ‘tree’ when loading ‘flowUtils’
** testing if installed package keeps a record of temporary installation path
* DONE (flowUtils)