Back to Multiple platform build/check report for BioC 3.13
ABCDE[F]GHIJKLMNOPQRSTUVWXYZ

This page was generated on 2021-09-15 15:06:00 -0400 (Wed, 15 Sep 2021).

BUILD results for flowUtils on machv2

To the developers/maintainers of the flowUtils package:
- Please allow up to 24 hours (and sometimes 48 hours) for your latest push to git@git.bioconductor.org:packages/flowUtils.git to
reflect on this report. See How and When does the builder pull? When will my changes propagate? here for more information.
- Make sure to use the following settings in order to reproduce any error or warning you see on this page.

raw results

Package 666/2041HostnameOS / ArchINSTALLBUILDCHECKBUILD BIN
flowUtils 1.56.0  (landing page)
Josef Spidlen
Snapshot Date: 2021-09-14 04:50:06 -0400 (Tue, 14 Sep 2021)
git_url: https://git.bioconductor.org/packages/flowUtils
git_branch: RELEASE_3_13
git_last_commit: ad93cd2
git_last_commit_date: 2021-05-19 11:38:23 -0400 (Wed, 19 May 2021)
nebbiolo1Linux (Ubuntu 20.04.2 LTS) / x86_64  OK    OK    WARNINGS  UNNEEDED, same version is already published
tokay2Windows Server 2012 R2 Standard / x64  OK    OK    WARNINGS    OK  UNNEEDED, same version is already published
machv2macOS 10.14.6 Mojave / x86_64  OK    OK    WARNINGS    OK  UNNEEDED, same version is already published

Summary

Package: flowUtils
Version: 1.56.0
Command: /Library/Frameworks/R.framework/Versions/Current/Resources/bin/R CMD build --keep-empty-dirs --no-resave-data flowUtils
StartedAt: 2021-09-14 12:07:06 -0400 (Tue, 14 Sep 2021)
EndedAt: 2021-09-14 12:08:04 -0400 (Tue, 14 Sep 2021)
EllapsedTime: 57.9 seconds
RetCode: 0
Status:   OK  
PackageFile: flowUtils_1.56.0.tar.gz
PackageFileSize: 411.5 KiB

Command output

##############################################################################
##############################################################################
###
### Running command:
###
###   /Library/Frameworks/R.framework/Versions/Current/Resources/bin/R CMD build --keep-empty-dirs --no-resave-data flowUtils
###
##############################################################################
##############################################################################


* checking for file ‘flowUtils/DESCRIPTION’ ... OK
* preparing ‘flowUtils’:
* checking DESCRIPTION meta-information ... OK
* installing the package to build vignettes
* creating vignettes ... OK
* checking for LF line-endings in source and make files and shell scripts
* checking for empty or unneeded directories
* building ‘flowUtils_1.56.0.tar.gz’