Back to Multiple platform build/check report for BioC 3.13
ABCDE[F]GHIJKLMNOPQRSTUVWXYZ

This page was generated on 2021-06-23 15:04:37 -0400 (Wed, 23 Jun 2021).

All results for package flowMerge

To the developers/maintainers of the flowMerge package:
- Please allow up to 24 hours (and sometimes 48 hours) for your latest push to git@git.bioconductor.org:packages/flowMerge.git to
reflect on this report. See How and When does the builder pull? When will my changes propagate? here for more information.
- Make sure to use the following settings in order to reproduce any error or warning you see on this page.

raw results

Package 656/2041HostnameOS / ArchINSTALLBUILDCHECKBUILD BIN
flowMerge 2.40.0  (landing page)
Greg Finak
Snapshot Date: 2021-06-22 04:50:12 -0400 (Tue, 22 Jun 2021)
URL: https://git.bioconductor.org/packages/flowMerge
Branch: RELEASE_3_13
Last Commit: beb6e37
Last Changed Date: 2021-05-19 11:43:25 -0400 (Wed, 19 May 2021)
nebbiolo1Linux (Ubuntu 20.04.2 LTS) / x86_64  OK    OK    OK  UNNEEDED, same version is already published
tokay2Windows Server 2012 R2 Standard / x64  OK    OK    OK    OK  UNNEEDED, same version is already published
machv2macOS 10.14.6 Mojave / x86_64  OK    OK    OK    OK  UNNEEDED, same version is already published

Results for Bioconductor software packages that depend directly on package flowMerge

QUICK STATSOS / ArchINSTALLBUILDCHECKBUILD BIN
nebbiolo1Linux (Ubuntu 20.04.2 LTS) / x86_64
001
001
0010
tokay2Windows Server 2012 R2 Standard / x64
001
001
0010
001
machv2macOS 10.14.6 Mojave / x86_64
001
001
0010
001
Package 1/1HostnameOS / ArchINSTALLBUILDCHECKBUILD BIN
CONFESS 1.20.0  (landing page)
Diana LOW
Last Commit: 5f6120a
Last Changed Date: 2021-05-19 12:19:35 -0400
nebbiolo1Linux (Ubuntu 20.04.2 LTS) / x86_64  OK    OK    WARNINGS  UNNEEDED, same version is already published
tokay2Windows Server 2012 R2 Standard / x64  OK    OK    WARNINGS    OK  UNNEEDED, same version is already published
machv2macOS 10.14.6 Mojave / x86_64  OK    OK    WARNINGS    OK  UNNEEDED, same version is already published