Index of /checkResults/3.13/bioc-LATEST/flagme/raw-results/nebbiolo1

[ICO]NameLast modifiedSizeDescription

[DIR]Parent Directory  -  
[TXT]buildsrc-out.txt16-Oct-2021 04:05 1.0K 
[   ]buildsrc-summary.dcf16-Oct-2021 04:05 415  
[TXT]checksrc-out.txt16-Oct-2021 04:05 4.4K 
[   ]checksrc-summary.dcf16-Oct-2021 04:05 426  
[TXT]install-out.txt16-Oct-2021 04:05 2.0K 
[   ]install-summary.dcf16-Oct-2021 04:05 257