Index of /checkResults/3.13/bioc-LATEST/flagme/raw-results/machv2

[ICO]NameLast modifiedSizeDescription

[DIR]Parent Directory  -  
[TXT]buildbin-out.txt16-Oct-2021 04:06 2.8K 
[   ]buildbin-summary.dcf16-Oct-2021 04:06 541  
[TXT]buildsrc-out.txt16-Oct-2021 04:06 1.0K 
[   ]buildsrc-summary.dcf16-Oct-2021 04:06 440  
[TXT]checksrc-out.txt16-Oct-2021 04:06 4.9K 
[   ]checksrc-summary.dcf16-Oct-2021 04:06 480  
[TXT]install-out.txt16-Oct-2021 04:06 2.0K 
[   ]install-summary.dcf16-Oct-2021 04:06 284