Back to Multiple platform build/check report for BioC 3.13
ABCDE[F]GHIJKLMNOPQRSTUVWXYZ

This page was generated on 2021-07-23 15:05:38 -0400 (Fri, 23 Jul 2021).

BUILD results for flagme on nebbiolo1

To the developers/maintainers of the flagme package:
- Please allow up to 24 hours (and sometimes 48 hours) for your latest push to git@git.bioconductor.org:packages/flagme.git to
reflect on this report. See How and When does the builder pull? When will my changes propagate? here for more information.
- Make sure to use the following settings in order to reproduce any error or warning you see on this page.

raw results

Package 638/2041HostnameOS / ArchINSTALLBUILDCHECKBUILD BIN
flagme 1.48.0  (landing page)
Mark Robinson , Riccardo Romoli
Snapshot Date: 2021-07-22 04:50:13 -0400 (Thu, 22 Jul 2021)
URL: https://git.bioconductor.org/packages/flagme
Branch: RELEASE_3_13
Last Commit: 31bd595
Last Changed Date: 2021-05-19 11:42:23 -0400 (Wed, 19 May 2021)
nebbiolo1Linux (Ubuntu 20.04.2 LTS) / x86_64  OK    OK    WARNINGS  UNNEEDED, same version is already published
tokay2Windows Server 2012 R2 Standard / x64  OK    OK    WARNINGS    OK  UNNEEDED, same version is already published
machv2macOS 10.14.6 Mojave / x86_64  OK    OK    WARNINGS    OK  UNNEEDED, same version is already published

Summary

Package: flagme
Version: 1.48.0
Command: /home/biocbuild/bbs-3.13-bioc/R/bin/R CMD build --keep-empty-dirs --no-resave-data flagme
StartedAt: 2021-07-22 07:14:12 -0400 (Thu, 22 Jul 2021)
EndedAt: 2021-07-22 07:15:58 -0400 (Thu, 22 Jul 2021)
EllapsedTime: 106.4 seconds
RetCode: 0
Status:   OK  
PackageFile: flagme_1.48.0.tar.gz
PackageFileSize: 424.8 KiB

Command output

##############################################################################
##############################################################################
###
### Running command:
###
###   /home/biocbuild/bbs-3.13-bioc/R/bin/R CMD build --keep-empty-dirs --no-resave-data flagme
###
##############################################################################
##############################################################################


* checking for file ‘flagme/DESCRIPTION’ ... OK
* preparing ‘flagme’:
* checking DESCRIPTION meta-information ... OK
* cleaning src
* installing the package to build vignettes
* creating vignettes ... OK
Warning: ‘inst/doc’ file
    ‘flagme.Rnw’
  ignored as vignettes have been rebuilt.
  Run R CMD build with --no-build-vignettes to prevent rebuilding.
* cleaning src
* checking for LF line-endings in source and make files and shell scripts
* checking for empty or unneeded directories
* building ‘flagme_1.48.0.tar.gz’