Back to Multiple platform build/check report for BioC 3.13
ABCDE[F]GHIJKLMNOPQRSTUVWXYZ

This page was generated on 2021-06-17 02:39:08 -0400 (Thu, 17 Jun 2021).

BUILD results for fgsea on machv2

To the developers/maintainers of the fgsea package:
- Please allow up to 24 hours (and sometimes 48 hours) for your latest push to git@git.bioconductor.org:packages/fgsea.git to
reflect on this report. See How and When does the builder pull? When will my changes propagate? here for more information.
- Make sure to use the following settings in order to reproduce any error or warning you see on this page.

raw results

Package 632/2041HostnameOS / ArchINSTALLBUILDCHECKBUILD BIN
fgsea 1.18.0  (landing page)
Alexey Sergushichev
Snapshot Date: 2021-06-15 06:50:12 -0400 (Tue, 15 Jun 2021)
URL: https://git.bioconductor.org/packages/fgsea
Branch: RELEASE_3_13
Last Commit: 9b6e7d0
Last Changed Date: 2021-05-19 12:21:26 -0400 (Wed, 19 May 2021)
nebbiolo1Linux (Ubuntu 20.04.2 LTS) / x86_64  OK    OK    OK  UNNEEDED, same version is already published
tokay2Windows Server 2012 R2 Standard / x64  OK    OK    OK    OK  UNNEEDED, same version is already published
machv2macOS 10.14.6 Mojave / x86_64  OK    OK    OK    OK  UNNEEDED, same version is already published

Summary

Package: fgsea
Version: 1.18.0
Command: /Library/Frameworks/R.framework/Versions/Current/Resources/bin/R CMD build --keep-empty-dirs --no-resave-data fgsea
StartedAt: 2021-06-15 11:53:18 -0400 (Tue, 15 Jun 2021)
EndedAt: 2021-06-15 11:55:00 -0400 (Tue, 15 Jun 2021)
EllapsedTime: 101.7 seconds
RetCode: 0
Status:   OK  
PackageFile: fgsea_1.18.0.tar.gz
PackageFileSize: 1.202 MiB

Command output

##############################################################################
##############################################################################
###
### Running command:
###
###   /Library/Frameworks/R.framework/Versions/Current/Resources/bin/R CMD build --keep-empty-dirs --no-resave-data fgsea
###
##############################################################################
##############################################################################


* checking for file ‘fgsea/DESCRIPTION’ ... OK
* preparing ‘fgsea’:
* checking DESCRIPTION meta-information ... OK
* cleaning src
* installing the package to build vignettes
* creating vignettes ... OK
* cleaning src
* checking for LF line-endings in source and make files and shell scripts
* checking for empty or unneeded directories
* building ‘fgsea_1.18.0.tar.gz’