Back to Multiple platform build/check report for BioC 3.13
ABCDE[F]GHIJKLMNOPQRSTUVWXYZ

Multiple platform build/check report for BioC 3.13

All results for package fgsea

This page was generated on 2021-05-11 12:14:02 -0400 (Tue, 11 May 2021).

Package 624/2016HostnameOS / ArchINSTALLBUILDCHECKBUILD BIN
fgsea 1.17.0  (landing page)
Alexey Sergushichev
Snapshot Date: 2021-05-10 14:50:13 -0400 (Mon, 10 May 2021)
URL: https://git.bioconductor.org/packages/fgsea
Branch: master
Last Commit: 19a0e2a
Last Changed Date: 2020-10-27 11:15:49 -0400 (Tue, 27 Oct 2020)
nebbiolo1Linux (Ubuntu 20.04.2 LTS) / x86_64  OK    OK    OK  UNNEEDED, same version exists in internal repository
riesling1Windows Server 2019 Standard / x64  OK    OK    OK    OK  UNNEEDED, same version exists in internal repository
machv2macOS 10.14.6 Mojave / x86_64  OK    OK    OK    OK  UNNEEDED, same version exists in internal repository

Results for Bioconductor software packages that depend directly on package fgsea

QUICK STATSOS / ArchINSTALLBUILDCHECKBUILD BIN
nebbiolo1Linux (Ubuntu 20.04.2 LTS) / x86_64
0017
0116
00313
riesling1Windows Server 2019 Standard / x64
0017
0116
00313
0016
machv2macOS 10.14.6 Mojave / x86_64
0017
0215
00213
0015
Package 1/17HostnameOS / ArchINSTALLBUILDCHECKBUILD BIN
ASpediaFI 1.5.0  (landing page)
Doyeong Yu
Last Commit: 7705de1
Last Changed Date: 2020-10-27 11:50:40 -0400
nebbiolo1Linux (Ubuntu 20.04.2 LTS) / x86_64  OK    OK    OK  UNNEEDED, same version exists in internal repository
riesling1Windows Server 2019 Standard / x64  OK    OK    OK    OK  UNNEEDED, same version exists in internal repository
machv2macOS 10.14.6 Mojave / x86_64  OK    OK    OK    OK  UNNEEDED, same version exists in internal repository
Package 2/17HostnameOS / ArchINSTALLBUILDCHECKBUILD BIN
CelliD 0.99.9  (landing page)
Akira Cortal
Last Commit: be6c96f
Last Changed Date: 2021-03-23 15:24:37 -0400
nebbiolo1Linux (Ubuntu 20.04.2 LTS) / x86_64  OK    OK    OK  UNNEEDED, same version exists in internal repository
riesling1Windows Server 2019 Standard / x64  OK    OK    OK    OK  UNNEEDED, same version exists in internal repository
machv2macOS 10.14.6 Mojave / x86_64  OK    OK    OK    OK  UNNEEDED, same version exists in internal repository
Package 3/17HostnameOS / ArchINSTALLBUILDCHECKBUILD BIN
CEMiTool 1.15.1  (landing page)
Helder Nakaya
Last Commit: 57b1406
Last Changed Date: 2021-03-10 17:19:32 -0400
nebbiolo1Linux (Ubuntu 20.04.2 LTS) / x86_64  OK    OK    WARNINGS  UNNEEDED, same version exists in internal repository
riesling1Windows Server 2019 Standard / x64  OK    OK    WARNINGS    OK  UNNEEDED, same version exists in internal repository
machv2macOS 10.14.6 Mojave / x86_64  OK    OK    WARNINGS    OK  UNNEEDED, same version exists in internal repository
Package 4/17HostnameOS / ArchINSTALLBUILDCHECKBUILD BIN
clustifyr 1.3.3  (landing page)
Rui Fu
Last Commit: be1c017
Last Changed Date: 2021-04-08 09:44:00 -0400
nebbiolo1Linux (Ubuntu 20.04.2 LTS) / x86_64  OK    OK    OK  UNNEEDED, same version exists in internal repository
riesling1Windows Server 2019 Standard / x64  OK    OK    OK    OK  UNNEEDED, same version exists in internal repository
machv2macOS 10.14.6 Mojave / x86_64  OK    OK    OK    OK  UNNEEDED, same version exists in internal repository
Package 5/17HostnameOS / ArchINSTALLBUILDCHECKBUILD BIN
cTRAP 1.9.0  (landing page)
Nuno Saraiva-Agostinho
Last Commit: a5de340
Last Changed Date: 2020-10-27 11:39:57 -0400
nebbiolo1Linux (Ubuntu 20.04.2 LTS) / x86_64  OK    OK    OK  UNNEEDED, same version exists in internal repository
riesling1Windows Server 2019 Standard / x64  OK    OK    OK    OK  UNNEEDED, same version exists in internal repository
machv2macOS 10.14.6 Mojave / x86_64  OK    ERROR  skippedskipped
Package 6/17HostnameOS / ArchINSTALLBUILDCHECKBUILD BIN
DOSE 3.17.2  (landing page)
Guangchuang Yu
Last Commit: 5e17b9d
Last Changed Date: 2021-04-19 22:19:46 -0400
nebbiolo1Linux (Ubuntu 20.04.2 LTS) / x86_64  OK    OK    OK  UNNEEDED, same version exists in internal repository
riesling1Windows Server 2019 Standard / x64  OK    OK    OK    OK  UNNEEDED, same version exists in internal repository
machv2macOS 10.14.6 Mojave / x86_64  OK    OK    OK    OK  UNNEEDED, same version exists in internal repository
Package 7/17HostnameOS / ArchINSTALLBUILDCHECKBUILD BIN
fobitools 0.99.46  (landing page)
Pol Castellano-Escuder
Last Commit: 9b13475
Last Changed Date: 2021-05-10 13:11:39 -0400
nebbiolo1Linux (Ubuntu 20.04.2 LTS) / x86_64  OK    OK    OK  YES, new version is higher than in internal repository
riesling1Windows Server 2019 Standard / x64  OK    OK    OK    OK  YES, new version is higher than in internal repository
machv2macOS 10.14.6 Mojave / x86_64  OK    OK    OK    OK  YES, new version is higher than in internal repository
Package 8/17HostnameOS / ArchINSTALLBUILDCHECKBUILD BIN
gsean 1.11.1  (landing page)
Dongmin Jung
Last Commit: 7581e21
Last Changed Date: 2021-04-18 07:18:19 -0400
nebbiolo1Linux (Ubuntu 20.04.2 LTS) / x86_64  OK    OK    OK  UNNEEDED, same version exists in internal repository
riesling1Windows Server 2019 Standard / x64  OK    OK    OK    OK  UNNEEDED, same version exists in internal repository
machv2macOS 10.14.6 Mojave / x86_64  OK    OK    OK    OK  UNNEEDED, same version exists in internal repository
Package 9/17HostnameOS / ArchINSTALLBUILDCHECKBUILD BIN
lipidr 2.5.2  (landing page)
Ahmed Mohamed
Last Commit: d3946f5
Last Changed Date: 2021-05-05 19:27:13 -0400
nebbiolo1Linux (Ubuntu 20.04.2 LTS) / x86_64  OK    OK    OK  UNNEEDED, same version exists in internal repository
riesling1Windows Server 2019 Standard / x64  OK    OK    OK    OK  UNNEEDED, same version exists in internal repository
machv2macOS 10.14.6 Mojave / x86_64  OK    OK    OK    OK  UNNEEDED, same version exists in internal repository
Package 10/17HostnameOS / ArchINSTALLBUILDCHECKBUILD BIN
mCSEA 1.11.0  (landing page)
Jordi Martorell-Marugán
Last Commit: ce026ab
Last Changed Date: 2020-10-27 11:31:18 -0400
nebbiolo1Linux (Ubuntu 20.04.2 LTS) / x86_64  OK    OK    OK  UNNEEDED, same version exists in internal repository
riesling1Windows Server 2019 Standard / x64  OK    OK    OK    OK  UNNEEDED, same version exists in internal repository
machv2macOS 10.14.6 Mojave / x86_64  OK    OK    OK    OK  UNNEEDED, same version exists in internal repository
Package 11/17HostnameOS / ArchINSTALLBUILDCHECKBUILD BIN
multiGSEA 1.1.6  (landing page)
Sebastian Canzler
Last Commit: 9ffe2a4
Last Changed Date: 2021-04-21 03:49:45 -0400
nebbiolo1Linux (Ubuntu 20.04.2 LTS) / x86_64  OK    ERROR  skipped
riesling1Windows Server 2019 Standard / x64  OK    ERROR  skippedskipped
machv2macOS 10.14.6 Mojave / x86_64  OK    ERROR  skippedskipped
Package 12/17HostnameOS / ArchINSTALLBUILDCHECKBUILD BIN
phantasus 1.11.0  (landing page)
Alexey Sergushichev
Last Commit: 3060d2b
Last Changed Date: 2020-10-27 11:33:27 -0400
nebbiolo1Linux (Ubuntu 20.04.2 LTS) / x86_64  OK    OK    OK  UNNEEDED, same version exists in internal repository
riesling1Windows Server 2019 Standard / x64  OK    OK    OK    OK  UNNEEDED, same version exists in internal repository
machv2macOS 10.14.6 Mojave / x86_64  OK    OK    OK    OK  UNNEEDED, same version exists in internal repository
Package 13/17HostnameOS / ArchINSTALLBUILDCHECKBUILD BIN
piano 2.7.0  (landing page)
Leif Varemo Wigge
Last Commit: 36de541
Last Changed Date: 2020-10-27 10:50:22 -0400
nebbiolo1Linux (Ubuntu 20.04.2 LTS) / x86_64  OK    OK    WARNINGS  UNNEEDED, same version exists in internal repository
riesling1Windows Server 2019 Standard / x64  OK    OK    WARNINGS    OK  UNNEEDED, same version exists in internal repository
machv2macOS 10.14.6 Mojave / x86_64  OK    OK    OK    OK  UNNEEDED, same version exists in internal repository
Package 14/17HostnameOS / ArchINSTALLBUILDCHECKBUILD BIN
PPInfer 1.17.0  (landing page)
Dongmin Jung
Last Commit: f703a56
Last Changed Date: 2020-10-27 11:23:58 -0400
nebbiolo1Linux (Ubuntu 20.04.2 LTS) / x86_64  OK    OK    OK  UNNEEDED, same version exists in internal repository
riesling1Windows Server 2019 Standard / x64  OK    OK    OK    OK  UNNEEDED, same version exists in internal repository
machv2macOS 10.14.6 Mojave / x86_64  OK    OK    OK    OK  UNNEEDED, same version exists in internal repository
Package 15/17HostnameOS / ArchINSTALLBUILDCHECKBUILD BIN
RegEnrich 1.1.1  (landing page)
Weiyang Tao
Last Commit: a62ec32
Last Changed Date: 2021-03-02 04:08:05 -0400
nebbiolo1Linux (Ubuntu 20.04.2 LTS) / x86_64  OK    OK    OK  UNNEEDED, same version exists in internal repository
riesling1Windows Server 2019 Standard / x64  OK    OK    OK    OK  UNNEEDED, same version exists in internal repository
machv2macOS 10.14.6 Mojave / x86_64  OK    OK    OK    OK  UNNEEDED, same version exists in internal repository
Package 16/17HostnameOS / ArchINSTALLBUILDCHECKBUILD BIN
signatureSearch 1.5.6  (landing page)
Yuzhu Duan
Last Commit: 25f3439
Last Changed Date: 2021-04-23 09:26:52 -0400
nebbiolo1Linux (Ubuntu 20.04.2 LTS) / x86_64  OK    OK    OK  UNNEEDED, same version exists in internal repository
riesling1Windows Server 2019 Standard / x64  OK    OK    OK    OK  UNNEEDED, same version exists in internal repository
machv2macOS 10.14.6 Mojave / x86_64  OK    OK    OK    OK  UNNEEDED, same version exists in internal repository
Package 17/17HostnameOS / ArchINSTALLBUILDCHECKBUILD BIN
ViSEAGO 1.5.0  (landing page)
Aurelien Brionne
Last Commit: be6e8d9
Last Changed Date: 2020-10-27 11:47:25 -0400
nebbiolo1Linux (Ubuntu 20.04.2 LTS) / x86_64  OK    OK    WARNINGS  UNNEEDED, same version exists in internal repository
riesling1Windows Server 2019 Standard / x64  OK    OK    WARNINGS    OK  UNNEEDED, same version exists in internal repository
machv2macOS 10.14.6 Mojave / x86_64  OK    OK    WARNINGS    OK  UNNEEDED, same version exists in internal repository