Back to Multiple platform build/check report for BioC 3.13
ABCD[E]FGHIJKLMNOPQRSTUVWXYZ

This page was generated on 2021-07-21 15:05:20 -0400 (Wed, 21 Jul 2021).

BUILD results for epiNEM on tokay2

To the developers/maintainers of the epiNEM package:
- Please allow up to 24 hours (and sometimes 48 hours) for your latest push to git@git.bioconductor.org:packages/epiNEM.git to
reflect on this report. See How and When does the builder pull? When will my changes propagate? here for more information.
- Make sure to use the following settings in order to reproduce any error or warning you see on this page.

raw results

Package 585/2041HostnameOS / ArchINSTALLBUILDCHECKBUILD BIN
epiNEM 1.16.0  (landing page)
Martin Pirkl
Snapshot Date: 2021-07-20 04:50:13 -0400 (Tue, 20 Jul 2021)
URL: https://git.bioconductor.org/packages/epiNEM
Branch: RELEASE_3_13
Last Commit: 2383f66
Last Changed Date: 2021-05-19 12:26:21 -0400 (Wed, 19 May 2021)
nebbiolo1Linux (Ubuntu 20.04.2 LTS) / x86_64  OK    OK    OK  UNNEEDED, same version is already published
tokay2Windows Server 2012 R2 Standard / x64  OK    OK    OK    OK  UNNEEDED, same version is already published
machv2macOS 10.14.6 Mojave / x86_64  OK    OK    OK    OK  UNNEEDED, same version is already published

Summary

Package: epiNEM
Version: 1.16.0
Command: chmod a+r epiNEM -R && C:\Users\biocbuild\bbs-3.13-bioc\R\bin\R.exe CMD build --keep-empty-dirs --no-resave-data epiNEM
StartedAt: 2021-07-20 14:27:20 -0400 (Tue, 20 Jul 2021)
EndedAt: 2021-07-20 14:36:04 -0400 (Tue, 20 Jul 2021)
EllapsedTime: 524.8 seconds
RetCode: 0
Status:   OK  
PackageFile: epiNEM_1.16.0.tar.gz
PackageFileSize: 852.4 KiB

Command output

##############################################################################
##############################################################################
###
### Running command:
###
###   chmod a+r epiNEM -R && C:\Users\biocbuild\bbs-3.13-bioc\R\bin\R.exe CMD build --keep-empty-dirs --no-resave-data epiNEM
###
##############################################################################
##############################################################################


* checking for file 'epiNEM/DESCRIPTION' ... OK
* preparing 'epiNEM':
* checking DESCRIPTION meta-information ... OK
* installing the package to build vignettes
* creating vignettes ... OK
* checking for LF line-endings in source and make files and shell scripts
* checking for empty or unneeded directories
* building 'epiNEM_1.16.0.tar.gz'