Back to Multiple platform build/check report for BioC 3.13
ABCD[E]FGHIJKLMNOPQRSTUVWXYZ

CHECK results for epiNEM on nebbiolo1

This page was generated on 2021-06-11 14:05:39 -0400 (Fri, 11 Jun 2021).

Package 585/2041HostnameOS / ArchINSTALLBUILDCHECKBUILD BIN
epiNEM 1.16.0  (landing page)
Martin Pirkl
Snapshot Date: 2021-06-10 06:50:12 -0400 (Thu, 10 Jun 2021)
URL: https://git.bioconductor.org/packages/epiNEM
Branch: RELEASE_3_13
Last Commit: 2383f66
Last Changed Date: 2021-05-19 12:26:21 -0400 (Wed, 19 May 2021)
nebbiolo1Linux (Ubuntu 20.04.2 LTS) / x86_64  OK    OK    OK  UNNEEDED, same version is already published
tokay2Windows Server 2012 R2 Standard / x64  OK    OK    OK    OK  UNNEEDED, same version is already published
machv2macOS 10.14.6 Mojave / x86_64  OK    OK    OK    OK  UNNEEDED, same version is already published
To the developers/maintainers of the epiNEM package:
- Please allow up to 24 hours (and sometimes 48 hours) for your latest push to git@git.bioconductor.org:packages/epiNEM.git to
reflect on this report. See How and When does the builder pull? When will my changes propagate? here for more information.
- Make sure to use the following settings in order to reproduce any error or warning you see on this page.

Summary

Package: epiNEM
Version: 1.16.0
Command: /home/biocbuild/bbs-3.13-bioc/R/bin/R CMD check --install=check:epiNEM.install-out.txt --library=/home/biocbuild/bbs-3.13-bioc/R/library --no-vignettes --timings epiNEM_1.16.0.tar.gz
StartedAt: 2021-06-10 11:55:05 -0400 (Thu, 10 Jun 2021)
EndedAt: 2021-06-10 11:57:27 -0400 (Thu, 10 Jun 2021)
EllapsedTime: 141.9 seconds
RetCode: 0
Status:   OK  
CheckDir: epiNEM.Rcheck
Warnings: 0

Command output

##############################################################################
##############################################################################
###
### Running command:
###
###   /home/biocbuild/bbs-3.13-bioc/R/bin/R CMD check --install=check:epiNEM.install-out.txt --library=/home/biocbuild/bbs-3.13-bioc/R/library --no-vignettes --timings epiNEM_1.16.0.tar.gz
###
##############################################################################
##############################################################################


* using log directory ‘/home/biocbuild/bbs-3.13-bioc/meat/epiNEM.Rcheck’
* using R version 4.1.0 (2021-05-18)
* using platform: x86_64-pc-linux-gnu (64-bit)
* using session charset: UTF-8
* using option ‘--no-vignettes’
* checking for file ‘epiNEM/DESCRIPTION’ ... OK
* checking extension type ... Package
* this is package ‘epiNEM’ version ‘1.16.0’
* package encoding: UTF-8
* checking package namespace information ... OK
* checking package dependencies ... OK
* checking if this is a source package ... OK
* checking if there is a namespace ... OK
* checking for hidden files and directories ... OK
* checking for portable file names ... OK
* checking for sufficient/correct file permissions ... OK
* checking whether package ‘epiNEM’ can be installed ... OK
* checking installed package size ... OK
* checking package directory ... OK
* checking ‘build’ directory ... OK
* checking DESCRIPTION meta-information ... OK
* checking top-level files ... OK
* checking for left-over files ... OK
* checking index information ... OK
* checking package subdirectories ... OK
* checking R files for non-ASCII characters ... OK
* checking R files for syntax errors ... OK
* checking whether the package can be loaded ... OK
* checking whether the package can be loaded with stated dependencies ... OK
* checking whether the package can be unloaded cleanly ... OK
* checking whether the namespace can be loaded with stated dependencies ... OK
* checking whether the namespace can be unloaded cleanly ... OK
* checking dependencies in R code ... OK
* checking S3 generic/method consistency ... OK
* checking replacement functions ... OK
* checking foreign function calls ... NOTE
Foreign function call to a different package:
  .Call("getTruthTable_R", ..., PACKAGE = "BoolNet")
See chapter ‘System and foreign language interfaces’ in the ‘Writing R
Extensions’ manual.
* checking R code for possible problems ... NOTE
SimEpiNEM: no visible global function definition for ‘epiNEM2Bg’
SimEpiNEM: no visible global function definition for ‘dummyCNOlist’
SimEpiNEM: no visible global function definition for ‘readSIF’
SimEpiNEM: no visible global function definition for ‘preprocessing’
SimEpiNEM: no visible global function definition for ‘absorption’
SimEpiNEM: no visible global function definition for ‘bnem’
SimEpiNEM: no visible binding for global variable ‘popSize’
SimEpiNEM: no visible global function definition for ‘computeFc’
SimEpiNEM: no visible global function definition for
  ‘simulateStatesRecursive’
SimEpiNEM: no visible global function definition for ‘dnf2adj’
epiNEM: no visible binding for global variable ‘inference’
plot.epiSim: no visible binding for global variable ‘sim’
plot.epiSim: no visible global function definition for ‘layout’
plot.epiSim: no visible global function definition for ‘boxplot’
plot.epiSim: no visible global function definition for ‘abline’
plot.epiSim: no visible global function definition for ‘axis’
Undefined global functions or variables:
  abline absorption axis bnem boxplot computeFc dnf2adj dummyCNOlist
  epiNEM2Bg inference layout popSize preprocessing readSIF sim
  simulateStatesRecursive
Consider adding
  importFrom("graphics", "abline", "axis", "boxplot", "layout")
to your NAMESPACE file.
* checking Rd files ... OK
* checking Rd metadata ... OK
* checking Rd cross-references ... OK
* checking for missing documentation entries ... OK
* checking for code/documentation mismatches ... OK
* checking Rd \usage sections ... OK
* checking Rd contents ... OK
* checking for unstated dependencies in examples ... OK
* checking contents of ‘data’ directory ... OK
* checking data for non-ASCII characters ... OK
* checking LazyData ... OK
* checking data for ASCII and uncompressed saves ... OK
* checking files in ‘vignettes’ ... OK
* checking examples ... OK
Examples with CPU (user + system) or elapsed time > 5s
                user system elapsed
plot.epiScreen 9.620  0.204   9.825
epiScreen      9.399  0.388   9.786
SimEpiNEM      6.146  0.104   6.250
plot.epiSim    5.960  0.012   5.972
* checking for unstated dependencies in ‘tests’ ... OK
* checking tests ...
  Running ‘runTests.R’
 OK
* checking for unstated dependencies in vignettes ... OK
* checking package vignettes in ‘inst/doc’ ... OK
* checking running R code from vignettes ... SKIPPED
* checking re-building of vignette outputs ... SKIPPED
* checking PDF version of manual ... OK
* DONE

Status: 2 NOTEs
See
  ‘/home/biocbuild/bbs-3.13-bioc/meat/epiNEM.Rcheck/00check.log’
for details.



Installation output

epiNEM.Rcheck/00install.out

##############################################################################
##############################################################################
###
### Running command:
###
###   /home/biocbuild/bbs-3.13-bioc/R/bin/R CMD INSTALL epiNEM
###
##############################################################################
##############################################################################


* installing to library ‘/home/biocbuild/bbs-3.13-bioc/R/library’
* installing *source* package ‘epiNEM’ ...
** using staged installation
** R
** data
*** moving datasets to lazyload DB
** inst
** byte-compile and prepare package for lazy loading
** help
*** installing help indices
** building package indices
** installing vignettes
** testing if installed package can be loaded from temporary location
** testing if installed package can be loaded from final location
** testing if installed package keeps a record of temporary installation path
* DONE (epiNEM)

Tests output

epiNEM.Rcheck/tests/runTests.Rout


R version 4.1.0 (2021-05-18) -- "Camp Pontanezen"
Copyright (C) 2021 The R Foundation for Statistical Computing
Platform: x86_64-pc-linux-gnu (64-bit)

R is free software and comes with ABSOLUTELY NO WARRANTY.
You are welcome to redistribute it under certain conditions.
Type 'license()' or 'licence()' for distribution details.

R is a collaborative project with many contributors.
Type 'contributors()' for more information and
'citation()' on how to cite R or R packages in publications.

Type 'demo()' for some demos, 'help()' for on-line help, or
'help.start()' for an HTML browser interface to help.
Type 'q()' to quit R.

> BiocGenerics:::testPackage("epiNEM")
[1] "Progress (of 1 iterations):"

1...


RUNIT TEST PROTOCOL -- Thu Jun 10 11:57:24 2021 
*********************************************** 
Number of test functions: 0 
Number of errors: 0 
Number of failures: 0 

 
1 Test Suite : 
epiNEM RUnit Tests - 0 test functions, 0 errors, 0 failures
Number of test functions: 0 
Number of errors: 0 
Number of failures: 0 
> 
> proc.time()
   user  system elapsed 
  5.994   0.317   6.298 

Example timings

epiNEM.Rcheck/epiNEM-Ex.timings

nameusersystemelapsed
AddLogicGates0.0010.0000.001
CreateExtendedAdjacency0.5230.0040.527
CreateRandomGraph000
CreateTopology0.0510.0000.051
ExtendTopology0.0460.0020.049
GenerateData0.0460.0010.047
HeatmapOP0.0970.0080.104
Mll0.0010.0000.001
SimEpiNEM6.1460.1046.250
epiAnno0.1930.0000.193
epiNEM0.8480.0080.856
epiScreen9.3990.3889.786
perm.rank.test0.2880.0040.292
plot.epiNEM0.7560.0040.759
plot.epiScreen9.6200.2049.825
plot.epiSim5.9600.0125.972
rank.enrichment0.2860.0040.290
sameith_GO0.0010.0000.001
sameith_string0.0000.0000.001
samscreen0.0000.0010.000
sim0.0000.0010.001
wageningen_GO0.0010.0010.001
wageningen_string000
wagscreen0.0010.0000.001