Back to Multiple platform build/check report for BioC 3.13
ABC[D]EFGHIJKLMNOPQRSTUVWXYZ

This page was generated on 2021-07-23 15:06:01 -0400 (Fri, 23 Jul 2021).

BUILD BIN results for dasper on tokay2

To the developers/maintainers of the dasper package:
- Please allow up to 24 hours (and sometimes 48 hours) for your latest push to git@git.bioconductor.org:packages/dasper.git to
reflect on this report. See How and When does the builder pull? When will my changes propagate? here for more information.
- Make sure to use the following settings in order to reproduce any error or warning you see on this page.

raw results

Package 444/2041HostnameOS / ArchINSTALLBUILDCHECKBUILD BIN
dasper 1.2.0  (landing page)
David Zhang
Snapshot Date: 2021-07-22 04:50:13 -0400 (Thu, 22 Jul 2021)
URL: https://git.bioconductor.org/packages/dasper
Branch: RELEASE_3_13
Last Commit: 9bf018b
Last Changed Date: 2021-05-19 12:57:36 -0400 (Wed, 19 May 2021)
nebbiolo1Linux (Ubuntu 20.04.2 LTS) / x86_64  OK    OK    OK  UNNEEDED, same version is already published
tokay2Windows Server 2012 R2 Standard / x64  OK    OK    OK    OK  UNNEEDED, same version is already published
machv2macOS 10.14.6 Mojave / x86_64  OK    OK    OK    OK  UNNEEDED, same version is already published

Summary

Package: dasper
Version: 1.2.0
Command: rm -rf dasper.buildbin-libdir && mkdir dasper.buildbin-libdir && C:\Users\biocbuild\bbs-3.13-bioc\R\bin\R.exe --arch x64 CMD INSTALL --no-multiarch --build --library=dasper.buildbin-libdir dasper_1.2.0.tar.gz
StartedAt: 2021-07-23 09:08:58 -0400 (Fri, 23 Jul 2021)
EndedAt: 2021-07-23 09:09:39 -0400 (Fri, 23 Jul 2021)
EllapsedTime: 40.5 seconds
RetCode: 0
Status:   OK  
PackageFile: dasper_1.2.0.zip
PackageFileSize: 1.561 MiB

Command output

##############################################################################
##############################################################################
###
### Running command:
###
###   rm -rf dasper.buildbin-libdir && mkdir dasper.buildbin-libdir && C:\Users\biocbuild\bbs-3.13-bioc\R\bin\R.exe --arch x64 CMD INSTALL --no-multiarch --build --library=dasper.buildbin-libdir dasper_1.2.0.tar.gz
###
##############################################################################
##############################################################################


* installing *source* package 'dasper' ...
** using non-staged installation via StagedInstall field
** R
** data
*** moving datasets to lazyload DB
** inst
** byte-compile and prepare package for lazy loading
** help
*** installing help indices
  converting help for package 'dasper'
    finding HTML links ... done
    coverage_process                        html  
    dasper                                  html  
    junction_load                           html  
    junction_process                        html  
    junctions_example                       html  
    finding level-2 HTML links ... done

    outlier_process                         html  
    plot_sashimi                            html  
** building package indices
** installing vignettes
** testing if installed package can be loaded
* MD5 sums
packaged installation of 'dasper' as dasper_1.2.0.zip
* DONE (dasper)