Back to Multiple platform build/check report for BioC 3.13
AB[C]DEFGHIJKLMNOPQRSTUVWXYZ

All results for package cytomapper

This page was generated on 2021-06-14 14:04:23 -0400 (Mon, 14 Jun 2021).

Package 434/2041HostnameOS / ArchINSTALLBUILDCHECKBUILD BIN
cytomapper 1.4.1  (landing page)
Nils Eling
Snapshot Date: 2021-06-13 06:50:09 -0400 (Sun, 13 Jun 2021)
URL: https://git.bioconductor.org/packages/cytomapper
Branch: RELEASE_3_13
Last Commit: edd9a70
Last Changed Date: 2021-05-21 05:14:02 -0400 (Fri, 21 May 2021)
nebbiolo1Linux (Ubuntu 20.04.2 LTS) / x86_64  OK    OK    OK  UNNEEDED, same version is already published
tokay2Windows Server 2012 R2 Standard / x64  OK    OK    TIMEOUT    OK  
machv2macOS 10.14.6 Mojave / x86_64  OK    OK    OK    OK  UNNEEDED, same version is already published