Back to Multiple platform build/check report for BioC 3.13
AB[C]DEFGHIJKLMNOPQRSTUVWXYZ

Multiple platform build/check report for BioC 3.13

All results for package crisprseekplus

This page was generated on 2021-05-15 12:13:58 -0400 (Sat, 15 May 2021).

Package 411/2042HostnameOS / ArchINSTALLBUILDCHECKBUILD BIN
crisprseekplus 1.17.0  (landing page)
Alper Kucukural
Snapshot Date: 2021-05-14 14:50:09 -0400 (Fri, 14 May 2021)
URL: https://git.bioconductor.org/packages/crisprseekplus
Branch: master
Last Commit: 7192bbb
Last Changed Date: 2020-10-27 11:18:51 -0400 (Tue, 27 Oct 2020)
nebbiolo1Linux (Ubuntu 20.04.2 LTS) / x86_64  OK    OK    OK  UNNEEDED, same version exists in internal repository
riesling1Windows Server 2019 Standard / x64  OK    OK    OK    OK  UNNEEDED, same version exists in internal repository
machv2macOS 10.14.6 Mojave / x86_64  OK    OK    OK    OK  UNNEEDED, same version exists in internal repository