Back to Multiple platform build/check report for BioC 3.13
AB[C]DEFGHIJKLMNOPQRSTUVWXYZ

This page was generated on 2021-07-30 15:05:49 -0400 (Fri, 30 Jul 2021).

BUILD BIN results for compEpiTools on tokay2

To the developers/maintainers of the compEpiTools package:
- Please allow up to 24 hours (and sometimes 48 hours) for your latest push to git@git.bioconductor.org:packages/compEpiTools.git to
reflect on this report. See How and When does the builder pull? When will my changes propagate? here for more information.
- Make sure to use the following settings in order to reproduce any error or warning you see on this page.

raw results

Package 370/2041HostnameOS / ArchINSTALLBUILDCHECKBUILD BIN
compEpiTools 1.26.0  (landing page)
Kamal Kishore
Snapshot Date: 2021-07-29 04:50:02 -0400 (Thu, 29 Jul 2021)
URL: https://git.bioconductor.org/packages/compEpiTools
Branch: RELEASE_3_13
Last Commit: cefdb04
Last Changed Date: 2021-05-19 12:06:54 -0400 (Wed, 19 May 2021)
nebbiolo1Linux (Ubuntu 20.04.2 LTS) / x86_64  OK    OK    OK  UNNEEDED, same version is already published
tokay2Windows Server 2012 R2 Standard / x64  OK    OK    OK    OK  UNNEEDED, same version is already published
machv2macOS 10.14.6 Mojave / x86_64  OK    OK    OK    OK  UNNEEDED, same version is already published

Summary

Package: compEpiTools
Version: 1.26.0
Command: rm -rf compEpiTools.buildbin-libdir && mkdir compEpiTools.buildbin-libdir && C:\Users\biocbuild\bbs-3.13-bioc\R\bin\R.exe CMD INSTALL --merge-multiarch --build --library=compEpiTools.buildbin-libdir compEpiTools_1.26.0.tar.gz
StartedAt: 2021-07-30 08:55:58 -0400 (Fri, 30 Jul 2021)
EndedAt: 2021-07-30 08:57:20 -0400 (Fri, 30 Jul 2021)
EllapsedTime: 82.5 seconds
RetCode: 0
Status:   OK  
PackageFile: compEpiTools_1.26.0.zip
PackageFileSize: 2.439 MiB

Command output

##############################################################################
##############################################################################
###
### Running command:
###
###   rm -rf compEpiTools.buildbin-libdir && mkdir compEpiTools.buildbin-libdir && C:\Users\biocbuild\bbs-3.13-bioc\R\bin\R.exe CMD INSTALL --merge-multiarch --build --library=compEpiTools.buildbin-libdir compEpiTools_1.26.0.tar.gz
###
##############################################################################
##############################################################################



install for i386

* installing *source* package 'compEpiTools' ...
** using staged installation
** R
** inst
** byte-compile and prepare package for lazy loading

groupGOTerms: 	GOBPTerm, GOMFTerm, GOCCTerm environments built.
** help
*** installing help indices
  converting help for package 'compEpiTools'
    finding HTML links ... done
    GR2fasta-methods                        html  
    GRanges2ucsc-methods                    html  
    GRangesInPromoters-methods              html  
    GRannotate-methods                      html  
    GRannotateSimple                        html  
    GRbaseCoverage-methods                  html  
    GRcoverage-methods                      html  
    GRcoverageSummit-methods                html  
    GRenrichment-methods                    html  
    GRmidpoint-methods                      html  
    GRsetwidth                              html  
    TSS                                     html  
    compEpiTools-package                    html  
    countOverlapsInBins-methods             html  
    distanceFromTSS-methods                 html  
    enhancers                               html  
    findLncRNA                              html  
    getPromoterClass-methods                html  
    finding level-2 HTML links ... done

    heatmapData                             html  
    heatmapPlot                             html  
    makeGtfFromDb                           html  
    matchEnhancers                          html  
    overlapOfGRanges-methods                html  
    palette2d                               html  
    plotStallingIndex                       html  
    simplifyGOterms                         html  
    stallingIndex                           html  
    topGOres                                html  
    ucsc2GRanges                            html  
    unionMaxScore-methods                   html  
** building package indices
** installing vignettes
** testing if installed package can be loaded from temporary location

groupGOTerms: 	GOBPTerm, GOMFTerm, GOCCTerm environments built.
** testing if installed package can be loaded from final location

groupGOTerms: 	GOBPTerm, GOMFTerm, GOCCTerm environments built.
** testing if installed package keeps a record of temporary installation path

install for x64

* installing *source* package 'compEpiTools' ...
** testing if installed package can be loaded

groupGOTerms: 	GOBPTerm, GOMFTerm, GOCCTerm environments built.
* MD5 sums
packaged installation of 'compEpiTools' as compEpiTools_1.26.0.zip
* DONE (compEpiTools)