Back to Multiple platform build/check report for BioC 3.13
AB[C]DEFGHIJKLMNOPQRSTUVWXYZ

This page was generated on 2021-06-21 14:05:42 -0400 (Mon, 21 Jun 2021).

BUILD BIN results for clipper on machv2

To the developers/maintainers of the clipper package:
- Please allow up to 24 hours (and sometimes 48 hours) for your latest push to git@git.bioconductor.org:packages/clipper.git to
reflect on this report. See How and When does the builder pull? When will my changes propagate? here for more information.
- Make sure to use the following settings in order to reproduce any error or warning you see on this page.

raw results

Package 321/2041HostnameOS / ArchINSTALLBUILDCHECKBUILD BIN
clipper 1.32.0  (landing page)
Paolo Martini
Snapshot Date: 2021-06-20 06:50:09 -0400 (Sun, 20 Jun 2021)
URL: https://git.bioconductor.org/packages/clipper
Branch: RELEASE_3_13
Last Commit: 2faaf4e
Last Changed Date: 2021-05-19 11:57:18 -0400 (Wed, 19 May 2021)
nebbiolo1Linux (Ubuntu 20.04.2 LTS) / x86_64  OK    OK    OK  UNNEEDED, same version is already published
tokay2Windows Server 2012 R2 Standard / x64  OK    OK    OK    OK  UNNEEDED, same version is already published
machv2macOS 10.14.6 Mojave / x86_64  OK    OK    OK    OK  UNNEEDED, same version is already published

Summary

Package: clipper
Version: 1.32.0
Command: rm -rf clipper.buildbin-libdir && mkdir clipper.buildbin-libdir && /Users/biocbuild/BBS/utils/build-universal.sh clipper_1.32.0.tar.gz /Library/Frameworks/R.framework/Versions/Current/Resources/bin/R clipper.buildbin-libdir
StartedAt: 2021-06-21 01:36:53 -0400 (Mon, 21 Jun 2021)
EndedAt: 2021-06-21 01:38:08 -0400 (Mon, 21 Jun 2021)
EllapsedTime: 74.7 seconds
RetCode: 0
Status:   OK  
PackageFile: clipper_1.32.0.tgz
PackageFileSize: 677 KiB

Command output

##############################################################################
##############################################################################
###
### Running command:
###
###   rm -rf clipper.buildbin-libdir && mkdir clipper.buildbin-libdir && /Users/biocbuild/BBS/utils/build-universal.sh clipper_1.32.0.tar.gz /Library/Frameworks/R.framework/Versions/Current/Resources/bin/R clipper.buildbin-libdir
###
##############################################################################
##############################################################################


>>>>>>> 
>>>>>>> INSTALLATION WITH 'R CMD INSTALL --preclean --no-multiarch --library=clipper.buildbin-libdir clipper_1.32.0.tar.gz'
>>>>>>> 

* installing *source* package ‘clipper’ ...
** using staged installation
** R
** inst
** byte-compile and prepare package for lazy loading
No methods found in package ‘GenomicRanges’ for request: ‘c’ when loading ‘qpgraph’
** help
*** installing help indices
** building package indices
** installing vignettes
** testing if installed package can be loaded from temporary location
No methods found in package ‘GenomicRanges’ for request: ‘c’ when loading ‘qpgraph’
** testing if installed package can be loaded from final location
No methods found in package ‘GenomicRanges’ for request: ‘c’ when loading ‘qpgraph’
** testing if installed package keeps a record of temporary installation path
* DONE (clipper)