Back to Multiple platform build/check report for BioC 3.13
AB[C]DEFGHIJKLMNOPQRSTUVWXYZ

This page was generated on 2021-07-21 15:05:17 -0400 (Wed, 21 Jul 2021).

CHECK results for chimeraviz on tokay2

To the developers/maintainers of the chimeraviz package:
- Please allow up to 24 hours (and sometimes 48 hours) for your latest push to git@git.bioconductor.org:packages/chimeraviz.git to
reflect on this report. See How and When does the builder pull? When will my changes propagate? here for more information.
- Make sure to use the following settings in order to reproduce any error or warning you see on this page.

raw results

Package 289/2041HostnameOS / ArchINSTALLBUILDCHECKBUILD BIN
chimeraviz 1.18.0  (landing page)
Stian Lågstad
Snapshot Date: 2021-07-20 04:50:13 -0400 (Tue, 20 Jul 2021)
URL: https://git.bioconductor.org/packages/chimeraviz
Branch: RELEASE_3_13
Last Commit: bc2b277
Last Changed Date: 2021-05-19 12:24:46 -0400 (Wed, 19 May 2021)
nebbiolo1Linux (Ubuntu 20.04.2 LTS) / x86_64  OK    OK    OK  UNNEEDED, same version is already published
tokay2Windows Server 2012 R2 Standard / x64  OK    OK    OK    OK  UNNEEDED, same version is already published
machv2macOS 10.14.6 Mojave / x86_64  OK    OK    OK    OK  UNNEEDED, same version is already published

Summary

Package: chimeraviz
Version: 1.18.0
Command: C:\Users\biocbuild\bbs-3.13-bioc\R\bin\R.exe CMD check --force-multiarch --install=check:chimeraviz.install-out.txt --library=C:\Users\biocbuild\bbs-3.13-bioc\R\library --no-vignettes --timings chimeraviz_1.18.0.tar.gz
StartedAt: 2021-07-20 21:40:48 -0400 (Tue, 20 Jul 2021)
EndedAt: 2021-07-20 21:58:15 -0400 (Tue, 20 Jul 2021)
EllapsedTime: 1047.6 seconds
RetCode: 0
Status:   OK  
CheckDir: chimeraviz.Rcheck
Warnings: 0

Command output

##############################################################################
##############################################################################
###
### Running command:
###
###   C:\Users\biocbuild\bbs-3.13-bioc\R\bin\R.exe CMD check --force-multiarch --install=check:chimeraviz.install-out.txt --library=C:\Users\biocbuild\bbs-3.13-bioc\R\library --no-vignettes --timings chimeraviz_1.18.0.tar.gz
###
##############################################################################
##############################################################################


* using log directory 'C:/Users/biocbuild/bbs-3.13-bioc/meat/chimeraviz.Rcheck'
* using R version 4.1.0 (2021-05-18)
* using platform: x86_64-w64-mingw32 (64-bit)
* using session charset: ISO8859-1
* using option '--no-vignettes'
* checking for file 'chimeraviz/DESCRIPTION' ... OK
* checking extension type ... Package
* this is package 'chimeraviz' version '1.18.0'
* package encoding: UTF-8
* checking package namespace information ... OK
* checking package dependencies ... NOTE
Depends: includes the non-default packages:
  'Biostrings', 'GenomicRanges', 'IRanges', 'Gviz', 'S4Vectors',
  'ensembldb', 'AnnotationFilter', 'data.table'
Adding so many packages to the search path is excessive and importing
selectively is preferable.
* checking if this is a source package ... OK
* checking if there is a namespace ... OK
* checking for hidden files and directories ... OK
* checking for portable file names ... OK
* checking whether package 'chimeraviz' can be installed ... OK
* checking installed package size ... OK
* checking package directory ... OK
* checking 'build' directory ... OK
* checking DESCRIPTION meta-information ... OK
* checking top-level files ... OK
* checking for left-over files ... OK
* checking index information ... OK
* checking package subdirectories ... OK
* checking R files for non-ASCII characters ... OK
* checking R files for syntax errors ... OK
* loading checks for arch 'i386'
** checking whether the package can be loaded ... OK
** checking whether the package can be loaded with stated dependencies ... OK
** checking whether the package can be unloaded cleanly ... OK
** checking whether the namespace can be loaded with stated dependencies ... OK
** checking whether the namespace can be unloaded cleanly ... OK
* loading checks for arch 'x64'
** checking whether the package can be loaded ... OK
** checking whether the package can be loaded with stated dependencies ... OK
** checking whether the package can be unloaded cleanly ... OK
** checking whether the namespace can be loaded with stated dependencies ... OK
** checking whether the namespace can be unloaded cleanly ... OK
* checking dependencies in R code ... NOTE
Namespace in Imports field not imported from: 'magick'
  All declared Imports should be used.
* checking S3 generic/method consistency ... OK
* checking replacement functions ... OK
* checking foreign function calls ... OK
* checking R code for possible problems ... NOTE
plot_fusion_transcript_with_protein_domain: no visible binding for
  global variable 'protein_domain_location'
Undefined global functions or variables:
  protein_domain_location
* checking Rd files ... OK
* checking Rd metadata ... OK
* checking Rd cross-references ... OK
* checking for missing documentation entries ... OK
* checking for code/documentation mismatches ... OK
* checking Rd \usage sections ... OK
* checking Rd contents ... OK
* checking for unstated dependencies in examples ... OK
* checking files in 'vignettes' ... OK
* checking examples ...
** running examples for arch 'i386' ... OK
Examples with CPU (user + system) or elapsed time > 5s
                                            user system elapsed
plot_fusion                                34.71   0.96   36.86
plot_transcripts                           21.67   0.57   22.24
plot_fusion_transcript                     18.14   0.04   18.17
plot_fusion_transcripts_graph              11.56   0.04   11.62
plot_fusion_transcript_with_protein_domain 10.89   0.03   10.93
get_transcripts_ensembl_db                  6.84   0.50    7.34
select_transcript                           7.03   0.01    7.04
** running examples for arch 'x64' ... OK
Examples with CPU (user + system) or elapsed time > 5s
                                            user system elapsed
plot_fusion                                36.06   0.85   37.94
plot_transcripts                           24.00   0.44   24.44
plot_fusion_transcript                     19.33   0.06   19.39
plot_fusion_transcripts_graph              13.29   0.03   13.32
plot_fusion_transcript_with_protein_domain 11.64   0.02   11.66
select_transcript                           8.41   0.14    8.55
get_transcripts_ensembl_db                  8.20   0.09    8.30
* checking for unstated dependencies in 'tests' ... OK
* checking tests ...
** running tests for arch 'i386' ...
  Running 'testthat.R'
 OK
** running tests for arch 'x64' ...
  Running 'testthat.R'
 OK
* checking for unstated dependencies in vignettes ... OK
* checking package vignettes in 'inst/doc' ... OK
* checking running R code from vignettes ... SKIPPED
* checking re-building of vignette outputs ... SKIPPED
* checking PDF version of manual ... OK
* DONE

Status: 3 NOTEs
See
  'C:/Users/biocbuild/bbs-3.13-bioc/meat/chimeraviz.Rcheck/00check.log'
for details.



Installation output

chimeraviz.Rcheck/00install.out

##############################################################################
##############################################################################
###
### Running command:
###
###   C:\cygwin\bin\curl.exe -O http://155.52.207.165/BBS/3.13/bioc/src/contrib/chimeraviz_1.18.0.tar.gz && rm -rf chimeraviz.buildbin-libdir && mkdir chimeraviz.buildbin-libdir && C:\Users\biocbuild\bbs-3.13-bioc\R\bin\R.exe CMD INSTALL --merge-multiarch --build --library=chimeraviz.buildbin-libdir chimeraviz_1.18.0.tar.gz && C:\Users\biocbuild\bbs-3.13-bioc\R\bin\R.exe CMD INSTALL chimeraviz_1.18.0.zip && rm chimeraviz_1.18.0.tar.gz chimeraviz_1.18.0.zip
###
##############################################################################
##############################################################################


  % Total    % Received % Xferd  Average Speed   Time    Time     Time  Current
                                 Dload  Upload   Total   Spent    Left  Speed

  0     0    0     0    0     0      0      0 --:--:-- --:--:-- --:--:--     0
  6 2623k    6  160k    0     0  1085k      0  0:00:02 --:--:--  0:00:02 1085k
100 2623k  100 2623k    0     0  7032k      0 --:--:-- --:--:-- --:--:-- 7032k

install for i386

* installing *source* package 'chimeraviz' ...
** using staged installation
** R
** inst
** byte-compile and prepare package for lazy loading
** help
*** installing help indices
  converting help for package 'chimeraviz'
    finding HTML links ... done
    Fusion-class                            html  
    PartnerGene-class                       html  
    add_fusion_reads_alignment              html  
    chimeraviz-internals-fusions_to_gene_label_data
                                            html  
    chimeraviz-internals-fusions_to_link_data
                                            html  
    chimeraviz-internals-scaleListToInterval
                                            html  
    chimeraviz                              html  
    create_fusion_report                    html  
    decide_transcript_category              html  
    down_shift                              html  
    downstream_partner_gene                 html  
REDIRECT:topic	 downstream_partner_gene<- -> downstream_partner_gene.html [ FAIL ]
REDIRECT:topic	 downstream_partner_gene<-,Fusion-method -> downstream_partner_gene.html [ FAIL ]
    fetch_reads_from_fastq                  html  
    fusion_spanning_reads_count             html  
    fusion_split_reads_count                html  
    fusion_to_data_frame                    html  
    get_ensembl_ids                         html  
    get_fusion_by_chromosome                html  
    get_fusion_by_gene_name                 html  
    get_fusion_by_id                        html  
    get_transcripts_ensembl_db              html  
    import_aeron                            html  
    import_chimpipe                         html  
    import_defuse                           html  
    import_ericscript                       html  
    import_function_non_ucsc                html  
    import_fusioncatcher                    html  
    import_fusionmap                        html  
    import_infusion                         html  
    import_jaffa                            html  
    import_oncofuse                         html  
    import_prada                            html  
    import_soapfuse                         html  
    import_squid                            html  
    import_starfusion                       html  
    partner_gene_ensembl_id                 html  
REDIRECT:topic	 partner_gene_ensembl_id<- -> partner_gene_ensembl_id.html [ FAIL ]
REDIRECT:topic	 partner_gene_ensembl_id<-,PartnerGene-method -> partner_gene_ensembl_id.html [ FAIL ]
    partner_gene_junction_sequence          html  
    plot_circle                             html  
    plot_fusion                             html  
    plot_fusion_reads                       html  
    plot_fusion_transcript                  html  
    plot_fusion_transcript_with_protein_domain
                                            html  
    plot_fusion_transcripts_graph           html  
    plot_transcripts                        html  
    raw_Homo_sapiens.GRCh37.74              html  
    raw_chimpipe                            html  
    raw_cytobandhg19                        html  
    raw_cytobandhg38                        html  
    raw_defuse                              html  
    raw_ericscript                          html  
    raw_fusion5267proteindomains            html  
    raw_fusion5267reads                     html  
    raw_fusion5267readsBedGraph             html  
    raw_fusioncatcher                       html  
    raw_fusionmap                           html  
    raw_infusion                            html  
    raw_jaffa                               html  
    raw_oncofuse                            html  
    raw_prada                               html  
    raw_soapfuse                            html  
    raw_starfusion                          html  
    select_transcript                       html  
    show-Fusion-method                      html  
    show-PartnerGene-method                 html  
    split_on_utr_and_add_feature            html  
    upstream_partner_gene                   html  
REDIRECT:topic	 upstream_partner_gene<- -> upstream_partner_gene.html [ FAIL ]
REDIRECT:topic	 upstream_partner_gene<-,Fusion-method -> upstream_partner_gene.html [ FAIL ]
    write_fusion_reference                  html  
** building package indices
** installing vignettes
** testing if installed package can be loaded from temporary location
** testing if installed package can be loaded from final location
** testing if installed package keeps a record of temporary installation path

install for x64

* installing *source* package 'chimeraviz' ...
** testing if installed package can be loaded
* MD5 sums
packaged installation of 'chimeraviz' as chimeraviz_1.18.0.zip
* DONE (chimeraviz)
* installing to library 'C:/Users/biocbuild/bbs-3.13-bioc/R/library'
package 'chimeraviz' successfully unpacked and MD5 sums checked

Tests output

chimeraviz.Rcheck/tests_i386/testthat.Rout


R version 4.1.0 (2021-05-18) -- "Camp Pontanezen"
Copyright (C) 2021 The R Foundation for Statistical Computing
Platform: i386-w64-mingw32/i386 (32-bit)

R is free software and comes with ABSOLUTELY NO WARRANTY.
You are welcome to redistribute it under certain conditions.
Type 'license()' or 'licence()' for distribution details.

R is a collaborative project with many contributors.
Type 'contributors()' for more information and
'citation()' on how to cite R or R packages in publications.

Type 'demo()' for some demos, 'help()' for on-line help, or
'help.start()' for an HTML browser interface to help.
Type 'q()' to quit R.

> library(testthat)
> library(chimeraviz)
Loading required package: Biostrings
Loading required package: BiocGenerics
Loading required package: parallel

Attaching package: 'BiocGenerics'

The following objects are masked from 'package:parallel':

    clusterApply, clusterApplyLB, clusterCall, clusterEvalQ,
    clusterExport, clusterMap, parApply, parCapply, parLapply,
    parLapplyLB, parRapply, parSapply, parSapplyLB

The following objects are masked from 'package:stats':

    IQR, mad, sd, var, xtabs

The following objects are masked from 'package:base':

    Filter, Find, Map, Position, Reduce, anyDuplicated, append,
    as.data.frame, basename, cbind, colnames, dirname, do.call,
    duplicated, eval, evalq, get, grep, grepl, intersect, is.unsorted,
    lapply, mapply, match, mget, order, paste, pmax, pmax.int, pmin,
    pmin.int, rank, rbind, rownames, sapply, setdiff, sort, table,
    tapply, union, unique, unsplit, which.max, which.min

Loading required package: S4Vectors
Loading required package: stats4

Attaching package: 'S4Vectors'

The following objects are masked from 'package:base':

    I, expand.grid, unname

Loading required package: IRanges

Attaching package: 'IRanges'

The following object is masked from 'package:grDevices':

    windows

Loading required package: XVector
Loading required package: GenomeInfoDb

Attaching package: 'Biostrings'

The following object is masked from 'package:base':

    strsplit

Loading required package: GenomicRanges
Loading required package: Gviz
Loading required package: grid

Attaching package: 'grid'

The following object is masked from 'package:Biostrings':

    pattern

Loading required package: ensembldb
Loading required package: GenomicFeatures
Loading required package: AnnotationDbi
Loading required package: Biobase
Welcome to Bioconductor

    Vignettes contain introductory material; view with
    'browseVignettes()'. To cite Bioconductor, see
    'citation("Biobase")', and for packages 'citation("pkgname")'.

Loading required package: AnnotationFilter

Attaching package: 'AnnotationFilter'

The following object is masked from 'package:Gviz':

    feature

The following object is masked from 'package:testthat':

    not


Attaching package: 'ensembldb'

The following object is masked from 'package:stats':

    filter

Loading required package: data.table

Attaching package: 'data.table'

The following object is masked from 'package:GenomicRanges':

    shift

The following object is masked from 'package:IRanges':

    shift

The following objects are masked from 'package:S4Vectors':

    first, second



> 
> test_check("chimeraviz")
== Skipped tests ===============================================================
* On Windows (2)

[ FAIL 0 | WARN 0 | SKIP 2 | PASS 219 ]
Warning message:
call dbDisconnect() when finished working with a connection 
> 
> proc.time()
   user  system elapsed 
 162.37    6.31  173.84 

chimeraviz.Rcheck/tests_x64/testthat.Rout


R version 4.1.0 (2021-05-18) -- "Camp Pontanezen"
Copyright (C) 2021 The R Foundation for Statistical Computing
Platform: x86_64-w64-mingw32/x64 (64-bit)

R is free software and comes with ABSOLUTELY NO WARRANTY.
You are welcome to redistribute it under certain conditions.
Type 'license()' or 'licence()' for distribution details.

R is a collaborative project with many contributors.
Type 'contributors()' for more information and
'citation()' on how to cite R or R packages in publications.

Type 'demo()' for some demos, 'help()' for on-line help, or
'help.start()' for an HTML browser interface to help.
Type 'q()' to quit R.

> library(testthat)
> library(chimeraviz)
Loading required package: Biostrings
Loading required package: BiocGenerics
Loading required package: parallel

Attaching package: 'BiocGenerics'

The following objects are masked from 'package:parallel':

    clusterApply, clusterApplyLB, clusterCall, clusterEvalQ,
    clusterExport, clusterMap, parApply, parCapply, parLapply,
    parLapplyLB, parRapply, parSapply, parSapplyLB

The following objects are masked from 'package:stats':

    IQR, mad, sd, var, xtabs

The following objects are masked from 'package:base':

    Filter, Find, Map, Position, Reduce, anyDuplicated, append,
    as.data.frame, basename, cbind, colnames, dirname, do.call,
    duplicated, eval, evalq, get, grep, grepl, intersect, is.unsorted,
    lapply, mapply, match, mget, order, paste, pmax, pmax.int, pmin,
    pmin.int, rank, rbind, rownames, sapply, setdiff, sort, table,
    tapply, union, unique, unsplit, which.max, which.min

Loading required package: S4Vectors
Loading required package: stats4

Attaching package: 'S4Vectors'

The following objects are masked from 'package:base':

    I, expand.grid, unname

Loading required package: IRanges

Attaching package: 'IRanges'

The following object is masked from 'package:grDevices':

    windows

Loading required package: XVector
Loading required package: GenomeInfoDb

Attaching package: 'Biostrings'

The following object is masked from 'package:base':

    strsplit

Loading required package: GenomicRanges
Loading required package: Gviz
Loading required package: grid

Attaching package: 'grid'

The following object is masked from 'package:Biostrings':

    pattern

Loading required package: ensembldb
Loading required package: GenomicFeatures
Loading required package: AnnotationDbi
Loading required package: Biobase
Welcome to Bioconductor

    Vignettes contain introductory material; view with
    'browseVignettes()'. To cite Bioconductor, see
    'citation("Biobase")', and for packages 'citation("pkgname")'.

Loading required package: AnnotationFilter

Attaching package: 'AnnotationFilter'

The following object is masked from 'package:Gviz':

    feature

The following object is masked from 'package:testthat':

    not


Attaching package: 'ensembldb'

The following object is masked from 'package:stats':

    filter

Loading required package: data.table

Attaching package: 'data.table'

The following object is masked from 'package:GenomicRanges':

    shift

The following object is masked from 'package:IRanges':

    shift

The following objects are masked from 'package:S4Vectors':

    first, second



> 
> test_check("chimeraviz")
== Skipped tests ===============================================================
* On Windows (2)

[ FAIL 0 | WARN 0 | SKIP 2 | PASS 219 ]
Warning message:
call dbDisconnect() when finished working with a connection 
> 
> proc.time()
   user  system elapsed 
 178.90    3.62  184.64 

Example timings

chimeraviz.Rcheck/examples_i386/chimeraviz-Ex.timings

nameusersystemelapsed
add_fusion_reads_alignment1.760.201.97
create_fusion_report2.530.964.39
decide_transcript_category0.360.000.39
down_shift0.110.000.11
downstream_partner_gene0.140.060.20
fetch_reads_from_fastq000
fusion_spanning_reads_count0.040.030.08
fusion_split_reads_count0.030.050.08
fusion_to_data_frame0.020.060.08
get_ensembl_ids0.510.080.59
get_fusion_by_chromosome0.020.060.08
get_fusion_by_gene_name0.030.050.08
get_fusion_by_id0.030.060.09
get_transcripts_ensembl_db6.840.507.34
import_aeron0.850.000.94
import_chimpipe0.110.010.13
import_defuse0.120.000.12
import_ericscript0.130.000.13
import_fusioncatcher0.220.020.26
import_fusionmap0.200.000.24
import_infusion0.170.000.17
import_jaffa0.200.020.25
import_oncofuse0.210.010.22
import_prada0.140.020.15
import_soapfuse0.120.010.14
import_squid0.140.000.14
import_starfusion0.130.000.13
partner_gene_ensembl_id0.090.000.09
partner_gene_junction_sequence0.050.000.05
plot_circle0.950.481.43
plot_fusion34.71 0.9636.86
plot_fusion_reads2.260.072.35
plot_fusion_transcript18.14 0.0418.17
plot_fusion_transcript_with_protein_domain10.89 0.0310.93
plot_fusion_transcripts_graph11.56 0.0411.62
plot_transcripts21.67 0.5722.24
select_transcript7.030.017.04
split_on_utr_and_add_feature0.500.020.52
upstream_partner_gene0.100.000.09
write_fusion_reference0.040.000.05

chimeraviz.Rcheck/examples_x64/chimeraviz-Ex.timings

nameusersystemelapsed
add_fusion_reads_alignment2.110.022.12
create_fusion_report2.800.634.09
decide_transcript_category0.360.000.36
down_shift0.080.000.08
downstream_partner_gene0.110.010.12
fetch_reads_from_fastq000
fusion_spanning_reads_count0.040.000.05
fusion_split_reads_count0.070.000.06
fusion_to_data_frame0.060.000.07
get_ensembl_ids0.310.080.39
get_fusion_by_chromosome0.050.000.04
get_fusion_by_gene_name0.060.000.07
get_fusion_by_id0.050.000.04
get_transcripts_ensembl_db8.200.098.30
import_aeron0.630.020.64
import_chimpipe0.140.020.16
import_defuse0.140.000.14
import_ericscript0.180.000.18
import_fusioncatcher0.180.000.18
import_fusionmap0.120.000.12
import_infusion0.140.000.14
import_jaffa0.140.000.14
import_oncofuse0.140.000.14
import_prada0.140.000.14
import_soapfuse0.130.000.13
import_squid0.120.000.12
import_starfusion0.130.000.13
partner_gene_ensembl_id0.090.000.09
partner_gene_junction_sequence0.060.000.07
plot_circle0.770.251.01
plot_fusion36.06 0.8537.94
plot_fusion_reads2.410.102.50
plot_fusion_transcript19.33 0.0619.39
plot_fusion_transcript_with_protein_domain11.64 0.0211.66
plot_fusion_transcripts_graph13.29 0.0313.32
plot_transcripts24.00 0.4424.44
select_transcript8.410.148.55
split_on_utr_and_add_feature0.550.000.54
upstream_partner_gene0.090.000.10
write_fusion_reference0.060.000.06