Back to Multiple platform build/check report for BioC 3.13
AB[C]DEFGHIJKLMNOPQRSTUVWXYZ

This page was generated on 2021-07-21 15:05:17 -0400 (Wed, 21 Jul 2021).

BUILD results for chimeraviz on tokay2

To the developers/maintainers of the chimeraviz package:
- Please allow up to 24 hours (and sometimes 48 hours) for your latest push to git@git.bioconductor.org:packages/chimeraviz.git to
reflect on this report. See How and When does the builder pull? When will my changes propagate? here for more information.
- Make sure to use the following settings in order to reproduce any error or warning you see on this page.

raw results

Package 289/2041HostnameOS / ArchINSTALLBUILDCHECKBUILD BIN
chimeraviz 1.18.0  (landing page)
Stian Lågstad
Snapshot Date: 2021-07-20 04:50:13 -0400 (Tue, 20 Jul 2021)
URL: https://git.bioconductor.org/packages/chimeraviz
Branch: RELEASE_3_13
Last Commit: bc2b277
Last Changed Date: 2021-05-19 12:24:46 -0400 (Wed, 19 May 2021)
nebbiolo1Linux (Ubuntu 20.04.2 LTS) / x86_64  OK    OK    OK  UNNEEDED, same version is already published
tokay2Windows Server 2012 R2 Standard / x64  OK    OK    OK    OK  UNNEEDED, same version is already published
machv2macOS 10.14.6 Mojave / x86_64  OK    OK    OK    OK  UNNEEDED, same version is already published

Summary

Package: chimeraviz
Version: 1.18.0
Command: chmod a+r chimeraviz -R && C:\Users\biocbuild\bbs-3.13-bioc\R\bin\R.exe CMD build --keep-empty-dirs --no-resave-data chimeraviz
StartedAt: 2021-07-20 13:21:03 -0400 (Tue, 20 Jul 2021)
EndedAt: 2021-07-20 13:25:16 -0400 (Tue, 20 Jul 2021)
EllapsedTime: 253.3 seconds
RetCode: 0
Status:   OK  
PackageFile: chimeraviz_1.18.0.tar.gz
PackageFileSize: 2.716 MiB

Command output

##############################################################################
##############################################################################
###
### Running command:
###
###   chmod a+r chimeraviz -R && C:\Users\biocbuild\bbs-3.13-bioc\R\bin\R.exe CMD build --keep-empty-dirs --no-resave-data chimeraviz
###
##############################################################################
##############################################################################


* checking for file 'chimeraviz/DESCRIPTION' ... OK
* preparing 'chimeraviz':
* checking DESCRIPTION meta-information ... OK
* installing the package to build vignettes
* creating vignettes ... OK
* checking for LF line-endings in source and make files and shell scripts
* checking for empty or unneeded directories
WARNING: directory 'chimeraviz/docker' is empty
Omitted 'LazyData' from DESCRIPTION
* building 'chimeraviz_1.18.0.tar.gz'