Back to Multiple platform build/check report for BioC 3.13
AB[C]DEFGHIJKLMNOPQRSTUVWXYZ

This page was generated on 2021-06-21 14:05:42 -0400 (Mon, 21 Jun 2021).

CHECK results for chimeraviz on machv2

To the developers/maintainers of the chimeraviz package:
- Please allow up to 24 hours (and sometimes 48 hours) for your latest push to git@git.bioconductor.org:packages/chimeraviz.git to
reflect on this report. See How and When does the builder pull? When will my changes propagate? here for more information.
- Make sure to use the following settings in order to reproduce any error or warning you see on this page.

raw results

Package 289/2041HostnameOS / ArchINSTALLBUILDCHECKBUILD BIN
chimeraviz 1.18.0  (landing page)
Stian Lågstad
Snapshot Date: 2021-06-20 06:50:09 -0400 (Sun, 20 Jun 2021)
URL: https://git.bioconductor.org/packages/chimeraviz
Branch: RELEASE_3_13
Last Commit: bc2b277
Last Changed Date: 2021-05-19 12:24:46 -0400 (Wed, 19 May 2021)
nebbiolo1Linux (Ubuntu 20.04.2 LTS) / x86_64  OK    OK    OK  UNNEEDED, same version is already published
tokay2Windows Server 2012 R2 Standard / x64  OK    OK    OK    OK  UNNEEDED, same version is already published
machv2macOS 10.14.6 Mojave / x86_64  OK    OK    OK    OK  UNNEEDED, same version is already published

Summary

Package: chimeraviz
Version: 1.18.0
Command: /Library/Frameworks/R.framework/Versions/Current/Resources/bin/R CMD check --install=check:chimeraviz.install-out.txt --library=/Library/Frameworks/R.framework/Versions/Current/Resources/library --no-vignettes --timings chimeraviz_1.18.0.tar.gz
StartedAt: 2021-06-20 16:57:24 -0400 (Sun, 20 Jun 2021)
EndedAt: 2021-06-20 17:11:34 -0400 (Sun, 20 Jun 2021)
EllapsedTime: 850.7 seconds
RetCode: 0
Status:   OK  
CheckDir: chimeraviz.Rcheck
Warnings: 0

Command output

##############################################################################
##############################################################################
###
### Running command:
###
###   /Library/Frameworks/R.framework/Versions/Current/Resources/bin/R CMD check --install=check:chimeraviz.install-out.txt --library=/Library/Frameworks/R.framework/Versions/Current/Resources/library --no-vignettes --timings chimeraviz_1.18.0.tar.gz
###
##############################################################################
##############################################################################


* using log directory ‘/Users/biocbuild/bbs-3.13-bioc/meat/chimeraviz.Rcheck’
* using R version 4.1.0 (2021-05-18)
* using platform: x86_64-apple-darwin17.0 (64-bit)
* using session charset: UTF-8
* using option ‘--no-vignettes’
* checking for file ‘chimeraviz/DESCRIPTION’ ... OK
* checking extension type ... Package
* this is package ‘chimeraviz’ version ‘1.18.0’
* package encoding: UTF-8
* checking package namespace information ... OK
* checking package dependencies ... NOTE
Depends: includes the non-default packages:
  'Biostrings', 'GenomicRanges', 'IRanges', 'Gviz', 'S4Vectors',
  'ensembldb', 'AnnotationFilter', 'data.table'
Adding so many packages to the search path is excessive and importing
selectively is preferable.
* checking if this is a source package ... OK
* checking if there is a namespace ... OK
* checking for hidden files and directories ... NOTE
Found the following hidden files and directories:
  .git_fetch_output.txt
  .git_merge_output.txt
These were most likely included in error. See section ‘Package
structure’ in the ‘Writing R Extensions’ manual.
* checking for portable file names ... OK
* checking for sufficient/correct file permissions ... OK
* checking whether package ‘chimeraviz’ can be installed ... OK
* checking installed package size ... OK
* checking package directory ... OK
* checking ‘build’ directory ... OK
* checking DESCRIPTION meta-information ... OK
* checking top-level files ... OK
* checking for left-over files ... OK
* checking index information ... OK
* checking package subdirectories ... OK
* checking R files for non-ASCII characters ... OK
* checking R files for syntax errors ... OK
* checking whether the package can be loaded ... OK
* checking whether the package can be loaded with stated dependencies ... OK
* checking whether the package can be unloaded cleanly ... OK
* checking whether the namespace can be loaded with stated dependencies ... OK
* checking whether the namespace can be unloaded cleanly ... OK
* checking dependencies in R code ... NOTE
Namespace in Imports field not imported from: 'magick'
  All declared Imports should be used.
* checking S3 generic/method consistency ... OK
* checking replacement functions ... OK
* checking foreign function calls ... OK
* checking R code for possible problems ... NOTE
plot_fusion_transcript_with_protein_domain: no visible binding for
  global variable 'protein_domain_location'
Undefined global functions or variables:
  protein_domain_location
* checking Rd files ... OK
* checking Rd metadata ... OK
* checking Rd cross-references ... OK
* checking for missing documentation entries ... OK
* checking for code/documentation mismatches ... OK
* checking Rd \usage sections ... OK
* checking Rd contents ... OK
* checking for unstated dependencies in examples ... OK
* checking files in ‘vignettes’ ... OK
* checking examples ... OK
Examples with CPU (user + system) or elapsed time > 5s
                                             user system elapsed
plot_fusion                                44.994  0.758  47.893
plot_transcripts                           31.793  0.494  32.304
plot_fusion_transcript                     25.988  0.100  26.106
plot_fusion_transcripts_graph              18.495  0.070  18.579
plot_fusion_transcript_with_protein_domain 17.454  0.098  17.565
get_transcripts_ensembl_db                 11.041  0.254  11.319
select_transcript                          10.527  0.015  10.549
* checking for unstated dependencies in ‘tests’ ... OK
* checking tests ...
  Running ‘testthat.R’
 OK
* checking for unstated dependencies in vignettes ... OK
* checking package vignettes in ‘inst/doc’ ... OK
* checking running R code from vignettes ... SKIPPED
* checking re-building of vignette outputs ... SKIPPED
* checking PDF version of manual ... OK
* DONE

Status: 4 NOTEs
See
  ‘/Users/biocbuild/bbs-3.13-bioc/meat/chimeraviz.Rcheck/00check.log’
for details.



Installation output

chimeraviz.Rcheck/00install.out

##############################################################################
##############################################################################
###
### Running command:
###
###   /Library/Frameworks/R.framework/Versions/Current/Resources/bin/R CMD INSTALL chimeraviz
###
##############################################################################
##############################################################################


* installing to library ‘/Library/Frameworks/R.framework/Versions/4.1/Resources/library’
* installing *source* package ‘chimeraviz’ ...
** using staged installation
** R
** inst
** byte-compile and prepare package for lazy loading
** help
*** installing help indices
** building package indices
** installing vignettes
** testing if installed package can be loaded from temporary location
** testing if installed package can be loaded from final location
** testing if installed package keeps a record of temporary installation path
* DONE (chimeraviz)

Tests output

chimeraviz.Rcheck/tests/testthat.Rout


R version 4.1.0 (2021-05-18) -- "Camp Pontanezen"
Copyright (C) 2021 The R Foundation for Statistical Computing
Platform: x86_64-apple-darwin17.0 (64-bit)

R is free software and comes with ABSOLUTELY NO WARRANTY.
You are welcome to redistribute it under certain conditions.
Type 'license()' or 'licence()' for distribution details.

R is a collaborative project with many contributors.
Type 'contributors()' for more information and
'citation()' on how to cite R or R packages in publications.

Type 'demo()' for some demos, 'help()' for on-line help, or
'help.start()' for an HTML browser interface to help.
Type 'q()' to quit R.

> library(testthat)
> library(chimeraviz)
Loading required package: Biostrings
Loading required package: BiocGenerics
Loading required package: parallel

Attaching package: 'BiocGenerics'

The following objects are masked from 'package:parallel':

    clusterApply, clusterApplyLB, clusterCall, clusterEvalQ,
    clusterExport, clusterMap, parApply, parCapply, parLapply,
    parLapplyLB, parRapply, parSapply, parSapplyLB

The following objects are masked from 'package:stats':

    IQR, mad, sd, var, xtabs

The following objects are masked from 'package:base':

    Filter, Find, Map, Position, Reduce, anyDuplicated, append,
    as.data.frame, basename, cbind, colnames, dirname, do.call,
    duplicated, eval, evalq, get, grep, grepl, intersect, is.unsorted,
    lapply, mapply, match, mget, order, paste, pmax, pmax.int, pmin,
    pmin.int, rank, rbind, rownames, sapply, setdiff, sort, table,
    tapply, union, unique, unsplit, which.max, which.min

Loading required package: S4Vectors
Loading required package: stats4

Attaching package: 'S4Vectors'

The following objects are masked from 'package:base':

    I, expand.grid, unname

Loading required package: IRanges
Loading required package: XVector
Loading required package: GenomeInfoDb

Attaching package: 'Biostrings'

The following object is masked from 'package:base':

    strsplit

Loading required package: GenomicRanges
Loading required package: Gviz
Loading required package: grid

Attaching package: 'grid'

The following object is masked from 'package:Biostrings':

    pattern

Loading required package: ensembldb
Loading required package: GenomicFeatures
Loading required package: AnnotationDbi
Loading required package: Biobase
Welcome to Bioconductor

    Vignettes contain introductory material; view with
    'browseVignettes()'. To cite Bioconductor, see
    'citation("Biobase")', and for packages 'citation("pkgname")'.

Loading required package: AnnotationFilter

Attaching package: 'AnnotationFilter'

The following object is masked from 'package:Gviz':

    feature

The following object is masked from 'package:testthat':

    not


Attaching package: 'ensembldb'

The following object is masked from 'package:stats':

    filter

Loading required package: data.table

Attaching package: 'data.table'

The following object is masked from 'package:GenomicRanges':

    shift

The following object is masked from 'package:IRanges':

    shift

The following objects are masked from 'package:S4Vectors':

    first, second



> 
> test_check("chimeraviz")
[ FAIL 0 | WARN 0 | SKIP 0 | PASS 224 ]
Warning message:
call dbDisconnect() when finished working with a connection 
> 
> proc.time()
   user  system elapsed 
268.954   3.569 274.522 

Example timings

chimeraviz.Rcheck/chimeraviz-Ex.timings

nameusersystemelapsed
add_fusion_reads_alignment1.8960.0261.925
create_fusion_report2.5310.1762.903
decide_transcript_category0.2900.0060.299
down_shift0.1260.0050.131
downstream_partner_gene0.1040.0020.106
fetch_reads_from_fastq0.0000.0000.001
fusion_spanning_reads_count0.0700.0010.071
fusion_split_reads_count0.0760.0010.076
fusion_to_data_frame0.0760.0010.077
get_ensembl_ids0.5030.0090.512
get_fusion_by_chromosome0.0470.0010.048
get_fusion_by_gene_name0.0840.0060.090
get_fusion_by_id0.0610.0040.065
get_transcripts_ensembl_db11.041 0.25411.319
import_aeron0.7710.0060.780
import_chimpipe0.2290.0020.231
import_defuse0.2390.0010.239
import_ericscript0.1760.0010.178
import_fusioncatcher0.2220.0010.224
import_fusionmap0.1660.0020.167
import_infusion0.2230.0010.225
import_jaffa0.1510.0010.152
import_oncofuse0.1340.0010.136
import_prada0.2070.0020.208
import_soapfuse0.1760.0010.177
import_squid0.1910.0010.192
import_starfusion0.2090.0010.210
partner_gene_ensembl_id0.0900.0010.090
partner_gene_junction_sequence0.0510.0000.051
plot_circle0.8580.0310.943
plot_fusion44.994 0.75847.893
plot_fusion_reads3.0460.0503.097
plot_fusion_transcript25.988 0.10026.106
plot_fusion_transcript_with_protein_domain17.454 0.09817.565
plot_fusion_transcripts_graph18.495 0.07018.579
plot_transcripts31.793 0.49432.304
select_transcript10.527 0.01510.549
split_on_utr_and_add_feature0.6720.0030.676
upstream_partner_gene0.1450.0020.147
write_fusion_reference0.0630.0010.063