Back to Multiple platform build/check report for BioC 3.13
AB[C]DEFGHIJKLMNOPQRSTUVWXYZ

This page was generated on 2021-08-02 15:05:06 -0400 (Mon, 02 Aug 2021).

BUILD BIN results for cellTree on tokay2

To the developers/maintainers of the cellTree package:
- Please allow up to 24 hours (and sometimes 48 hours) for your latest push to git@git.bioconductor.org:packages/cellTree.git to
reflect on this report. See How and When does the builder pull? When will my changes propagate? here for more information.
- Make sure to use the following settings in order to reproduce any error or warning you see on this page.

raw results

Package 270/2041HostnameOS / ArchINSTALLBUILDCHECKBUILD BIN
cellTree 1.22.0  (landing page)
David duVerle
Snapshot Date: 2021-08-01 04:50:10 -0400 (Sun, 01 Aug 2021)
URL: https://git.bioconductor.org/packages/cellTree
Branch: RELEASE_3_13
Last Commit: 65701cf
Last Changed Date: 2021-05-19 12:17:25 -0400 (Wed, 19 May 2021)
nebbiolo1Linux (Ubuntu 20.04.2 LTS) / x86_64  OK    OK    OK  UNNEEDED, same version is already published
tokay2Windows Server 2012 R2 Standard / x64  OK    OK    TIMEOUT    OK  
machv2macOS 10.14.6 Mojave / x86_64  OK    OK    OK    OK  UNNEEDED, same version is already published

Summary

Package: cellTree
Version: 1.22.0
Command: rm -rf cellTree.buildbin-libdir && mkdir cellTree.buildbin-libdir && C:\Users\biocbuild\bbs-3.13-bioc\R\bin\R.exe CMD INSTALL --merge-multiarch --build --library=cellTree.buildbin-libdir cellTree_1.22.0.tar.gz
StartedAt: 2021-08-02 08:40:23 -0400 (Mon, 02 Aug 2021)
EndedAt: 2021-08-02 08:41:39 -0400 (Mon, 02 Aug 2021)
EllapsedTime: 76.1 seconds
RetCode: 0
Status:   OK  
PackageFile: cellTree_1.22.0.zip
PackageFileSize: 1020 KiB

Command output

##############################################################################
##############################################################################
###
### Running command:
###
###   rm -rf cellTree.buildbin-libdir && mkdir cellTree.buildbin-libdir && C:\Users\biocbuild\bbs-3.13-bioc\R\bin\R.exe CMD INSTALL --merge-multiarch --build --library=cellTree.buildbin-libdir cellTree_1.22.0.tar.gz
###
##############################################################################
##############################################################################



install for i386

* installing *source* package 'cellTree' ...
** using staged installation
** R
** data
*** moving datasets to lazyload DB
** inst
** byte-compile and prepare package for lazy loading

groupGOTerms: 	GOBPTerm, GOMFTerm, GOCCTerm environments built.
** help
*** installing help indices
  converting help for package 'cellTree'
    finding HTML links ... done
    HSMM_lda_model                          html  
    cell.ordering.table                     html  
    cellTree-package                        html  
    compute.backbone.tree                   html  
    compute.go.enrichment                   html  
    compute.lda                             html  
    ct.plot.go.dag                          html  
    ct.plot.grouping                        html  
    ct.plot.heatmap                         html  
    ct.plot.topics                          html  
    get.cell.dists                          html  
    go.results.to.latex                     html  
** building package indices
** installing vignettes
** testing if installed package can be loaded from temporary location

groupGOTerms: 	GOBPTerm, GOMFTerm, GOCCTerm environments built.
** testing if installed package can be loaded from final location

groupGOTerms: 	GOBPTerm, GOMFTerm, GOCCTerm environments built.
** testing if installed package keeps a record of temporary installation path

install for x64

* installing *source* package 'cellTree' ...
** testing if installed package can be loaded

groupGOTerms: 	GOBPTerm, GOMFTerm, GOCCTerm environments built.
* MD5 sums
packaged installation of 'cellTree' as cellTree_1.22.0.zip
* DONE (cellTree)