Index of /checkResults/3.13/bioc-LATEST/cellTree/raw-results

[ICO]NameLast modifiedSizeDescription

[DIR]Parent Directory  -  
[DIR]machv2/03-Aug-2021 04:05 -  
[DIR]nebbiolo1/03-Aug-2021 04:04 -  
[DIR]tokay2/03-Aug-2021 04:05 -