Back to Multiple platform build/check report for BioC 3.13
AB[C]DEFGHIJKLMNOPQRSTUVWXYZ

This page was generated on 2021-06-17 02:39:04 -0400 (Thu, 17 Jun 2021).

BUILD results for cellTree on machv2

To the developers/maintainers of the cellTree package:
- Please allow up to 24 hours (and sometimes 48 hours) for your latest push to git@git.bioconductor.org:packages/cellTree.git to
reflect on this report. See How and When does the builder pull? When will my changes propagate? here for more information.
- Make sure to use the following settings in order to reproduce any error or warning you see on this page.

raw results

Package 270/2041HostnameOS / ArchINSTALLBUILDCHECKBUILD BIN
cellTree 1.22.0  (landing page)
David duVerle
Snapshot Date: 2021-06-15 06:50:12 -0400 (Tue, 15 Jun 2021)
URL: https://git.bioconductor.org/packages/cellTree
Branch: RELEASE_3_13
Last Commit: 65701cf
Last Changed Date: 2021-05-19 12:17:25 -0400 (Wed, 19 May 2021)
nebbiolo1Linux (Ubuntu 20.04.2 LTS) / x86_64  OK    OK    OK  UNNEEDED, same version is already published
tokay2Windows Server 2012 R2 Standard / x64  OK    OK    TIMEOUT    OK  
machv2macOS 10.14.6 Mojave / x86_64  OK    OK    OK    OK  UNNEEDED, same version is already published

Summary

Package: cellTree
Version: 1.22.0
Command: /Library/Frameworks/R.framework/Versions/Current/Resources/bin/R CMD build --keep-empty-dirs --no-resave-data cellTree
StartedAt: 2021-06-15 10:55:34 -0400 (Tue, 15 Jun 2021)
EndedAt: 2021-06-15 10:57:22 -0400 (Tue, 15 Jun 2021)
EllapsedTime: 107.7 seconds
RetCode: 0
Status:   OK  
PackageFile: cellTree_1.22.0.tar.gz
PackageFileSize: 1.084 MiB

Command output

##############################################################################
##############################################################################
###
### Running command:
###
###   /Library/Frameworks/R.framework/Versions/Current/Resources/bin/R CMD build --keep-empty-dirs --no-resave-data cellTree
###
##############################################################################
##############################################################################


* checking for file ‘cellTree/DESCRIPTION’ ... OK
* preparing ‘cellTree’:
* checking DESCRIPTION meta-information ... OK
* installing the package to build vignettes
* creating vignettes ... OK
* checking for LF line-endings in source and make files and shell scripts
* checking for empty or unneeded directories
* building ‘cellTree_1.22.0.tar.gz’