Back to Multiple platform build/check report for BioC 3.13
AB[C]DEFGHIJKLMNOPQRSTUVWXYZ

This page was generated on 2021-06-17 02:38:16 -0400 (Thu, 17 Jun 2021).

CHECK results for categoryCompare on nebbiolo1

To the developers/maintainers of the categoryCompare package:
- Please allow up to 24 hours (and sometimes 48 hours) for your latest push to git@git.bioconductor.org:packages/categoryCompare.git to
reflect on this report. See How and When does the builder pull? When will my changes propagate? here for more information.
- Make sure to use the following settings in order to reproduce any error or warning you see on this page.

raw results

Package 246/2041HostnameOS / ArchINSTALLBUILDCHECKBUILD BIN
categoryCompare 1.36.0  (landing page)
Robert M. Flight
Snapshot Date: 2021-06-15 06:50:12 -0400 (Tue, 15 Jun 2021)
URL: https://git.bioconductor.org/packages/categoryCompare
Branch: RELEASE_3_13
Last Commit: 325b381
Last Changed Date: 2021-05-19 11:52:22 -0400 (Wed, 19 May 2021)
nebbiolo1Linux (Ubuntu 20.04.2 LTS) / x86_64  OK    OK    OK  UNNEEDED, same version is already published
tokay2Windows Server 2012 R2 Standard / x64  OK    OK    OK    OK  UNNEEDED, same version is already published
machv2macOS 10.14.6 Mojave / x86_64  OK    OK    OK    OK  UNNEEDED, same version is already published

Summary

Package: categoryCompare
Version: 1.36.0
Command: /home/biocbuild/bbs-3.13-bioc/R/bin/R CMD check --install=check:categoryCompare.install-out.txt --library=/home/biocbuild/bbs-3.13-bioc/R/library --no-vignettes --timings categoryCompare_1.36.0.tar.gz
StartedAt: 2021-06-15 11:11:28 -0400 (Tue, 15 Jun 2021)
EndedAt: 2021-06-15 11:14:06 -0400 (Tue, 15 Jun 2021)
EllapsedTime: 158.1 seconds
RetCode: 0
Status:   OK  
CheckDir: categoryCompare.Rcheck
Warnings: 0

Command output

##############################################################################
##############################################################################
###
### Running command:
###
###   /home/biocbuild/bbs-3.13-bioc/R/bin/R CMD check --install=check:categoryCompare.install-out.txt --library=/home/biocbuild/bbs-3.13-bioc/R/library --no-vignettes --timings categoryCompare_1.36.0.tar.gz
###
##############################################################################
##############################################################################


* using log directory ‘/home/biocbuild/bbs-3.13-bioc/meat/categoryCompare.Rcheck’
* using R version 4.1.0 (2021-05-18)
* using platform: x86_64-pc-linux-gnu (64-bit)
* using session charset: UTF-8
* using option ‘--no-vignettes’
* checking for file ‘categoryCompare/DESCRIPTION’ ... OK
* this is package ‘categoryCompare’ version ‘1.36.0’
* checking package namespace information ... OK
* checking package dependencies ... OK
* checking if this is a source package ... OK
* checking if there is a namespace ... OK
* checking for hidden files and directories ... OK
* checking for portable file names ... OK
* checking for sufficient/correct file permissions ... OK
* checking whether package ‘categoryCompare’ can be installed ... OK
* checking installed package size ... OK
* checking package directory ... OK
* checking ‘build’ directory ... OK
* checking DESCRIPTION meta-information ... OK
* checking top-level files ... OK
* checking for left-over files ... OK
* checking index information ... OK
* checking package subdirectories ... OK
* checking R files for non-ASCII characters ... OK
* checking R files for syntax errors ... OK
* checking whether the package can be loaded ... OK
* checking whether the package can be loaded with stated dependencies ... OK
* checking whether the package can be unloaded cleanly ... OK
* checking whether the namespace can be loaded with stated dependencies ... OK
* checking whether the namespace can be unloaded cleanly ... OK
* checking dependencies in R code ... OK
* checking S3 generic/method consistency ... OK
* checking replacement functions ... OK
* checking foreign function calls ... OK
* checking R code for possible problems ... NOTE
.ccCompareGO: no visible binding for global variable ‘GOBPPARENTS’
.ccCompareGO: no visible binding for global variable ‘GOMFPARENTS’
.ccCompareGO: no visible binding for global variable ‘GOCCPARENTS’
.ccCompareGO: no visible binding for global variable ‘GOTERM’
.ccCompareGO: no visible binding for global variable ‘Term’
.cytOutNodes: ... may be used in an incorrect context:
  exportImage(filename = fileName, type = "png", network = cwObj, ...)
.getDesc : <anonymous>: no visible global function definition for
  ‘Term’
show,HyperGResultCC: no visible global function definition for
  ‘description’
Undefined global functions or variables:
  GOBPPARENTS GOCCPARENTS GOMFPARENTS GOTERM Term description
* checking Rd files ... OK
* checking Rd metadata ... OK
* checking Rd cross-references ... OK
* checking for missing documentation entries ... OK
* checking for code/documentation mismatches ... OK
* checking Rd \usage sections ... OK
* checking Rd contents ... OK
* checking for unstated dependencies in examples ... OK
* checking contents of ‘data’ directory ... OK
* checking data for non-ASCII characters ... OK
* checking data for ASCII and uncompressed saves ... OK
* checking files in ‘vignettes’ ... OK
* checking examples ... OK
* checking for unstated dependencies in vignettes ... OK
* checking package vignettes in ‘inst/doc’ ... OK
* checking running R code from vignettes ... SKIPPED
* checking re-building of vignette outputs ... SKIPPED
* checking PDF version of manual ... OK
* DONE

Status: 1 NOTE
See
  ‘/home/biocbuild/bbs-3.13-bioc/meat/categoryCompare.Rcheck/00check.log’
for details.



Installation output

categoryCompare.Rcheck/00install.out

##############################################################################
##############################################################################
###
### Running command:
###
###   /home/biocbuild/bbs-3.13-bioc/R/bin/R CMD INSTALL categoryCompare
###
##############################################################################
##############################################################################


* installing to library ‘/home/biocbuild/bbs-3.13-bioc/R/library’
* installing *source* package ‘categoryCompare’ ...
** using staged installation
** R
** data
** inst
** byte-compile and prepare package for lazy loading
Note: ... may be used in an incorrect context 
** help
*** installing help indices
** building package indices
** installing vignettes
** testing if installed package can be loaded from temporary location
** testing if installed package can be loaded from final location
** testing if installed package keeps a record of temporary installation path
* DONE (categoryCompare)

Tests output


Example timings

categoryCompare.Rcheck/categoryCompare-Ex.timings

nameusersystemelapsed
GENccEnrichResult-class0.4280.0120.440
HyperGParamsCC-class0.0020.0000.002
HyperGResultCC-class0.0010.0000.001
breakEdges-methods0.5800.0120.591
ccCompare1.0150.0161.031
ccCompareCollection-class0.0010.0000.001
ccCompareResult-class0.0000.0000.001
ccData0.4310.0080.439
ccEnrich0.4350.0160.451
ccEnrichCollection-class1.0870.0441.131
ccEnrichResult-class2.4980.0522.551
ccGeneList-class0.4680.0080.476
ccOptions-class0.0170.0000.018
ccOutCyt-methods0.0000.0000.001
ccSigList-class0.0000.0000.001
cytOutData-methods0.0000.0010.000
cytOutNodes-methods0.0010.0000.000
hyperGTestCC0.6390.0160.654
mergeLists-methods0.6880.0200.707
mergedData-class0.5680.0200.588
minCount1.4430.0481.491
minNodes0.0010.0000.000
pvalueType1.8220.0321.853
show-methods0.0000.0000.001