Back to Multiple platform build/check report for BioC 3.13
AB[C]DEFGHIJKLMNOPQRSTUVWXYZ

This page was generated on 2021-06-18 14:06:40 -0400 (Fri, 18 Jun 2021).

BUILD results for cTRAP on machv2

To the developers/maintainers of the cTRAP package:
- Please allow up to 24 hours (and sometimes 48 hours) for your latest push to git@git.bioconductor.org:packages/cTRAP.git to
reflect on this report. See How and When does the builder pull? When will my changes propagate? here for more information.
- Make sure to use the following settings in order to reproduce any error or warning you see on this page.

raw results

Package 422/2041HostnameOS / ArchINSTALLBUILDCHECKBUILD BIN
cTRAP 1.10.0  (landing page)
Nuno Saraiva-Agostinho
Snapshot Date: 2021-06-17 06:50:12 -0400 (Thu, 17 Jun 2021)
URL: https://git.bioconductor.org/packages/cTRAP
Branch: RELEASE_3_13
Last Commit: e21b1e6
Last Changed Date: 2021-05-19 12:39:02 -0400 (Wed, 19 May 2021)
nebbiolo1Linux (Ubuntu 20.04.2 LTS) / x86_64  OK    OK    OK  UNNEEDED, same version is already published
tokay2Windows Server 2012 R2 Standard / x64  OK    OK    OK    OK  UNNEEDED, same version is already published
machv2macOS 10.14.6 Mojave / x86_64  OK    OK    OK    OK  UNNEEDED, same version is already published

Summary

Package: cTRAP
Version: 1.10.0
Command: /Library/Frameworks/R.framework/Versions/Current/Resources/bin/R CMD build --keep-empty-dirs --no-resave-data cTRAP
StartedAt: 2021-06-17 11:14:23 -0400 (Thu, 17 Jun 2021)
EndedAt: 2021-06-17 11:16:26 -0400 (Thu, 17 Jun 2021)
EllapsedTime: 123.0 seconds
RetCode: 0
Status:   OK  
PackageFile: cTRAP_1.10.0.tar.gz
PackageFileSize: 5.026 MiB

Command output

##############################################################################
##############################################################################
###
### Running command:
###
###   /Library/Frameworks/R.framework/Versions/Current/Resources/bin/R CMD build --keep-empty-dirs --no-resave-data cTRAP
###
##############################################################################
##############################################################################


* checking for file ‘cTRAP/DESCRIPTION’ ... OK
* preparing ‘cTRAP’:
* checking DESCRIPTION meta-information ... OK
* installing the package to build vignettes
* creating vignettes ... OK
* checking for LF line-endings in source and make files and shell scripts
* checking for empty or unneeded directories
WARNING: directory ‘cTRAP/build’ is empty
* building ‘cTRAP_1.10.0.tar.gz’